Workbook

Sheet Arkusz1
A1: Lp. | B1: Zakres udostępnionej numeracji (osobne zakresy w kolejnych wierszach), minimalny zakres numeracji to 100 numerów, format: ABSPQMC, lub ABSPQM, lub ABSPQ, lub ABSP, lub ABS. | C1: Ilość numerów , dozwolone wartości to: 100, 1 000, 10 000, 100 000, 1 000 000 | D1: Typ numeracji: | E1: Interconnect (czy jest sygnalizacja SS7: TAK/NIE) | F1: Identyfikator z rejestru przedsiębiorców telekomunikacyjnych UKE, któremu został przydzielony dany zakres numeracji w drodze decyzji administracyjnej.. | G1: Nazwa | H1: Adres siedziby | J1: Identyfikator aktualnego dostawcy usług (zgodnie z rejestrem przedsiębiorców telekomunikacyjnych w UKE) wykorzystującego numerację na bazie art. 128 | K1: Nazwa | L1: Adres siedziby | N1: Identyfikator operatora macierzystego dla danego typu numeracji z punktu widzenia technicznego (gdzie jest zaimplementowana technicznie numeracja). | O1: Nazwa | P1: Adres siedziby | R1: Poprawność wpisu
H2: ulica | I2: miasto | L2: ulica | M2: miasto | P2: ulica | Q2: miasto
A3: 1. | C3: =IF(B3<1,0,IF(B3<=999,1000000,IF(B3<=9999,100000,IF(B3<=99999,10000,IF(B3<=999999,1000,IF(B3<9999999,100)))))) -> 0 | D3: =VLOOKUP(T3,Arkusz2!B:C,2,FALSE) -> #N/A | G3: =INDEX(Adresy!$B$5:$B$324,MATCH(F3,Adresy!$G$5:$G$324,0),MATCH($G$1,Adresy!$B$3,0)) -> #N/A | H3: =INDEX(Adresy!$C$5:$C$324,MATCH(F3,Adresy!$G$5:$G$324,0),MATCH($H$2,Adresy!$C$4,0)) -> #N/A | I3: =INDEX(Adresy!$D$5:$D$324,MATCH(F3,Adresy!$G$5:$G$324,0),MATCH($I$2,Adresy!$D$4,0)) -> #N/A | K3: =INDEX(Adresy!$B$5:$B$324,MATCH(J3,Adresy!$G$5:$G$324,0),MATCH($G$1,Adresy!$B$3,0)) -> #N/A | L3: =INDEX(Adresy!$C$5:$C$324,MATCH(J3,Adresy!$G$5:$G$324,0),MATCH($H$2,Adresy!$C$4,0)) -> #N/A | M3: =INDEX(Adresy!$D$5:$D$324,MATCH(J3,Adresy!$G$5:$G$324,0),MATCH($I$2,Adresy!$D$4,0)) -> #N/A | O3: =INDEX(Adresy!$B$5:$B$324,MATCH(N3,Adresy!$G$5:$G$324,0),MATCH($G$1,Adresy!$B$3,0)) -> #N/A | P3: =INDEX(Adresy!$C$5:$C$324,MATCH(N3,Adresy!$G$5:$G$324,0),MATCH($H$2,Adresy!$C$4,0)) -> #N/A | Q3: =INDEX(Adresy!$D$5:$D$324,MATCH(N3,Adresy!$G$5:$G$324,0),MATCH($I$2,Adresy!$D$4,0)) -> #N/A | R3: =IF(C3=0,"Niepoprawnie",IF(F3=0,"Niepoprawnie",IF(J3=0,"Niepoprawnie",IF(N3=0,"Niepoprawnie",IF(E3=0,"NIEPOPRAWNIE","POPRAWNIE"))))) -> Niepoprawnie | T3: =MID(B3,1,2)
A4: 2. | C4: =IF(B4<1,0,IF(B4<=999,1000000,IF(B4<=9999,100000,IF(B4<=99999,10000,IF(B4<=999999,1000,IF(B4<9999999,100)))))) -> 0 | D4: =VLOOKUP(T4,Arkusz2!B:C,2,FALSE) -> #N/A | G4: =INDEX(Adresy!$B$5:$B$324,MATCH(F4,Adresy!$G$5:$G$324,0),MATCH($G$1,Adresy!$B$3,0)) -> #N/A | H4: =INDEX(Adresy!$C$5:$C$324,MATCH(F4,Adresy!$G$5:$G$324,0),MATCH($H$2,Adresy!$C$4,0)) -> #N/A | I4: =INDEX(Adresy!$D$5:$D$324,MATCH(F4,Adresy!$G$5:$G$324,0),MATCH($I$2,Adresy!$D$4,0)) -> #N/A | K4: =INDEX(Adresy!$B$5:$B$324,MATCH(J4,Adresy!$G$5:$G$324,0),MATCH($G$1,Adresy!$B$3,0)) -> #N/A | L4: =INDEX(Adresy!$C$5:$C$324,MATCH(J4,Adresy!$G$5:$G$324,0),MATCH($H$2,Adresy!$C$4,0)) -> #N/A | M4: =INDEX(Adresy!$D$5:$D$324,MATCH(J4,Adresy!$G$5:$G$324,0),MATCH($I$2,Adresy!$D$4,0)) -> #N/A | O4: =INDEX(Adresy!$B$5:$B$324,MATCH(N4,Adresy!$G$5:$G$324,0),MATCH($G$1,Adresy!$B$3,0)) -> #N/A | P4: =INDEX(Adresy!$C$5:$C$324,MATCH(N4,Adresy!$G$5:$G$324,0),MATCH($H$2,Adresy!$C$4,0)) -> #N/A | Q4: =INDEX(Adresy!$D$5:$D$324,MATCH(N4,Adresy!$G$5:$G$324,0),MATCH($I$2,Adresy!$D$4,0)) -> #N/A | R4: =IF(C4=0,"Niepoprawnie",IF(F4=0,"Niepoprawnie",IF(J4=0,"Niepoprawnie",IF(N4=0,"Niepoprawnie",IF(E4=0,"NIEPOPRAWNIE","POPRAWNIE"))))) -> Niepoprawnie | T4: =MID(B4,1,2) | V4: TAK
A5: 3. | C5: =IF(B5<1,0,IF(B5<=999,1000000,IF(B5<=9999,100000,IF(B5<=99999,10000,IF(B5<=999999,1000,IF(B5<9999999,100)))))) -> 0 | D5: =VLOOKUP(T5,Arkusz2!B:C,2,FALSE) -> #N/A | G5: =INDEX(Adresy!$B$5:$B$324,MATCH(F5,Adresy!$G$5:$G$324,0),MATCH($G$1,Adresy!$B$3,0)) -> #N/A | H5: =INDEX(Adresy!$C$5:$C$324,MATCH(F5,Adresy!$G$5:$G$324,0),MATCH($H$2,Adresy!$C$4,0)) -> #N/A | I5: =INDEX(Adresy!$D$5:$D$324,MATCH(F5,Adresy!$G$5:$G$324,0),MATCH($I$2,Adresy!$D$4,0)) -> #N/A | K5: =INDEX(Adresy!$B$5:$B$324,MATCH(J5,Adresy!$G$5:$G$324,0),MATCH($G$1,Adresy!$B$3,0)) -> #N/A | L5: =INDEX(Adresy!$C$5:$C$324,MATCH(J5,Adresy!$G$5:$G$324,0),MATCH($H$2,Adresy!$C$4,0)) -> #N/A | M5: =INDEX(Adresy!$D$5:$D$324,MATCH(J5,Adresy!$G$5:$G$324,0),MATCH($I$2,Adresy!$D$4,0)) -> #N/A | O5: =INDEX(Adresy!$B$5:$B$324,MATCH(N5,Adresy!$G$5:$G$324,0),MATCH($G$1,Adresy!$B$3,0)) -> #N/A | P5: =INDEX(Adresy!$C$5:$C$324,MATCH(N5,Adresy!$G$5:$G$324,0),MATCH($H$2,Adresy!$C$4,0)) -> #N/A | Q5: =INDEX(Adresy!$D$5:$D$324,MATCH(N5,Adresy!$G$5:$G$324,0),MATCH($I$2,Adresy!$D$4,0)) -> #N/A | R5: =IF(C5=0,"Niepoprawnie",IF(F5=0,"Niepoprawnie",IF(J5=0,"Niepoprawnie",IF(N5=0,"Niepoprawnie",IF(E5=0,"NIEPOPRAWNIE","POPRAWNIE"))))) -> Niepoprawnie | T5: =MID(B5,1,2) | V5: NIE | AI5: 1001
A6: 4. | C6: =IF(B6<1,0,IF(B6<=999,1000000,IF(B6<=9999,100000,IF(B6<=99999,10000,IF(B6<=999999,1000,IF(B6<9999999,100)))))) -> 0 | D6: =VLOOKUP(T6,Arkusz2!B:C,2,FALSE) -> #N/A | G6: =INDEX(Adresy!$B$5:$B$324,MATCH(F6,Adresy!$G$5:$G$324,0),MATCH($G$1,Adresy!$B$3,0)) -> #N/A | H6: =INDEX(Adresy!$C$5:$C$324,MATCH(F6,Adresy!$G$5:$G$324,0),MATCH($H$2,Adresy!$C$4,0)) -> #N/A | I6: =INDEX(Adresy!$D$5:$D$324,MATCH(F6,Adresy!$G$5:$G$324,0),MATCH($I$2,Adresy!$D$4,0)) -> #N/A | K6: =INDEX(Adresy!$B$5:$B$324,MATCH(J6,Adresy!$G$5:$G$324,0),MATCH($G$1,Adresy!$B$3,0)) -> #N/A | L6: =INDEX(Adresy!$C$5:$C$324,MATCH(J6,Adresy!$G$5:$G$324,0),MATCH($H$2,Adresy!$C$4,0)) -> #N/A | M6: =INDEX(Adresy!$D$5:$D$324,MATCH(J6,Adresy!$G$5:$G$324,0),MATCH($I$2,Adresy!$D$4,0)) -> #N/A | O6: =INDEX(Adresy!$B$5:$B$324,MATCH(N6,Adresy!$G$5:$G$324,0),MATCH($G$1,Adresy!$B$3,0)) -> #N/A | P6: =INDEX(Adresy!$C$5:$C$324,MATCH(N6,Adresy!$G$5:$G$324,0),MATCH($H$2,Adresy!$C$4,0)) -> #N/A | Q6: =INDEX(Adresy!$D$5:$D$324,MATCH(N6,Adresy!$G$5:$G$324,0),MATCH($I$2,Adresy!$D$4,0)) -> #N/A | R6: =IF(C6=0,"Niepoprawnie",IF(F6=0,"Niepoprawnie",IF(J6=0,"Niepoprawnie",IF(N6=0,"Niepoprawnie",IF(E6=0,"NIEPOPRAWNIE","POPRAWNIE"))))) -> Niepoprawnie | T6: =MID(B6,1,2) | V6: A | AI6: 2162
A7: 5. | C7: =IF(B7<1,0,IF(B7<=999,1000000,IF(B7<=9999,100000,IF(B7<=99999,10000,IF(B7<=999999,1000,IF(B7<9999999,100)))))) -> 0 | D7: =VLOOKUP(T7,Arkusz2!B:C,2,FALSE) -> #N/A | G7: =INDEX(Adresy!$B$5:$B$324,MATCH(F7,Adresy!$G$5:$G$324,0),MATCH($G$1,Adresy!$B$3,0)) -> #N/A | H7: =INDEX(Adresy!$C$5:$C$324,MATCH(F7,Adresy!$G$5:$G$324,0),MATCH($H$2,Adresy!$C$4,0)) -> #N/A | I7: =INDEX(Adresy!$D$5:$D$324,MATCH(F7,Adresy!$G$5:$G$324,0),MATCH($I$2,Adresy!$D$4,0)) -> #N/A | K7: =INDEX(Adresy!$B$5:$B$324,MATCH(J7,Adresy!$G$5:$G$324,0),MATCH($G$1,Adresy!$B$3,0)) -> #N/A | L7: =INDEX(Adresy!$C$5:$C$324,MATCH(J7,Adresy!$G$5:$G$324,0),MATCH($H$2,Adresy!$C$4,0)) -> #N/A | M7: =INDEX(Adresy!$D$5:$D$324,MATCH(J7,Adresy!$G$5:$G$324,0),MATCH($I$2,Adresy!$D$4,0)) -> #N/A | O7: =INDEX(Adresy!$B$5:$B$324,MATCH(N7,Adresy!$G$5:$G$324,0),MATCH($G$1,Adresy!$B$3,0)) -> #N/A | P7: =INDEX(Adresy!$C$5:$C$324,MATCH(N7,Adresy!$G$5:$G$324,0),MATCH($H$2,Adresy!$C$4,0)) -> #N/A | Q7: =INDEX(Adresy!$D$5:$D$324,MATCH(N7,Adresy!$G$5:$G$324,0),MATCH($I$2,Adresy!$D$4,0)) -> #N/A | R7: =IF(C7=0,"Niepoprawnie",IF(F7=0,"Niepoprawnie",IF(J7=0,"Niepoprawnie",IF(N7=0,"Niepoprawnie",IF(E7=0,"NIEPOPRAWNIE","POPRAWNIE"))))) -> Niepoprawnie | T7: =MID(B7,1,2) | U7: NIE | AI7: 8223
A8: 6. | C8: =IF(B8<1,0,IF(B8<=999,1000000,IF(B8<=9999,100000,IF(B8<=99999,10000,IF(B8<=999999,1000,IF(B8<9999999,100)))))) -> 0 | D8: =VLOOKUP(T8,Arkusz2!B:C,2,FALSE) -> #N/A | G8: =INDEX(Adresy!$B$5:$B$324,MATCH(F8,Adresy!$G$5:$G$324,0),MATCH($G$1,Adresy!$B$3,0)) -> #N/A | H8: =INDEX(Adresy!$C$5:$C$324,MATCH(F8,Adresy!$G$5:$G$324,0),MATCH($H$2,Adresy!$C$4,0)) -> #N/A | I8: =INDEX(Adresy!$D$5:$D$324,MATCH(F8,Adresy!$G$5:$G$324,0),MATCH($I$2,Adresy!$D$4,0)) -> #N/A | K8: =INDEX(Adresy!$B$5:$B$324,MATCH(J8,Adresy!$G$5:$G$324,0),MATCH($G$1,Adresy!$B$3,0)) -> #N/A | L8: =INDEX(Adresy!$C$5:$C$324,MATCH(J8,Adresy!$G$5:$G$324,0),MATCH($H$2,Adresy!$C$4,0)) -> #N/A | M8: =INDEX(Adresy!$D$5:$D$324,MATCH(J8,Adresy!$G$5:$G$324,0),MATCH($I$2,Adresy!$D$4,0)) -> #N/A | O8: =INDEX(Adresy!$B$5:$B$324,MATCH(N8,Adresy!$G$5:$G$324,0),MATCH($G$1,Adresy!$B$3,0)) -> #N/A | P8: =INDEX(Adresy!$C$5:$C$324,MATCH(N8,Adresy!$G$5:$G$324,0),MATCH($H$2,Adresy!$C$4,0)) -> #N/A | Q8: =INDEX(Adresy!$D$5:$D$324,MATCH(N8,Adresy!$G$5:$G$324,0),MATCH($I$2,Adresy!$D$4,0)) -> #N/A | R8: =IF(C8=0,"Niepoprawnie",IF(F8=0,"Niepoprawnie",IF(J8=0,"Niepoprawnie",IF(N8=0,"Niepoprawnie",IF(E8=0,"NIEPOPRAWNIE","POPRAWNIE"))))) -> Niepoprawnie | T8: =MID(B8,1,2) | AI8: 21
A9: 7. | C9: =IF(B9<1,0,IF(B9<=999,1000000,IF(B9<=9999,100000,IF(B9<=99999,10000,IF(B9<=999999,1000,IF(B9<9999999,100)))))) -> 0 | D9: =VLOOKUP(T9,Arkusz2!B:C,2,FALSE) -> #N/A | G9: =INDEX(Adresy!$B$5:$B$324,MATCH(F9,Adresy!$G$5:$G$324,0),MATCH($G$1,Adresy!$B$3,0)) -> #N/A | H9: =INDEX(Adresy!$C$5:$C$324,MATCH(F9,Adresy!$G$5:$G$324,0),MATCH($H$2,Adresy!$C$4,0)) -> #N/A | I9: =INDEX(Adresy!$D$5:$D$324,MATCH(F9,Adresy!$G$5:$G$324,0),MATCH($I$2,Adresy!$D$4,0)) -> #N/A | K9: =INDEX(Adresy!$B$5:$B$324,MATCH(J9,Adresy!$G$5:$G$324,0),MATCH($G$1,Adresy!$B$3,0)) -> #N/A | L9: =INDEX(Adresy!$C$5:$C$324,MATCH(J9,Adresy!$G$5:$G$324,0),MATCH($H$2,Adresy!$C$4,0)) -> #N/A | M9: =INDEX(Adresy!$D$5:$D$324,MATCH(J9,Adresy!$G$5:$G$324,0),MATCH($I$2,Adresy!$D$4,0)) -> #N/A | O9: =INDEX(Adresy!$B$5:$B$324,MATCH(N9,Adresy!$G$5:$G$324,0),MATCH($G$1,Adresy!$B$3,0)) -> #N/A | P9: =INDEX(Adresy!$C$5:$C$324,MATCH(N9,Adresy!$G$5:$G$324,0),MATCH($H$2,Adresy!$C$4,0)) -> #N/A | Q9: =INDEX(Adresy!$D$5:$D$324,MATCH(N9,Adresy!$G$5:$G$324,0),MATCH($I$2,Adresy!$D$4,0)) -> #N/A | R9: =IF(C9=0,"Niepoprawnie",IF(F9=0,"Niepoprawnie",IF(J9=0,"Niepoprawnie",IF(N9=0,"Niepoprawnie",IF(E9=0,"NIEPOPRAWNIE","POPRAWNIE"))))) -> Niepoprawnie | T9: =MID(B9,1,2) | Y9: 100 | AI9: 7237
A10: 8. | C10: =IF(B10<1,0,IF(B10<=999,1000000,IF(B10<=9999,100000,IF(B10<=99999,10000,IF(B10<=999999,1000,IF(B10<9999999,100)))))) -> 0 | D10: =VLOOKUP(T10,Arkusz2!B:C,2,FALSE) -> #N/A | G10: =INDEX(Adresy!$B$5:$B$324,MATCH(F10,Adresy!$G$5:$G$324,0),MATCH($G$1,Adresy!$B$3,0)) -> #N/A | H10: =INDEX(Adresy!$C$5:$C$324,MATCH(F10,Adresy!$G$5:$G$324,0),MATCH($H$2,Adresy!$C$4,0)) -> #N/A | I10: =INDEX(Adresy!$D$5:$D$324,MATCH(F10,Adresy!$G$5:$G$324,0),MATCH($I$2,Adresy!$D$4,0)) -> #N/A | K10: =INDEX(Adresy!$B$5:$B$324,MATCH(J10,Adresy!$G$5:$G$324,0),MATCH($G$1,Adresy!$B$3,0)) -> #N/A | L10: =INDEX(Adresy!$C$5:$C$324,MATCH(J10,Adresy!$G$5:$G$324,0),MATCH($H$2,Adresy!$C$4,0)) -> #N/A | M10: =INDEX(Adresy!$D$5:$D$324,MATCH(J10,Adresy!$G$5:$G$324,0),MATCH($I$2,Adresy!$D$4,0)) -> #N/A | O10: =INDEX(Adresy!$B$5:$B$324,MATCH(N10,Adresy!$G$5:$G$324,0),MATCH($G$1,Adresy!$B$3,0)) -> #N/A | P10: =INDEX(Adresy!$C$5:$C$324,MATCH(N10,Adresy!$G$5:$G$324,0),MATCH($H$2,Adresy!$C$4,0)) -> #N/A | Q10: =INDEX(Adresy!$D$5:$D$324,MATCH(N10,Adresy!$G$5:$G$324,0),MATCH($I$2,Adresy!$D$4,0)) -> #N/A | R10: =IF(C10=0,"Niepoprawnie",IF(F10=0,"Niepoprawnie",IF(J10=0,"Niepoprawnie",IF(N10=0,"Niepoprawnie",IF(E10=0,"NIEPOPRAWNIE","POPRAWNIE"))))) -> Niepoprawnie | T10: =MID(B10,1,2) | Y10: 1000 | AI10: 2168
A11: 9. | C11: =IF(B11<1,0,IF(B11<=999,1000000,IF(B11<=9999,100000,IF(B11<=99999,10000,IF(B11<=999999,1000,IF(B11<9999999,100)))))) -> 0 | D11: =VLOOKUP(T11,Arkusz2!B:C,2,FALSE) -> #N/A | G11: =INDEX(Adresy!$B$5:$B$324,MATCH(F11,Adresy!$G$5:$G$324,0),MATCH($G$1,Adresy!$B$3,0)) -> #N/A | H11: =INDEX(Adresy!$C$5:$C$324,MATCH(F11,Adresy!$G$5:$G$324,0),MATCH($H$2,Adresy!$C$4,0)) -> #N/A | I11: =INDEX(Adresy!$D$5:$D$324,MATCH(F11,Adresy!$G$5:$G$324,0),MATCH($I$2,Adresy!$D$4,0)) -> #N/A | K11: =INDEX(Adresy!$B$5:$B$324,MATCH(J11,Adresy!$G$5:$G$324,0),MATCH($G$1,Adresy!$B$3,0)) -> #N/A | L11: =INDEX(Adresy!$C$5:$C$324,MATCH(J11,Adresy!$G$5:$G$324,0),MATCH($H$2,Adresy!$C$4,0)) -> #N/A | M11: =INDEX(Adresy!$D$5:$D$324,MATCH(J11,Adresy!$G$5:$G$324,0),MATCH($I$2,Adresy!$D$4,0)) -> #N/A | O11: =INDEX(Adresy!$B$5:$B$324,MATCH(N11,Adresy!$G$5:$G$324,0),MATCH($G$1,Adresy!$B$3,0)) -> #N/A | P11: =INDEX(Adresy!$C$5:$C$324,MATCH(N11,Adresy!$G$5:$G$324,0),MATCH($H$2,Adresy!$C$4,0)) -> #N/A | Q11: =INDEX(Adresy!$D$5:$D$324,MATCH(N11,Adresy!$G$5:$G$324,0),MATCH($I$2,Adresy!$D$4,0)) -> #N/A | R11: =IF(C11=0,"Niepoprawnie",IF(F11=0,"Niepoprawnie",IF(J11=0,"Niepoprawnie",IF(N11=0,"Niepoprawnie",IF(E11=0,"NIEPOPRAWNIE","POPRAWNIE"))))) -> Niepoprawnie | T11: =MID(B11,1,2) | Y11: 10000 | AI11: 2887
A12: 10. | C12: =IF(B12<1,0,IF(B12<=999,1000000,IF(B12<=9999,100000,IF(B12<=99999,10000,IF(B12<=999999,1000,IF(B12<9999999,100)))))) -> 0 | D12: =VLOOKUP(T12,Arkusz2!B:C,2,FALSE) -> #N/A | G12: =INDEX(Adresy!$B$5:$B$324,MATCH(F12,Adresy!$G$5:$G$324,0),MATCH($G$1,Adresy!$B$3,0)) -> #N/A | H12: =INDEX(Adresy!$C$5:$C$324,MATCH(F12,Adresy!$G$5:$G$324,0),MATCH($H$2,Adresy!$C$4,0)) -> #N/A | I12: =INDEX(Adresy!$D$5:$D$324,MATCH(F12,Adresy!$G$5:$G$324,0),MATCH($I$2,Adresy!$D$4,0)) -> #N/A | K12: =INDEX(Adresy!$B$5:$B$324,MATCH(J12,Adresy!$G$5:$G$324,0),MATCH($G$1,Adresy!$B$3,0)) -> #N/A | L12: =INDEX(Adresy!$C$5:$C$324,MATCH(J12,Adresy!$G$5:$G$324,0),MATCH($H$2,Adresy!$C$4,0)) -> #N/A | M12: =INDEX(Adresy!$D$5:$D$324,MATCH(J12,Adresy!$G$5:$G$324,0),MATCH($I$2,Adresy!$D$4,0)) -> #N/A | O12: =INDEX(Adresy!$B$5:$B$324,MATCH(N12,Adresy!$G$5:$G$324,0),MATCH($G$1,Adresy!$B$3,0)) -> #N/A | P12: =INDEX(Adresy!$C$5:$C$324,MATCH(N12,Adresy!$G$5:$G$324,0),MATCH($H$2,Adresy!$C$4,0)) -> #N/A | Q12: =INDEX(Adresy!$D$5:$D$324,MATCH(N12,Adresy!$G$5:$G$324,0),MATCH($I$2,Adresy!$D$4,0)) -> #N/A | R12: =IF(C12=0,"Niepoprawnie",IF(F12=0,"Niepoprawnie",IF(J12=0,"Niepoprawnie",IF(N12=0,"Niepoprawnie",IF(E12=0,"NIEPOPRAWNIE","POPRAWNIE"))))) -> Niepoprawnie | T12: =MID(B12,1,2) | V12: S | Y12: 100000 | AI12: 609
A13: 11. | C13: =IF(B13<1,0,IF(B13<=999,1000000,IF(B13<=9999,100000,IF(B13<=99999,10000,IF(B13<=999999,1000,IF(B13<9999999,100)))))) -> 0 | D13: =VLOOKUP(T13,Arkusz2!B:C,2,FALSE) -> #N/A | G13: =INDEX(Adresy!$B$5:$B$324,MATCH(F13,Adresy!$G$5:$G$324,0),MATCH($G$1,Adresy!$B$3,0)) -> #N/A | H13: =INDEX(Adresy!$C$5:$C$324,MATCH(F13,Adresy!$G$5:$G$324,0),MATCH($H$2,Adresy!$C$4,0)) -> #N/A | I13: =INDEX(Adresy!$D$5:$D$324,MATCH(F13,Adresy!$G$5:$G$324,0),MATCH($I$2,Adresy!$D$4,0)) -> #N/A | K13: =INDEX(Adresy!$B$5:$B$324,MATCH(J13,Adresy!$G$5:$G$324,0),MATCH($G$1,Adresy!$B$3,0)) -> #N/A | L13: =INDEX(Adresy!$C$5:$C$324,MATCH(J13,Adresy!$G$5:$G$324,0),MATCH($H$2,Adresy!$C$4,0)) -> #N/A | M13: =INDEX(Adresy!$D$5:$D$324,MATCH(J13,Adresy!$G$5:$G$324,0),MATCH($I$2,Adresy!$D$4,0)) -> #N/A | O13: =INDEX(Adresy!$B$5:$B$324,MATCH(N13,Adresy!$G$5:$G$324,0),MATCH($G$1,Adresy!$B$3,0)) -> #N/A | P13: =INDEX(Adresy!$C$5:$C$324,MATCH(N13,Adresy!$G$5:$G$324,0),MATCH($H$2,Adresy!$C$4,0)) -> #N/A | Q13: =INDEX(Adresy!$D$5:$D$324,MATCH(N13,Adresy!$G$5:$G$324,0),MATCH($I$2,Adresy!$D$4,0)) -> #N/A | R13: =IF(C13=0,"Niepoprawnie",IF(F13=0,"Niepoprawnie",IF(J13=0,"Niepoprawnie",IF(N13=0,"Niepoprawnie",IF(E13=0,"NIEPOPRAWNIE","POPRAWNIE"))))) -> Niepoprawnie | T13: =MID(B13,1,2) | Y13: 1000000 | AI13: 6052
A14: 12. | C14: =IF(B14<1,0,IF(B14<=999,1000000,IF(B14<=9999,100000,IF(B14<=99999,10000,IF(B14<=999999,1000,IF(B14<9999999,100)))))) -> 0 | D14: =VLOOKUP(T14,Arkusz2!B:C,2,FALSE) -> #N/A | G14: =INDEX(Adresy!$B$5:$B$324,MATCH(F14,Adresy!$G$5:$G$324,0),MATCH($G$1,Adresy!$B$3,0)) -> #N/A | H14: =INDEX(Adresy!$C$5:$C$324,MATCH(F14,Adresy!$G$5:$G$324,0),MATCH($H$2,Adresy!$C$4,0)) -> #N/A | I14: =INDEX(Adresy!$D$5:$D$324,MATCH(F14,Adresy!$G$5:$G$324,0),MATCH($I$2,Adresy!$D$4,0)) -> #N/A | K14: =INDEX(Adresy!$B$5:$B$324,MATCH(J14,Adresy!$G$5:$G$324,0),MATCH($G$1,Adresy!$B$3,0)) -> #N/A | L14: =INDEX(Adresy!$C$5:$C$324,MATCH(J14,Adresy!$G$5:$G$324,0),MATCH($H$2,Adresy!$C$4,0)) -> #N/A | M14: =INDEX(Adresy!$D$5:$D$324,MATCH(J14,Adresy!$G$5:$G$324,0),MATCH($I$2,Adresy!$D$4,0)) -> #N/A | O14: =INDEX(Adresy!$B$5:$B$324,MATCH(N14,Adresy!$G$5:$G$324,0),MATCH($G$1,Adresy!$B$3,0)) -> #N/A | P14: =INDEX(Adresy!$C$5:$C$324,MATCH(N14,Adresy!$G$5:$G$324,0),MATCH($H$2,Adresy!$C$4,0)) -> #N/A | Q14: =INDEX(Adresy!$D$5:$D$324,MATCH(N14,Adresy!$G$5:$G$324,0),MATCH($I$2,Adresy!$D$4,0)) -> #N/A | R14: =IF(C14=0,"Niepoprawnie",IF(F14=0,"Niepoprawnie",IF(J14=0,"Niepoprawnie",IF(N14=0,"Niepoprawnie",IF(E14=0,"NIEPOPRAWNIE","POPRAWNIE"))))) -> Niepoprawnie | T14: =MID(B14,1,2) | AI14: 5703
A15: 13. | C15: =IF(B15<1,0,IF(B15<=999,1000000,IF(B15<=9999,100000,IF(B15<=99999,10000,IF(B15<=999999,1000,IF(B15<9999999,100)))))) -> 0 | D15: =VLOOKUP(T15,Arkusz2!B:C,2,FALSE) -> #N/A | G15: =INDEX(Adresy!$B$5:$B$324,MATCH(F15,Adresy!$G$5:$G$324,0),MATCH($G$1,Adresy!$B$3,0)) -> #N/A | H15: =INDEX(Adresy!$C$5:$C$324,MATCH(F15,Adresy!$G$5:$G$324,0),MATCH($H$2,Adresy!$C$4,0)) -> #N/A | I15: =INDEX(Adresy!$D$5:$D$324,MATCH(F15,Adresy!$G$5:$G$324,0),MATCH($I$2,Adresy!$D$4,0)) -> #N/A | K15: =INDEX(Adresy!$B$5:$B$324,MATCH(J15,Adresy!$G$5:$G$324,0),MATCH($G$1,Adresy!$B$3,0)) -> #N/A | L15: =INDEX(Adresy!$C$5:$C$324,MATCH(J15,Adresy!$G$5:$G$324,0),MATCH($H$2,Adresy!$C$4,0)) -> #N/A | M15: =INDEX(Adresy!$D$5:$D$324,MATCH(J15,Adresy!$G$5:$G$324,0),MATCH($I$2,Adresy!$D$4,0)) -> #N/A | O15: =INDEX(Adresy!$B$5:$B$324,MATCH(N15,Adresy!$G$5:$G$324,0),MATCH($G$1,Adresy!$B$3,0)) -> #N/A | P15: =INDEX(Adresy!$C$5:$C$324,MATCH(N15,Adresy!$G$5:$G$324,0),MATCH($H$2,Adresy!$C$4,0)) -> #N/A | Q15: =INDEX(Adresy!$D$5:$D$324,MATCH(N15,Adresy!$G$5:$G$324,0),MATCH($I$2,Adresy!$D$4,0)) -> #N/A | R15: =IF(C15=0,"Niepoprawnie",IF(F15=0,"Niepoprawnie",IF(J15=0,"Niepoprawnie",IF(N15=0,"Niepoprawnie",IF(E15=0,"NIEPOPRAWNIE","POPRAWNIE"))))) -> Niepoprawnie | T15: =MID(B15,1,2) | AI15: 944
A16: 14. | C16: =IF(B16<1,0,IF(B16<=999,1000000,IF(B16<=9999,100000,IF(B16<=99999,10000,IF(B16<=999999,1000,IF(B16<9999999,100)))))) -> 0 | D16: =VLOOKUP(T16,Arkusz2!B:C,2,FALSE) -> #N/A | G16: =INDEX(Adresy!$B$5:$B$324,MATCH(F16,Adresy!$G$5:$G$324,0),MATCH($G$1,Adresy!$B$3,0)) -> #N/A | H16: =INDEX(Adresy!$C$5:$C$324,MATCH(F16,Adresy!$G$5:$G$324,0),MATCH($H$2,Adresy!$C$4,0)) -> #N/A | I16: =INDEX(Adresy!$D$5:$D$324,MATCH(F16,Adresy!$G$5:$G$324,0),MATCH($I$2,Adresy!$D$4,0)) -> #N/A | K16: =INDEX(Adresy!$B$5:$B$324,MATCH(J16,Adresy!$G$5:$G$324,0),MATCH($G$1,Adresy!$B$3,0)) -> #N/A | L16: =INDEX(Adresy!$C$5:$C$324,MATCH(J16,Adresy!$G$5:$G$324,0),MATCH($H$2,Adresy!$C$4,0)) -> #N/A | M16: =INDEX(Adresy!$D$5:$D$324,MATCH(J16,Adresy!$G$5:$G$324,0),MATCH($I$2,Adresy!$D$4,0)) -> #N/A | O16: =INDEX(Adresy!$B$5:$B$324,MATCH(N16,Adresy!$G$5:$G$324,0),MATCH($G$1,Adresy!$B$3,0)) -> #N/A | P16: =INDEX(Adresy!$C$5:$C$324,MATCH(N16,Adresy!$G$5:$G$324,0),MATCH($H$2,Adresy!$C$4,0)) -> #N/A | Q16: =INDEX(Adresy!$D$5:$D$324,MATCH(N16,Adresy!$G$5:$G$324,0),MATCH($I$2,Adresy!$D$4,0)) -> #N/A | R16: =IF(C16=0,"Niepoprawnie",IF(F16=0,"Niepoprawnie",IF(J16=0,"Niepoprawnie",IF(N16=0,"Niepoprawnie",IF(E16=0,"NIEPOPRAWNIE","POPRAWNIE"))))) -> Niepoprawnie | T16: =MID(B16,1,2) | Y16: 1000000 | AI16: 4113
A17: 15. | C17: =IF(B17<1,0,IF(B17<=999,1000000,IF(B17<=9999,100000,IF(B17<=99999,10000,IF(B17<=999999,1000,IF(B17<9999999,100)))))) -> 0 | D17: =VLOOKUP(T17,Arkusz2!B:C,2,FALSE) -> #N/A | G17: =INDEX(Adresy!$B$5:$B$324,MATCH(F17,Adresy!$G$5:$G$324,0),MATCH($G$1,Adresy!$B$3,0)) -> #N/A | H17: =INDEX(Adresy!$C$5:$C$324,MATCH(F17,Adresy!$G$5:$G$324,0),MATCH($H$2,Adresy!$C$4,0)) -> #N/A | I17: =INDEX(Adresy!$D$5:$D$324,MATCH(F17,Adresy!$G$5:$G$324,0),MATCH($I$2,Adresy!$D$4,0)) -> #N/A | K17: =INDEX(Adresy!$B$5:$B$324,MATCH(J17,Adresy!$G$5:$G$324,0),MATCH($G$1,Adresy!$B$3,0)) -> #N/A | L17: =INDEX(Adresy!$C$5:$C$324,MATCH(J17,Adresy!$G$5:$G$324,0),MATCH($H$2,Adresy!$C$4,0)) -> #N/A | M17: =INDEX(Adresy!$D$5:$D$324,MATCH(J17,Adresy!$G$5:$G$324,0),MATCH($I$2,Adresy!$D$4,0)) -> #N/A | O17: =INDEX(Adresy!$B$5:$B$324,MATCH(N17,Adresy!$G$5:$G$324,0),MATCH($G$1,Adresy!$B$3,0)) -> #N/A | P17: =INDEX(Adresy!$C$5:$C$324,MATCH(N17,Adresy!$G$5:$G$324,0),MATCH($H$2,Adresy!$C$4,0)) -> #N/A | Q17: =INDEX(Adresy!$D$5:$D$324,MATCH(N17,Adresy!$G$5:$G$324,0),MATCH($I$2,Adresy!$D$4,0)) -> #N/A | R17: =IF(C17=0,"Niepoprawnie",IF(F17=0,"Niepoprawnie",IF(J17=0,"Niepoprawnie",IF(N17=0,"Niepoprawnie",IF(E17=0,"NIEPOPRAWNIE","POPRAWNIE"))))) -> Niepoprawnie | T17: =MID(B17,1,2) | Y17: 100000000 | AI17: 772
A18: 16. | C18: =IF(B18<1,0,IF(B18<=999,1000000,IF(B18<=9999,100000,IF(B18<=99999,10000,IF(B18<=999999,1000,IF(B18<9999999,100)))))) -> 0 | D18: =VLOOKUP(T18,Arkusz2!B:C,2,FALSE) -> #N/A | G18: =INDEX(Adresy!$B$5:$B$324,MATCH(F18,Adresy!$G$5:$G$324,0),MATCH($G$1,Adresy!$B$3,0)) -> #N/A | H18: =INDEX(Adresy!$C$5:$C$324,MATCH(F18,Adresy!$G$5:$G$324,0),MATCH($H$2,Adresy!$C$4,0)) -> #N/A | I18: =INDEX(Adresy!$D$5:$D$324,MATCH(F18,Adresy!$G$5:$G$324,0),MATCH($I$2,Adresy!$D$4,0)) -> #N/A | K18: =INDEX(Adresy!$B$5:$B$324,MATCH(J18,Adresy!$G$5:$G$324,0),MATCH($G$1,Adresy!$B$3,0)) -> #N/A | L18: =INDEX(Adresy!$C$5:$C$324,MATCH(J18,Adresy!$G$5:$G$324,0),MATCH($H$2,Adresy!$C$4,0)) -> #N/A | M18: =INDEX(Adresy!$D$5:$D$324,MATCH(J18,Adresy!$G$5:$G$324,0),MATCH($I$2,Adresy!$D$4,0)) -> #N/A | O18: =INDEX(Adresy!$B$5:$B$324,MATCH(N18,Adresy!$G$5:$G$324,0),MATCH($G$1,Adresy!$B$3,0)) -> #N/A | P18: =INDEX(Adresy!$C$5:$C$324,MATCH(N18,Adresy!$G$5:$G$324,0),MATCH($H$2,Adresy!$C$4,0)) -> #N/A | Q18: =INDEX(Adresy!$D$5:$D$324,MATCH(N18,Adresy!$G$5:$G$324,0),MATCH($I$2,Adresy!$D$4,0)) -> #N/A | R18: =IF(C18=0,"Niepoprawnie",IF(F18=0,"Niepoprawnie",IF(J18=0,"Niepoprawnie",IF(N18=0,"Niepoprawnie",IF(E18=0,"NIEPOPRAWNIE","POPRAWNIE"))))) -> Niepoprawnie | T18: =MID(B18,1,2) | AI18: 1532
A19: 17. | C19: =IF(B19<1,0,IF(B19<=999,1000000,IF(B19<=9999,100000,IF(B19<=99999,10000,IF(B19<=999999,1000,IF(B19<9999999,100)))))) -> 0 | D19: =VLOOKUP(T19,Arkusz2!B:C,2,FALSE) -> #N/A | G19: =INDEX(Adresy!$B$5:$B$324,MATCH(F19,Adresy!$G$5:$G$324,0),MATCH($G$1,Adresy!$B$3,0)) -> #N/A | H19: =INDEX(Adresy!$C$5:$C$324,MATCH(F19,Adresy!$G$5:$G$324,0),MATCH($H$2,Adresy!$C$4,0)) -> #N/A | I19: =INDEX(Adresy!$D$5:$D$324,MATCH(F19,Adresy!$G$5:$G$324,0),MATCH($I$2,Adresy!$D$4,0)) -> #N/A | K19: =INDEX(Adresy!$B$5:$B$324,MATCH(J19,Adresy!$G$5:$G$324,0),MATCH($G$1,Adresy!$B$3,0)) -> #N/A | L19: =INDEX(Adresy!$C$5:$C$324,MATCH(J19,Adresy!$G$5:$G$324,0),MATCH($H$2,Adresy!$C$4,0)) -> #N/A | M19: =INDEX(Adresy!$D$5:$D$324,MATCH(J19,Adresy!$G$5:$G$324,0),MATCH($I$2,Adresy!$D$4,0)) -> #N/A | O19: =INDEX(Adresy!$B$5:$B$324,MATCH(N19,Adresy!$G$5:$G$324,0),MATCH($G$1,Adresy!$B$3,0)) -> #N/A | P19: =INDEX(Adresy!$C$5:$C$324,MATCH(N19,Adresy!$G$5:$G$324,0),MATCH($H$2,Adresy!$C$4,0)) -> #N/A | Q19: =INDEX(Adresy!$D$5:$D$324,MATCH(N19,Adresy!$G$5:$G$324,0),MATCH($I$2,Adresy!$D$4,0)) -> #N/A | R19: =IF(C19=0,"Niepoprawnie",IF(F19=0,"Niepoprawnie",IF(J19=0,"Niepoprawnie",IF(N19=0,"Niepoprawnie",IF(E19=0,"NIEPOPRAWNIE","POPRAWNIE"))))) -> Niepoprawnie | T19: =MID(B19,1,2) | AI19: 4800
A20: 18. | C20: =IF(B20<1,0,IF(B20<=999,1000000,IF(B20<=9999,100000,IF(B20<=99999,10000,IF(B20<=999999,1000,IF(B20<9999999,100)))))) -> 0 | D20: =VLOOKUP(T20,Arkusz2!B:C,2,FALSE) -> #N/A | G20: =INDEX(Adresy!$B$5:$B$324,MATCH(F20,Adresy!$G$5:$G$324,0),MATCH($G$1,Adresy!$B$3,0)) -> #N/A | H20: =INDEX(Adresy!$C$5:$C$324,MATCH(F20,Adresy!$G$5:$G$324,0),MATCH($H$2,Adresy!$C$4,0)) -> #N/A | I20: =INDEX(Adresy!$D$5:$D$324,MATCH(F20,Adresy!$G$5:$G$324,0),MATCH($I$2,Adresy!$D$4,0)) -> #N/A | K20: =INDEX(Adresy!$B$5:$B$324,MATCH(J20,Adresy!$G$5:$G$324,0),MATCH($G$1,Adresy!$B$3,0)) -> #N/A | L20: =INDEX(Adresy!$C$5:$C$324,MATCH(J20,Adresy!$G$5:$G$324,0),MATCH($H$2,Adresy!$C$4,0)) -> #N/A | M20: =INDEX(Adresy!$D$5:$D$324,MATCH(J20,Adresy!$G$5:$G$324,0),MATCH($I$2,Adresy!$D$4,0)) -> #N/A | O20: =INDEX(Adresy!$B$5:$B$324,MATCH(N20,Adresy!$G$5:$G$324,0),MATCH($G$1,Adresy!$B$3,0)) -> #N/A | P20: =INDEX(Adresy!$C$5:$C$324,MATCH(N20,Adresy!$G$5:$G$324,0),MATCH($H$2,Adresy!$C$4,0)) -> #N/A | Q20: =INDEX(Adresy!$D$5:$D$324,MATCH(N20,Adresy!$G$5:$G$324,0),MATCH($I$2,Adresy!$D$4,0)) -> #N/A | R20: =IF(C20=0,"Niepoprawnie",IF(F20=0,"Niepoprawnie",IF(J20=0,"Niepoprawnie",IF(N20=0,"Niepoprawnie",IF(E20=0,"NIEPOPRAWNIE","POPRAWNIE"))))) -> Niepoprawnie | T20: =MID(B20,1,2) | AI20: 5310
A21: 19. | C21: =IF(B21<1,0,IF(B21<=999,1000000,IF(B21<=9999,100000,IF(B21<=99999,10000,IF(B21<=999999,1000,IF(B21<9999999,100)))))) -> 0 | D21: =VLOOKUP(T21,Arkusz2!B:C,2,FALSE) -> #N/A | G21: =INDEX(Adresy!$B$5:$B$324,MATCH(F21,Adresy!$G$5:$G$324,0),MATCH($G$1,Adresy!$B$3,0)) -> #N/A | H21: =INDEX(Adresy!$C$5:$C$324,MATCH(F21,Adresy!$G$5:$G$324,0),MATCH($H$2,Adresy!$C$4,0)) -> #N/A | I21: =INDEX(Adresy!$D$5:$D$324,MATCH(F21,Adresy!$G$5:$G$324,0),MATCH($I$2,Adresy!$D$4,0)) -> #N/A | K21: =INDEX(Adresy!$B$5:$B$324,MATCH(J21,Adresy!$G$5:$G$324,0),MATCH($G$1,Adresy!$B$3,0)) -> #N/A | L21: =INDEX(Adresy!$C$5:$C$324,MATCH(J21,Adresy!$G$5:$G$324,0),MATCH($H$2,Adresy!$C$4,0)) -> #N/A | M21: =INDEX(Adresy!$D$5:$D$324,MATCH(J21,Adresy!$G$5:$G$324,0),MATCH($I$2,Adresy!$D$4,0)) -> #N/A | O21: =INDEX(Adresy!$B$5:$B$324,MATCH(N21,Adresy!$G$5:$G$324,0),MATCH($G$1,Adresy!$B$3,0)) -> #N/A | P21: =INDEX(Adresy!$C$5:$C$324,MATCH(N21,Adresy!$G$5:$G$324,0),MATCH($H$2,Adresy!$C$4,0)) -> #N/A | Q21: =INDEX(Adresy!$D$5:$D$324,MATCH(N21,Adresy!$G$5:$G$324,0),MATCH($I$2,Adresy!$D$4,0)) -> #N/A | R21: =IF(C21=0,"Niepoprawnie",IF(F21=0,"Niepoprawnie",IF(J21=0,"Niepoprawnie",IF(N21=0,"Niepoprawnie",IF(E21=0,"NIEPOPRAWNIE","POPRAWNIE"))))) -> Niepoprawnie | T21: =MID(B21,1,2) | AI21: 2290
A22: 20. | C22: =IF(B22<1,0,IF(B22<=999,1000000,IF(B22<=9999,100000,IF(B22<=99999,10000,IF(B22<=999999,1000,IF(B22<9999999,100)))))) -> 0 | D22: =VLOOKUP(T22,Arkusz2!B:C,2,FALSE) -> #N/A | G22: =INDEX(Adresy!$B$5:$B$324,MATCH(F22,Adresy!$G$5:$G$324,0),MATCH($G$1,Adresy!$B$3,0)) -> #N/A | H22: =INDEX(Adresy!$C$5:$C$324,MATCH(F22,Adresy!$G$5:$G$324,0),MATCH($H$2,Adresy!$C$4,0)) -> #N/A | I22: =INDEX(Adresy!$D$5:$D$324,MATCH(F22,Adresy!$G$5:$G$324,0),MATCH($I$2,Adresy!$D$4,0)) -> #N/A | K22: =INDEX(Adresy!$B$5:$B$324,MATCH(J22,Adresy!$G$5:$G$324,0),MATCH($G$1,Adresy!$B$3,0)) -> #N/A | L22: =INDEX(Adresy!$C$5:$C$324,MATCH(J22,Adresy!$G$5:$G$324,0),MATCH($H$2,Adresy!$C$4,0)) -> #N/A | M22: =INDEX(Adresy!$D$5:$D$324,MATCH(J22,Adresy!$G$5:$G$324,0),MATCH($I$2,Adresy!$D$4,0)) -> #N/A | O22: =INDEX(Adresy!$B$5:$B$324,MATCH(N22,Adresy!$G$5:$G$324,0),MATCH($G$1,Adresy!$B$3,0)) -> #N/A | P22: =INDEX(Adresy!$C$5:$C$324,MATCH(N22,Adresy!$G$5:$G$324,0),MATCH($H$2,Adresy!$C$4,0)) -> #N/A | Q22: =INDEX(Adresy!$D$5:$D$324,MATCH(N22,Adresy!$G$5:$G$324,0),MATCH($I$2,Adresy!$D$4,0)) -> #N/A | R22: =IF(C22=0,"Niepoprawnie",IF(F22=0,"Niepoprawnie",IF(J22=0,"Niepoprawnie",IF(N22=0,"Niepoprawnie",IF(E22=0,"NIEPOPRAWNIE","POPRAWNIE"))))) -> Niepoprawnie | T22: =MID(B22,1,2) | AI22: 109
A23: 21. | C23: =IF(B23<1,0,IF(B23<=999,1000000,IF(B23<=9999,100000,IF(B23<=99999,10000,IF(B23<=999999,1000,IF(B23<9999999,100)))))) -> 0 | D23: =VLOOKUP(T23,Arkusz2!B:C,2,FALSE) -> #N/A | G23: =INDEX(Adresy!$B$5:$B$324,MATCH(F23,Adresy!$G$5:$G$324,0),MATCH($G$1,Adresy!$B$3,0)) -> #N/A | H23: =INDEX(Adresy!$C$5:$C$324,MATCH(F23,Adresy!$G$5:$G$324,0),MATCH($H$2,Adresy!$C$4,0)) -> #N/A | I23: =INDEX(Adresy!$D$5:$D$324,MATCH(F23,Adresy!$G$5:$G$324,0),MATCH($I$2,Adresy!$D$4,0)) -> #N/A | K23: =INDEX(Adresy!$B$5:$B$324,MATCH(J23,Adresy!$G$5:$G$324,0),MATCH($G$1,Adresy!$B$3,0)) -> #N/A | L23: =INDEX(Adresy!$C$5:$C$324,MATCH(J23,Adresy!$G$5:$G$324,0),MATCH($H$2,Adresy!$C$4,0)) -> #N/A | M23: =INDEX(Adresy!$D$5:$D$324,MATCH(J23,Adresy!$G$5:$G$324,0),MATCH($I$2,Adresy!$D$4,0)) -> #N/A | O23: =INDEX(Adresy!$B$5:$B$324,MATCH(N23,Adresy!$G$5:$G$324,0),MATCH($G$1,Adresy!$B$3,0)) -> #N/A | P23: =INDEX(Adresy!$C$5:$C$324,MATCH(N23,Adresy!$G$5:$G$324,0),MATCH($H$2,Adresy!$C$4,0)) -> #N/A | Q23: =INDEX(Adresy!$D$5:$D$324,MATCH(N23,Adresy!$G$5:$G$324,0),MATCH($I$2,Adresy!$D$4,0)) -> #N/A | R23: =IF(C23=0,"Niepoprawnie",IF(F23=0,"Niepoprawnie",IF(J23=0,"Niepoprawnie",IF(N23=0,"Niepoprawnie",IF(E23=0,"NIEPOPRAWNIE","POPRAWNIE"))))) -> Niepoprawnie | T23: =MID(B23,1,2) | AI23: 1794
A24: 22. | C24: =IF(B24<1,0,IF(B24<=999,1000000,IF(B24<=9999,100000,IF(B24<=99999,10000,IF(B24<=999999,1000,IF(B24<9999999,100)))))) -> 0 | D24: =VLOOKUP(T24,Arkusz2!B:C,2,FALSE) -> #N/A | G24: =INDEX(Adresy!$B$5:$B$324,MATCH(F24,Adresy!$G$5:$G$324,0),MATCH($G$1,Adresy!$B$3,0)) -> #N/A | H24: =INDEX(Adresy!$C$5:$C$324,MATCH(F24,Adresy!$G$5:$G$324,0),MATCH($H$2,Adresy!$C$4,0)) -> #N/A | I24: =INDEX(Adresy!$D$5:$D$324,MATCH(F24,Adresy!$G$5:$G$324,0),MATCH($I$2,Adresy!$D$4,0)) -> #N/A | K24: =INDEX(Adresy!$B$5:$B$324,MATCH(J24,Adresy!$G$5:$G$324,0),MATCH($G$1,Adresy!$B$3,0)) -> #N/A | L24: =INDEX(Adresy!$C$5:$C$324,MATCH(J24,Adresy!$G$5:$G$324,0),MATCH($H$2,Adresy!$C$4,0)) -> #N/A | M24: =INDEX(Adresy!$D$5:$D$324,MATCH(J24,Adresy!$G$5:$G$324,0),MATCH($I$2,Adresy!$D$4,0)) -> #N/A | O24: =INDEX(Adresy!$B$5:$B$324,MATCH(N24,Adresy!$G$5:$G$324,0),MATCH($G$1,Adresy!$B$3,0)) -> #N/A | P24: =INDEX(Adresy!$C$5:$C$324,MATCH(N24,Adresy!$G$5:$G$324,0),MATCH($H$2,Adresy!$C$4,0)) -> #N/A | Q24: =INDEX(Adresy!$D$5:$D$324,MATCH(N24,Adresy!$G$5:$G$324,0),MATCH($I$2,Adresy!$D$4,0)) -> #N/A | R24: =IF(C24=0,"Niepoprawnie",IF(F24=0,"Niepoprawnie",IF(J24=0,"Niepoprawnie",IF(N24=0,"Niepoprawnie",IF(E24=0,"NIEPOPRAWNIE","POPRAWNIE"))))) -> Niepoprawnie | T24: =MID(B24,1,2) | AI24: 7273
A25: 23. | C25: =IF(B25<1,0,IF(B25<=999,1000000,IF(B25<=9999,100000,IF(B25<=99999,10000,IF(B25<=999999,1000,IF(B25<9999999,100)))))) -> 0 | D25: =VLOOKUP(T25,Arkusz2!B:C,2,FALSE) -> #N/A | G25: =INDEX(Adresy!$B$5:$B$324,MATCH(F25,Adresy!$G$5:$G$324,0),MATCH($G$1,Adresy!$B$3,0)) -> #N/A | H25: =INDEX(Adresy!$C$5:$C$324,MATCH(F25,Adresy!$G$5:$G$324,0),MATCH($H$2,Adresy!$C$4,0)) -> #N/A | I25: =INDEX(Adresy!$D$5:$D$324,MATCH(F25,Adresy!$G$5:$G$324,0),MATCH($I$2,Adresy!$D$4,0)) -> #N/A | K25: =INDEX(Adresy!$B$5:$B$324,MATCH(J25,Adresy!$G$5:$G$324,0),MATCH($G$1,Adresy!$B$3,0)) -> #N/A | L25: =INDEX(Adresy!$C$5:$C$324,MATCH(J25,Adresy!$G$5:$G$324,0),MATCH($H$2,Adresy!$C$4,0)) -> #N/A | M25: =INDEX(Adresy!$D$5:$D$324,MATCH(J25,Adresy!$G$5:$G$324,0),MATCH($I$2,Adresy!$D$4,0)) -> #N/A | O25: =INDEX(Adresy!$B$5:$B$324,MATCH(N25,Adresy!$G$5:$G$324,0),MATCH($G$1,Adresy!$B$3,0)) -> #N/A | P25: =INDEX(Adresy!$C$5:$C$324,MATCH(N25,Adresy!$G$5:$G$324,0),MATCH($H$2,Adresy!$C$4,0)) -> #N/A | Q25: =INDEX(Adresy!$D$5:$D$324,MATCH(N25,Adresy!$G$5:$G$324,0),MATCH($I$2,Adresy!$D$4,0)) -> #N/A | R25: =IF(C25=0,"Niepoprawnie",IF(F25=0,"Niepoprawnie",IF(J25=0,"Niepoprawnie",IF(N25=0,"Niepoprawnie",IF(E25=0,"NIEPOPRAWNIE","POPRAWNIE"))))) -> Niepoprawnie | T25: =MID(B25,1,2) | AI25: 510
A26: 24. | C26: =IF(B26<1,0,IF(B26<=999,1000000,IF(B26<=9999,100000,IF(B26<=99999,10000,IF(B26<=999999,1000,IF(B26<9999999,100)))))) -> 0 | D26: =VLOOKUP(T26,Arkusz2!B:C,2,FALSE) -> #N/A | G26: =INDEX(Adresy!$B$5:$B$324,MATCH(F26,Adresy!$G$5:$G$324,0),MATCH($G$1,Adresy!$B$3,0)) -> #N/A | H26: =INDEX(Adresy!$C$5:$C$324,MATCH(F26,Adresy!$G$5:$G$324,0),MATCH($H$2,Adresy!$C$4,0)) -> #N/A | I26: =INDEX(Adresy!$D$5:$D$324,MATCH(F26,Adresy!$G$5:$G$324,0),MATCH($I$2,Adresy!$D$4,0)) -> #N/A | K26: =INDEX(Adresy!$B$5:$B$324,MATCH(J26,Adresy!$G$5:$G$324,0),MATCH($G$1,Adresy!$B$3,0)) -> #N/A | L26: =INDEX(Adresy!$C$5:$C$324,MATCH(J26,Adresy!$G$5:$G$324,0),MATCH($H$2,Adresy!$C$4,0)) -> #N/A | M26: =INDEX(Adresy!$D$5:$D$324,MATCH(J26,Adresy!$G$5:$G$324,0),MATCH($I$2,Adresy!$D$4,0)) -> #N/A | O26: =INDEX(Adresy!$B$5:$B$324,MATCH(N26,Adresy!$G$5:$G$324,0),MATCH($G$1,Adresy!$B$3,0)) -> #N/A | P26: =INDEX(Adresy!$C$5:$C$324,MATCH(N26,Adresy!$G$5:$G$324,0),MATCH($H$2,Adresy!$C$4,0)) -> #N/A | Q26: =INDEX(Adresy!$D$5:$D$324,MATCH(N26,Adresy!$G$5:$G$324,0),MATCH($I$2,Adresy!$D$4,0)) -> #N/A | R26: =IF(C26=0,"Niepoprawnie",IF(F26=0,"Niepoprawnie",IF(J26=0,"Niepoprawnie",IF(N26=0,"Niepoprawnie",IF(E26=0,"NIEPOPRAWNIE","POPRAWNIE"))))) -> Niepoprawnie | T26: =MID(B26,1,2) | AI26: 24
A27: 25. | C27: =IF(B27<1,0,IF(B27<=999,1000000,IF(B27<=9999,100000,IF(B27<=99999,10000,IF(B27<=999999,1000,IF(B27<9999999,100)))))) -> 0 | D27: =VLOOKUP(T27,Arkusz2!B:C,2,FALSE) -> #N/A | G27: =INDEX(Adresy!$B$5:$B$324,MATCH(F27,Adresy!$G$5:$G$324,0),MATCH($G$1,Adresy!$B$3,0)) -> #N/A | H27: =INDEX(Adresy!$C$5:$C$324,MATCH(F27,Adresy!$G$5:$G$324,0),MATCH($H$2,Adresy!$C$4,0)) -> #N/A | I27: =INDEX(Adresy!$D$5:$D$324,MATCH(F27,Adresy!$G$5:$G$324,0),MATCH($I$2,Adresy!$D$4,0)) -> #N/A | K27: =INDEX(Adresy!$B$5:$B$324,MATCH(J27,Adresy!$G$5:$G$324,0),MATCH($G$1,Adresy!$B$3,0)) -> #N/A | L27: =INDEX(Adresy!$C$5:$C$324,MATCH(J27,Adresy!$G$5:$G$324,0),MATCH($H$2,Adresy!$C$4,0)) -> #N/A | M27: =INDEX(Adresy!$D$5:$D$324,MATCH(J27,Adresy!$G$5:$G$324,0),MATCH($I$2,Adresy!$D$4,0)) -> #N/A | O27: =INDEX(Adresy!$B$5:$B$324,MATCH(N27,Adresy!$G$5:$G$324,0),MATCH($G$1,Adresy!$B$3,0)) -> #N/A | P27: =INDEX(Adresy!$C$5:$C$324,MATCH(N27,Adresy!$G$5:$G$324,0),MATCH($H$2,Adresy!$C$4,0)) -> #N/A | Q27: =INDEX(Adresy!$D$5:$D$324,MATCH(N27,Adresy!$G$5:$G$324,0),MATCH($I$2,Adresy!$D$4,0)) -> #N/A | R27: =IF(C27=0,"Niepoprawnie",IF(F27=0,"Niepoprawnie",IF(J27=0,"Niepoprawnie",IF(N27=0,"Niepoprawnie",IF(E27=0,"NIEPOPRAWNIE","POPRAWNIE"))))) -> Niepoprawnie | T27: =MID(B27,1,2) | AI27: 3320
A28: 26. | C28: =IF(B28<1,0,IF(B28<=999,1000000,IF(B28<=9999,100000,IF(B28<=99999,10000,IF(B28<=999999,1000,IF(B28<9999999,100)))))) -> 0 | D28: =VLOOKUP(T28,Arkusz2!B:C,2,FALSE) -> #N/A | G28: =INDEX(Adresy!$B$5:$B$324,MATCH(F28,Adresy!$G$5:$G$324,0),MATCH($G$1,Adresy!$B$3,0)) -> #N/A | H28: =INDEX(Adresy!$C$5:$C$324,MATCH(F28,Adresy!$G$5:$G$324,0),MATCH($H$2,Adresy!$C$4,0)) -> #N/A | I28: =INDEX(Adresy!$D$5:$D$324,MATCH(F28,Adresy!$G$5:$G$324,0),MATCH($I$2,Adresy!$D$4,0)) -> #N/A | K28: =INDEX(Adresy!$B$5:$B$324,MATCH(J28,Adresy!$G$5:$G$324,0),MATCH($G$1,Adresy!$B$3,0)) -> #N/A | L28: =INDEX(Adresy!$C$5:$C$324,MATCH(J28,Adresy!$G$5:$G$324,0),MATCH($H$2,Adresy!$C$4,0)) -> #N/A | M28: =INDEX(Adresy!$D$5:$D$324,MATCH(J28,Adresy!$G$5:$G$324,0),MATCH($I$2,Adresy!$D$4,0)) -> #N/A | O28: =INDEX(Adresy!$B$5:$B$324,MATCH(N28,Adresy!$G$5:$G$324,0),MATCH($G$1,Adresy!$B$3,0)) -> #N/A | P28: =INDEX(Adresy!$C$5:$C$324,MATCH(N28,Adresy!$G$5:$G$324,0),MATCH($H$2,Adresy!$C$4,0)) -> #N/A | Q28: =INDEX(Adresy!$D$5:$D$324,MATCH(N28,Adresy!$G$5:$G$324,0),MATCH($I$2,Adresy!$D$4,0)) -> #N/A | R28: =IF(C28=0,"Niepoprawnie",IF(F28=0,"Niepoprawnie",IF(J28=0,"Niepoprawnie",IF(N28=0,"Niepoprawnie",IF(E28=0,"NIEPOPRAWNIE","POPRAWNIE"))))) -> Niepoprawnie | T28: =MID(B28,1,2) | AI28: 6780
A29: 27. | C29: =IF(B29<1,0,IF(B29<=999,1000000,IF(B29<=9999,100000,IF(B29<=99999,10000,IF(B29<=999999,1000,IF(B29<9999999,100)))))) -> 0 | D29: =VLOOKUP(T29,Arkusz2!B:C,2,FALSE) -> #N/A | G29: =INDEX(Adresy!$B$5:$B$324,MATCH(F29,Adresy!$G$5:$G$324,0),MATCH($G$1,Adresy!$B$3,0)) -> #N/A | H29: =INDEX(Adresy!$C$5:$C$324,MATCH(F29,Adresy!$G$5:$G$324,0),MATCH($H$2,Adresy!$C$4,0)) -> #N/A | I29: =INDEX(Adresy!$D$5:$D$324,MATCH(F29,Adresy!$G$5:$G$324,0),MATCH($I$2,Adresy!$D$4,0)) -> #N/A | K29: =INDEX(Adresy!$B$5:$B$324,MATCH(J29,Adresy!$G$5:$G$324,0),MATCH($G$1,Adresy!$B$3,0)) -> #N/A | L29: =INDEX(Adresy!$C$5:$C$324,MATCH(J29,Adresy!$G$5:$G$324,0),MATCH($H$2,Adresy!$C$4,0)) -> #N/A | M29: =INDEX(Adresy!$D$5:$D$324,MATCH(J29,Adresy!$G$5:$G$324,0),MATCH($I$2,Adresy!$D$4,0)) -> #N/A | O29: =INDEX(Adresy!$B$5:$B$324,MATCH(N29,Adresy!$G$5:$G$324,0),MATCH($G$1,Adresy!$B$3,0)) -> #N/A | P29: =INDEX(Adresy!$C$5:$C$324,MATCH(N29,Adresy!$G$5:$G$324,0),MATCH($H$2,Adresy!$C$4,0)) -> #N/A | Q29: =INDEX(Adresy!$D$5:$D$324,MATCH(N29,Adresy!$G$5:$G$324,0),MATCH($I$2,Adresy!$D$4,0)) -> #N/A | R29: =IF(C29=0,"Niepoprawnie",IF(F29=0,"Niepoprawnie",IF(J29=0,"Niepoprawnie",IF(N29=0,"Niepoprawnie",IF(E29=0,"NIEPOPRAWNIE","POPRAWNIE"))))) -> Niepoprawnie | T29: =MID(B29,1,2) | AI29: 734
... A42: 40. | C42: =IF(B42<1,0,IF(B42<=999,1000000,IF(B42<=9999,100000,IF(B42<=99999,10000,IF(B42<=999999,1000,IF(B42<9999999,100)))))) -> 0 | D42: =VLOOKUP(T42,Arkusz2!B:C,2,FALSE) -> #N/A | G42: =INDEX(Adresy!$B$5:$B$324,MATCH(F42,Adresy!$G$5:$G$324,0),MATCH($G$1,Adresy!$B$3,0)) -> #N/A | H42: =INDEX(Adresy!$C$5:$C$324,MATCH(F42,Adresy!$G$5:$G$324,0),MATCH($H$2,Adresy!$C$4,0)) -> #N/A | I42: =INDEX(Adresy!$D$5:$D$324,MATCH(F42,Adresy!$G$5:$G$324,0),MATCH($I$2,Adresy!$D$4,0)) -> #N/A | K42: =INDEX(Adresy!$B$5:$B$324,MATCH(J42,Adresy!$G$5:$G$324,0),MATCH($G$1,Adresy!$B$3,0)) -> #N/A | L42: =INDEX(Adresy!$C$5:$C$324,MATCH(J42,Adresy!$G$5:$G$324,0),MATCH($H$2,Adresy!$C$4,0)) -> #N/A | M42: =INDEX(Adresy!$D$5:$D$324,MATCH(J42,Adresy!$G$5:$G$324,0),MATCH($I$2,Adresy!$D$4,0)) -> #N/A | O42: =INDEX(Adresy!$B$5:$B$324,MATCH(N42,Adresy!$G$5:$G$324,0),MATCH($G$1,Adresy!$B$3,0)) -> #N/A | P42: =INDEX(Adresy!$C$5:$C$324,MATCH(N42,Adresy!$G$5:$G$324,0),MATCH($H$2,Adresy!$C$4,0)) -> #N/A | Q42: =INDEX(Adresy!$D$5:$D$324,MATCH(N42,Adresy!$G$5:$G$324,0),MATCH($I$2,Adresy!$D$4,0)) -> #N/A | R42: =IF(C42=0,"Niepoprawnie",IF(F42=0,"Niepoprawnie",IF(J42=0,"Niepoprawnie",IF(N42=0,"Niepoprawnie",IF(E42=0,"NIEPOPRAWNIE","POPRAWNIE"))))) -> Niepoprawnie | T42: =MID(B42,1,2) | AI42: 2863
A43: 41. | C43: =IF(B43<1,0,IF(B43<=999,1000000,IF(B43<=9999,100000,IF(B43<=99999,10000,IF(B43<=999999,1000,IF(B43<9999999,100)))))) -> 0 | D43: =VLOOKUP(T43,Arkusz2!B:C,2,FALSE) -> #N/A | G43: =INDEX(Adresy!$B$5:$B$324,MATCH(F43,Adresy!$G$5:$G$324,0),MATCH($G$1,Adresy!$B$3,0)) -> #N/A | H43: =INDEX(Adresy!$C$5:$C$324,MATCH(F43,Adresy!$G$5:$G$324,0),MATCH($H$2,Adresy!$C$4,0)) -> #N/A | I43: =INDEX(Adresy!$D$5:$D$324,MATCH(F43,Adresy!$G$5:$G$324,0),MATCH($I$2,Adresy!$D$4,0)) -> #N/A | K43: =INDEX(Adresy!$B$5:$B$324,MATCH(J43,Adresy!$G$5:$G$324,0),MATCH($G$1,Adresy!$B$3,0)) -> #N/A | L43: =INDEX(Adresy!$C$5:$C$324,MATCH(J43,Adresy!$G$5:$G$324,0),MATCH($H$2,Adresy!$C$4,0)) -> #N/A | M43: =INDEX(Adresy!$D$5:$D$324,MATCH(J43,Adresy!$G$5:$G$324,0),MATCH($I$2,Adresy!$D$4,0)) -> #N/A | O43: =INDEX(Adresy!$B$5:$B$324,MATCH(N43,Adresy!$G$5:$G$324,0),MATCH($G$1,Adresy!$B$3,0)) -> #N/A | P43: =INDEX(Adresy!$C$5:$C$324,MATCH(N43,Adresy!$G$5:$G$324,0),MATCH($H$2,Adresy!$C$4,0)) -> #N/A | Q43: =INDEX(Adresy!$D$5:$D$324,MATCH(N43,Adresy!$G$5:$G$324,0),MATCH($I$2,Adresy!$D$4,0)) -> #N/A | R43: =IF(C43=0,"Niepoprawnie",IF(F43=0,"Niepoprawnie",IF(J43=0,"Niepoprawnie",IF(N43=0,"Niepoprawnie",IF(E43=0,"NIEPOPRAWNIE","POPRAWNIE"))))) -> Niepoprawnie | T43: =MID(B43,1,2) | X43: Numeracja abonencka dla sieci PSTN | AI43: 6859
A44: 42. | C44: =IF(B44<1,0,IF(B44<=999,1000000,IF(B44<=9999,100000,IF(B44<=99999,10000,IF(B44<=999999,1000,IF(B44<9999999,100)))))) -> 0 | D44: =VLOOKUP(T44,Arkusz2!B:C,2,FALSE) -> #N/A | G44: =INDEX(Adresy!$B$5:$B$324,MATCH(F44,Adresy!$G$5:$G$324,0),MATCH($G$1,Adresy!$B$3,0)) -> #N/A | H44: =INDEX(Adresy!$C$5:$C$324,MATCH(F44,Adresy!$G$5:$G$324,0),MATCH($H$2,Adresy!$C$4,0)) -> #N/A | I44: =INDEX(Adresy!$D$5:$D$324,MATCH(F44,Adresy!$G$5:$G$324,0),MATCH($I$2,Adresy!$D$4,0)) -> #N/A | K44: =INDEX(Adresy!$B$5:$B$324,MATCH(J44,Adresy!$G$5:$G$324,0),MATCH($G$1,Adresy!$B$3,0)) -> #N/A | L44: =INDEX(Adresy!$C$5:$C$324,MATCH(J44,Adresy!$G$5:$G$324,0),MATCH($H$2,Adresy!$C$4,0)) -> #N/A | M44: =INDEX(Adresy!$D$5:$D$324,MATCH(J44,Adresy!$G$5:$G$324,0),MATCH($I$2,Adresy!$D$4,0)) -> #N/A | O44: =INDEX(Adresy!$B$5:$B$324,MATCH(N44,Adresy!$G$5:$G$324,0),MATCH($G$1,Adresy!$B$3,0)) -> #N/A | P44: =INDEX(Adresy!$C$5:$C$324,MATCH(N44,Adresy!$G$5:$G$324,0),MATCH($H$2,Adresy!$C$4,0)) -> #N/A | Q44: =INDEX(Adresy!$D$5:$D$324,MATCH(N44,Adresy!$G$5:$G$324,0),MATCH($I$2,Adresy!$D$4,0)) -> #N/A | R44: =IF(C44=0,"Niepoprawnie",IF(F44=0,"Niepoprawnie",IF(J44=0,"Niepoprawnie",IF(N44=0,"Niepoprawnie",IF(E44=0,"NIEPOPRAWNIE","POPRAWNIE"))))) -> Niepoprawnie | T44: =MID(B44,1,2) | X44: Numeracja abonencka dla sieci PLMN | AI44: 809
A45: 43. | C45: =IF(B45<1,0,IF(B45<=999,1000000,IF(B45<=9999,100000,IF(B45<=99999,10000,IF(B45<=999999,1000,IF(B45<9999999,100)))))) -> 0 | D45: =VLOOKUP(T45,Arkusz2!B:C,2,FALSE) -> #N/A | G45: =INDEX(Adresy!$B$5:$B$324,MATCH(F45,Adresy!$G$5:$G$324,0),MATCH($G$1,Adresy!$B$3,0)) -> #N/A | H45: =INDEX(Adresy!$C$5:$C$324,MATCH(F45,Adresy!$G$5:$G$324,0),MATCH($H$2,Adresy!$C$4,0)) -> #N/A | I45: =INDEX(Adresy!$D$5:$D$324,MATCH(F45,Adresy!$G$5:$G$324,0),MATCH($I$2,Adresy!$D$4,0)) -> #N/A | K45: =INDEX(Adresy!$B$5:$B$324,MATCH(J45,Adresy!$G$5:$G$324,0),MATCH($G$1,Adresy!$B$3,0)) -> #N/A | L45: =INDEX(Adresy!$C$5:$C$324,MATCH(J45,Adresy!$G$5:$G$324,0),MATCH($H$2,Adresy!$C$4,0)) -> #N/A | M45: =INDEX(Adresy!$D$5:$D$324,MATCH(J45,Adresy!$G$5:$G$324,0),MATCH($I$2,Adresy!$D$4,0)) -> #N/A | O45: =INDEX(Adresy!$B$5:$B$324,MATCH(N45,Adresy!$G$5:$G$324,0),MATCH($G$1,Adresy!$B$3,0)) -> #N/A | P45: =INDEX(Adresy!$C$5:$C$324,MATCH(N45,Adresy!$G$5:$G$324,0),MATCH($H$2,Adresy!$C$4,0)) -> #N/A | Q45: =INDEX(Adresy!$D$5:$D$324,MATCH(N45,Adresy!$G$5:$G$324,0),MATCH($I$2,Adresy!$D$4,0)) -> #N/A | R45: =IF(C45=0,"Niepoprawnie",IF(F45=0,"Niepoprawnie",IF(J45=0,"Niepoprawnie",IF(N45=0,"Niepoprawnie",IF(E45=0,"NIEPOPRAWNIE","POPRAWNIE"))))) -> Niepoprawnie | T45: =MID(B45,1,2) | X45: Tablica zagospodarowania numeracji dostępu do usług sieci inteligentnych IN | AI45: 584
A46: 44. | C46: =IF(B46<1,0,IF(B46<=999,1000000,IF(B46<=9999,100000,IF(B46<=99999,10000,IF(B46<=999999,1000,IF(B46<9999999,100)))))) -> 0 | D46: =VLOOKUP(T46,Arkusz2!B:C,2,FALSE) -> #N/A | G46: =INDEX(Adresy!$B$5:$B$324,MATCH(F46,Adresy!$G$5:$G$324,0),MATCH($G$1,Adresy!$B$3,0)) -> #N/A | H46: =INDEX(Adresy!$C$5:$C$324,MATCH(F46,Adresy!$G$5:$G$324,0),MATCH($H$2,Adresy!$C$4,0)) -> #N/A | I46: =INDEX(Adresy!$D$5:$D$324,MATCH(F46,Adresy!$G$5:$G$324,0),MATCH($I$2,Adresy!$D$4,0)) -> #N/A | K46: =INDEX(Adresy!$B$5:$B$324,MATCH(J46,Adresy!$G$5:$G$324,0),MATCH($G$1,Adresy!$B$3,0)) -> #N/A | L46: =INDEX(Adresy!$C$5:$C$324,MATCH(J46,Adresy!$G$5:$G$324,0),MATCH($H$2,Adresy!$C$4,0)) -> #N/A | M46: =INDEX(Adresy!$D$5:$D$324,MATCH(J46,Adresy!$G$5:$G$324,0),MATCH($I$2,Adresy!$D$4,0)) -> #N/A | O46: =INDEX(Adresy!$B$5:$B$324,MATCH(N46,Adresy!$G$5:$G$324,0),MATCH($G$1,Adresy!$B$3,0)) -> #N/A | P46: =INDEX(Adresy!$C$5:$C$324,MATCH(N46,Adresy!$G$5:$G$324,0),MATCH($H$2,Adresy!$C$4,0)) -> #N/A | Q46: =INDEX(Adresy!$D$5:$D$324,MATCH(N46,Adresy!$G$5:$G$324,0),MATCH($I$2,Adresy!$D$4,0)) -> #N/A | R46: =IF(C46=0,"Niepoprawnie",IF(F46=0,"Niepoprawnie",IF(J46=0,"Niepoprawnie",IF(N46=0,"Niepoprawnie",IF(E46=0,"NIEPOPRAWNIE","POPRAWNIE"))))) -> Niepoprawnie | T46: =MID(B46,1,2) | X46: Numeracja niegeograficzna (o wyróżniku sieci WST AB=39) | AI46: 905
A47: 45. | C47: =IF(B47<1,0,IF(B47<=999,1000000,IF(B47<=9999,100000,IF(B47<=99999,10000,IF(B47<=999999,1000,IF(B47<9999999,100)))))) -> 0 | D47: =VLOOKUP(T47,Arkusz2!B:C,2,FALSE) -> #N/A | G47: =INDEX(Adresy!$B$5:$B$324,MATCH(F47,Adresy!$G$5:$G$324,0),MATCH($G$1,Adresy!$B$3,0)) -> #N/A | H47: =INDEX(Adresy!$C$5:$C$324,MATCH(F47,Adresy!$G$5:$G$324,0),MATCH($H$2,Adresy!$C$4,0)) -> #N/A | I47: =INDEX(Adresy!$D$5:$D$324,MATCH(F47,Adresy!$G$5:$G$324,0),MATCH($I$2,Adresy!$D$4,0)) -> #N/A | K47: =INDEX(Adresy!$B$5:$B$324,MATCH(J47,Adresy!$G$5:$G$324,0),MATCH($G$1,Adresy!$B$3,0)) -> #N/A | L47: =INDEX(Adresy!$C$5:$C$324,MATCH(J47,Adresy!$G$5:$G$324,0),MATCH($H$2,Adresy!$C$4,0)) -> #N/A | M47: =INDEX(Adresy!$D$5:$D$324,MATCH(J47,Adresy!$G$5:$G$324,0),MATCH($I$2,Adresy!$D$4,0)) -> #N/A | O47: =INDEX(Adresy!$B$5:$B$324,MATCH(N47,Adresy!$G$5:$G$324,0),MATCH($G$1,Adresy!$B$3,0)) -> #N/A | P47: =INDEX(Adresy!$C$5:$C$324,MATCH(N47,Adresy!$G$5:$G$324,0),MATCH($H$2,Adresy!$C$4,0)) -> #N/A | Q47: =INDEX(Adresy!$D$5:$D$324,MATCH(N47,Adresy!$G$5:$G$324,0),MATCH($I$2,Adresy!$D$4,0)) -> #N/A | R47: =IF(C47=0,"Niepoprawnie",IF(F47=0,"Niepoprawnie",IF(J47=0,"Niepoprawnie",IF(N47=0,"Niepoprawnie",IF(E47=0,"NIEPOPRAWNIE","POPRAWNIE"))))) -> Niepoprawnie | T47: =MID(B47,1,2) | AI47: 26
A48: 46. | C48: =IF(B48<1,0,IF(B48<=999,1000000,IF(B48<=9999,100000,IF(B48<=99999,10000,IF(B48<=999999,1000,IF(B48<9999999,100)))))) -> 0 | D48: =VLOOKUP(T48,Arkusz2!B:C,2,FALSE) -> #N/A | G48: =INDEX(Adresy!$B$5:$B$324,MATCH(F48,Adresy!$G$5:$G$324,0),MATCH($G$1,Adresy!$B$3,0)) -> #N/A | H48: =INDEX(Adresy!$C$5:$C$324,MATCH(F48,Adresy!$G$5:$G$324,0),MATCH($H$2,Adresy!$C$4,0)) -> #N/A | I48: =INDEX(Adresy!$D$5:$D$324,MATCH(F48,Adresy!$G$5:$G$324,0),MATCH($I$2,Adresy!$D$4,0)) -> #N/A | K48: =INDEX(Adresy!$B$5:$B$324,MATCH(J48,Adresy!$G$5:$G$324,0),MATCH($G$1,Adresy!$B$3,0)) -> #N/A | L48: =INDEX(Adresy!$C$5:$C$324,MATCH(J48,Adresy!$G$5:$G$324,0),MATCH($H$2,Adresy!$C$4,0)) -> #N/A | M48: =INDEX(Adresy!$D$5:$D$324,MATCH(J48,Adresy!$G$5:$G$324,0),MATCH($I$2,Adresy!$D$4,0)) -> #N/A | O48: =INDEX(Adresy!$B$5:$B$324,MATCH(N48,Adresy!$G$5:$G$324,0),MATCH($G$1,Adresy!$B$3,0)) -> #N/A | P48: =INDEX(Adresy!$C$5:$C$324,MATCH(N48,Adresy!$G$5:$G$324,0),MATCH($H$2,Adresy!$C$4,0)) -> #N/A | Q48: =INDEX(Adresy!$D$5:$D$324,MATCH(N48,Adresy!$G$5:$G$324,0),MATCH($I$2,Adresy!$D$4,0)) -> #N/A | R48: =IF(C48=0,"Niepoprawnie",IF(F48=0,"Niepoprawnie",IF(J48=0,"Niepoprawnie",IF(N48=0,"Niepoprawnie",IF(E48=0,"NIEPOPRAWNIE","POPRAWNIE"))))) -> Niepoprawnie | T48: =MID(B48,1,2) | AI48: 27
A49: 47. | C49: =IF(B49<1,0,IF(B49<=999,1000000,IF(B49<=9999,100000,IF(B49<=99999,10000,IF(B49<=999999,1000,IF(B49<9999999,100)))))) -> 0 | D49: =VLOOKUP(T49,Arkusz2!B:C,2,FALSE) -> #N/A | G49: =INDEX(Adresy!$B$5:$B$324,MATCH(F49,Adresy!$G$5:$G$324,0),MATCH($G$1,Adresy!$B$3,0)) -> #N/A | H49: =INDEX(Adresy!$C$5:$C$324,MATCH(F49,Adresy!$G$5:$G$324,0),MATCH($H$2,Adresy!$C$4,0)) -> #N/A | I49: =INDEX(Adresy!$D$5:$D$324,MATCH(F49,Adresy!$G$5:$G$324,0),MATCH($I$2,Adresy!$D$4,0)) -> #N/A | K49: =INDEX(Adresy!$B$5:$B$324,MATCH(J49,Adresy!$G$5:$G$324,0),MATCH($G$1,Adresy!$B$3,0)) -> #N/A | L49: =INDEX(Adresy!$C$5:$C$324,MATCH(J49,Adresy!$G$5:$G$324,0),MATCH($H$2,Adresy!$C$4,0)) -> #N/A | M49: =INDEX(Adresy!$D$5:$D$324,MATCH(J49,Adresy!$G$5:$G$324,0),MATCH($I$2,Adresy!$D$4,0)) -> #N/A | O49: =INDEX(Adresy!$B$5:$B$324,MATCH(N49,Adresy!$G$5:$G$324,0),MATCH($G$1,Adresy!$B$3,0)) -> #N/A | P49: =INDEX(Adresy!$C$5:$C$324,MATCH(N49,Adresy!$G$5:$G$324,0),MATCH($H$2,Adresy!$C$4,0)) -> #N/A | Q49: =INDEX(Adresy!$D$5:$D$324,MATCH(N49,Adresy!$G$5:$G$324,0),MATCH($I$2,Adresy!$D$4,0)) -> #N/A | R49: =IF(C49=0,"Niepoprawnie",IF(F49=0,"Niepoprawnie",IF(J49=0,"Niepoprawnie",IF(N49=0,"Niepoprawnie",IF(E49=0,"NIEPOPRAWNIE","POPRAWNIE"))))) -> Niepoprawnie | T49: =MID(B49,1,2) | AI49: 3478
A50: 48. | C50: =IF(B50<1,0,IF(B50<=999,1000000,IF(B50<=9999,100000,IF(B50<=99999,10000,IF(B50<=999999,1000,IF(B50<9999999,100)))))) -> 0 | D50: =VLOOKUP(T50,Arkusz2!B:C,2,FALSE) -> #N/A | G50: =INDEX(Adresy!$B$5:$B$324,MATCH(F50,Adresy!$G$5:$G$324,0),MATCH($G$1,Adresy!$B$3,0)) -> #N/A | H50: =INDEX(Adresy!$C$5:$C$324,MATCH(F50,Adresy!$G$5:$G$324,0),MATCH($H$2,Adresy!$C$4,0)) -> #N/A | I50: =INDEX(Adresy!$D$5:$D$324,MATCH(F50,Adresy!$G$5:$G$324,0),MATCH($I$2,Adresy!$D$4,0)) -> #N/A | K50: =INDEX(Adresy!$B$5:$B$324,MATCH(J50,Adresy!$G$5:$G$324,0),MATCH($G$1,Adresy!$B$3,0)) -> #N/A | L50: =INDEX(Adresy!$C$5:$C$324,MATCH(J50,Adresy!$G$5:$G$324,0),MATCH($H$2,Adresy!$C$4,0)) -> #N/A | M50: =INDEX(Adresy!$D$5:$D$324,MATCH(J50,Adresy!$G$5:$G$324,0),MATCH($I$2,Adresy!$D$4,0)) -> #N/A | O50: =INDEX(Adresy!$B$5:$B$324,MATCH(N50,Adresy!$G$5:$G$324,0),MATCH($G$1,Adresy!$B$3,0)) -> #N/A | P50: =INDEX(Adresy!$C$5:$C$324,MATCH(N50,Adresy!$G$5:$G$324,0),MATCH($H$2,Adresy!$C$4,0)) -> #N/A | Q50: =INDEX(Adresy!$D$5:$D$324,MATCH(N50,Adresy!$G$5:$G$324,0),MATCH($I$2,Adresy!$D$4,0)) -> #N/A | R50: =IF(C50=0,"Niepoprawnie",IF(F50=0,"Niepoprawnie",IF(J50=0,"Niepoprawnie",IF(N50=0,"Niepoprawnie",IF(E50=0,"NIEPOPRAWNIE","POPRAWNIE"))))) -> Niepoprawnie | T50: =MID(B50,1,2) | AI50: 9
A51: 49. | C51: =IF(B51<1,0,IF(B51<=999,1000000,IF(B51<=9999,100000,IF(B51<=99999,10000,IF(B51<=999999,1000,IF(B51<9999999,100)))))) -> 0 | D51: =VLOOKUP(T51,Arkusz2!B:C,2,FALSE) -> #N/A | G51: =INDEX(Adresy!$B$5:$B$324,MATCH(F51,Adresy!$G$5:$G$324,0),MATCH($G$1,Adresy!$B$3,0)) -> #N/A | H51: =INDEX(Adresy!$C$5:$C$324,MATCH(F51,Adresy!$G$5:$G$324,0),MATCH($H$2,Adresy!$C$4,0)) -> #N/A | I51: =INDEX(Adresy!$D$5:$D$324,MATCH(F51,Adresy!$G$5:$G$324,0),MATCH($I$2,Adresy!$D$4,0)) -> #N/A | K51: =INDEX(Adresy!$B$5:$B$324,MATCH(J51,Adresy!$G$5:$G$324,0),MATCH($G$1,Adresy!$B$3,0)) -> #N/A | L51: =INDEX(Adresy!$C$5:$C$324,MATCH(J51,Adresy!$G$5:$G$324,0),MATCH($H$2,Adresy!$C$4,0)) -> #N/A | M51: =INDEX(Adresy!$D$5:$D$324,MATCH(J51,Adresy!$G$5:$G$324,0),MATCH($I$2,Adresy!$D$4,0)) -> #N/A | O51: =INDEX(Adresy!$B$5:$B$324,MATCH(N51,Adresy!$G$5:$G$324,0),MATCH($G$1,Adresy!$B$3,0)) -> #N/A | P51: =INDEX(Adresy!$C$5:$C$324,MATCH(N51,Adresy!$G$5:$G$324,0),MATCH($H$2,Adresy!$C$4,0)) -> #N/A | Q51: =INDEX(Adresy!$D$5:$D$324,MATCH(N51,Adresy!$G$5:$G$324,0),MATCH($I$2,Adresy!$D$4,0)) -> #N/A | R51: =IF(C51=0,"Niepoprawnie",IF(F51=0,"Niepoprawnie",IF(J51=0,"Niepoprawnie",IF(N51=0,"Niepoprawnie",IF(E51=0,"NIEPOPRAWNIE","POPRAWNIE"))))) -> Niepoprawnie | T51: =MID(B51,1,2) | V51: 12 | AI51: 1674
A52: 50. | C52: =IF(B52<1,0,IF(B52<=999,1000000,IF(B52<=9999,100000,IF(B52<=99999,10000,IF(B52<=999999,1000,IF(B52<9999999,100)))))) -> 0 | D52: =VLOOKUP(T52,Arkusz2!B:C,2,FALSE) -> #N/A | G52: =INDEX(Adresy!$B$5:$B$324,MATCH(F52,Adresy!$G$5:$G$324,0),MATCH($G$1,Adresy!$B$3,0)) -> #N/A | H52: =INDEX(Adresy!$C$5:$C$324,MATCH(F52,Adresy!$G$5:$G$324,0),MATCH($H$2,Adresy!$C$4,0)) -> #N/A | I52: =INDEX(Adresy!$D$5:$D$324,MATCH(F52,Adresy!$G$5:$G$324,0),MATCH($I$2,Adresy!$D$4,0)) -> #N/A | K52: =INDEX(Adresy!$B$5:$B$324,MATCH(J52,Adresy!$G$5:$G$324,0),MATCH($G$1,Adresy!$B$3,0)) -> #N/A | L52: =INDEX(Adresy!$C$5:$C$324,MATCH(J52,Adresy!$G$5:$G$324,0),MATCH($H$2,Adresy!$C$4,0)) -> #N/A | M52: =INDEX(Adresy!$D$5:$D$324,MATCH(J52,Adresy!$G$5:$G$324,0),MATCH($I$2,Adresy!$D$4,0)) -> #N/A | O52: =INDEX(Adresy!$B$5:$B$324,MATCH(N52,Adresy!$G$5:$G$324,0),MATCH($G$1,Adresy!$B$3,0)) -> #N/A | P52: =INDEX(Adresy!$C$5:$C$324,MATCH(N52,Adresy!$G$5:$G$324,0),MATCH($H$2,Adresy!$C$4,0)) -> #N/A | Q52: =INDEX(Adresy!$D$5:$D$324,MATCH(N52,Adresy!$G$5:$G$324,0),MATCH($I$2,Adresy!$D$4,0)) -> #N/A | R52: =IF(C52=0,"Niepoprawnie",IF(F52=0,"Niepoprawnie",IF(J52=0,"Niepoprawnie",IF(N52=0,"Niepoprawnie",IF(E52=0,"NIEPOPRAWNIE","POPRAWNIE"))))) -> Niepoprawnie | T52: =MID(B52,1,2) | V52: 13 | AI52: 5374
...

Sheet Adresy
J2: Numeracja
A3: L.p. | B3: Nazwa | C3: Adres siedziby | E3: Adres koresp. | G3: RPT | H3: Odp. | I3: Sygnatura | J3: Korzysta z przydzielonej | M3: Korzysta z udostępnionej | P3: Udostępnia | S3: Kontakt ws numerów alarmowych | T3: Inny kontakt
C4: ulica | D4: miasto | E4: ulica | F4: miasto | J4: PSTN | K4: PLMN | L4: VoIP | M4: PSTN | N4: PLMN | O4: VoIP | P4: PSTN | Q4: PLMN | R4: VoIP
A5: 1 | B5: @ALFANET Marcin Małolepszy | C5: ul. Okólna 70 | D5: 42-200 Częstochowa | E5: ul. Okólna 70 | F5: 42-200 Częstochowa | G5: 163
A6: 2 | B6: 2A Sp. z o.o. | C6: ul. Piękna 22 | D6: 00-549 Warszawa | E6: ul. Piękna 22 | F6: 00-549 Warszawa | G6: 1001
A7: 3 | B7: 4 CARRIERS Sp. z o.o. | C7: Al. Jerozolimskie 42/67 | D7: 00-024 Warszawa | E7: Al. Jerozolimskie 42/67 | F7: 00-024 Warszawa | G7: 8941
A8: 4 | B8: AC SYSTEMY KOMPUTEROWE Stanisław Bor Sp. J. | C8: ul. Bohaterów Września 50/4 | D8: 72-600 Świnoujście | E8: ul. Bohaterów Września 50/4 | F8: 72-600 Świnoujście | G8: 2162 | H8: x | I8: DT-WGN-610-195/09 (273) | J8: x | K8: - | L8: - | M8: - | N8: - | O8: - | P8: - | Q8: - | R8: - | S8: alarmowe@acsystemy.pl
A9: 5 | B9: Aduro Network Technologies Sp. z o.o. | C9: ul. Wiejska 20/105 | D9: 87-800 Włocławek | E9: ul. Wapienna 7 | F9: 91-087 Łódź | G9: 6318
A10: 6 | B10: AERO 2 Sp. z o.o. | C10: ul. T.Chałubińskiego 8 | D10: 00-613 Warszawa | E10: ul. T.Chałubińskiego 8 | F10: 00-613 Warszawa | G10: 8223 | H10: x | I10: DT-WGN-610-195/09 (331) | J10: - | K10: x | L10: - | M10: - | N10: - | O10: - | P10: - | Q10: - | R10: - | S10: alarmowe@aero2.pl
A11: 7 | B11: Agencja Rozwoju Regionalnego ARREKS S.A. | C11: ul. Główna 122 | D11: 97-410 Kleszczów | E11: ul. Główna 122 | F11: 97-410 Kleszczów | G11: 21 | H11: x | J11: x | K11: - | L11: - | M11: - | N11: - | O11: - | P11: x Globitel | Q11: - | R11: - | S11: arturz@arreks.com.pl | T11: tel. 44 731 35 62
A12: 8 | B12: AKASHA.NET Sp. z o.o. | C12: ul. Pogodna 50A/5 | D12: 20-337 Lublin | E12: ul. Pogodna 50A/5 | F12: 20-337 Lublin | G12: 5819
A13: 9 | B13: ALFREDO-NET Andżelika Kucaj | C13: Alfredówka 72 | D13: 39-460 Nowa Dęba | E13: Alfredówka 72 | F13: 39-460 Nowa Dęba | G13: 8501
A14: 10 | B14: ALTERTEL Sp. z o.o. | C14: Al. Jerozolimskie 81 | D14: 02-001 Warszawa | E14: Al. Jerozolimskie 81 | F14: 02-001 Warszawa | G14: 8614
A15: 11 | B15: AMD Telecom S.A. | C15: 18 km Thessaloniki-Lagkadas | D15: 57200 Thessaloniki | E15: ul. Tatrzańska 10 | F15: 05-119 Legionowo | G15: 9001
A16: 12 | B16: Amson Sp. z o.o. | C16: ul. Upalna 15/1 | D16: 15-668 Białystok | E16: ul. Upalna 15/1 | F16: 15-668 Białystok | G16: 7237
A17: 13 | B17: ARPNET Wojciech Chodacki | C17: ul. Orzegowska 22 | D17: 41-700 Ruda Śląska | E17: ul. Orzegowska 22 | F17: 41-700 Ruda Śląska | G17: 7128
A18: 14 | B18: Artnet Sp. z o.o. | C18: ul. Wały Piastowskie 1/612 | D18: 80-855 Gdańsk | E18: ul. Wały Piastowskie 1/612 | F18: 80-855 Gdańsk | G18: 2168 | H18: x | I18: DT-WGN-610-195/09 (345) | J18: - | K18: - | L18: x | M18: - | N18: - | O18: x Elterix, Nettel Systems | P18: - | Q18: - | R18: - | S18: - | T18: piotr.bucior@artnet.pl
A19: 15 | B19: AS-SAT Marcin Dariusz Prymas | C19: ul. Kcyńska 14/63 | D19: 81-005 Gdynia | E19: ul. Kcyńska 14/63 | F19: 81-005 Gdynia | G19: 2887
A20: 16 | B20: ASTA-NET Małdziński, Ryczek Sp. J. | C20: ul. Drygasa 29 | D20: 64-920 Piła | E20: ul. Drygasa 29 | F20: 64-920 Piła | G20: 609 | H20: x | I20: DT-WGN-610-195/09 (324) | J20: x | K20: - | L20: - | M20: x Netia | N20: - | O20: - | P20: - | Q20: - | R20: - | S20: alarmowe@asta-net.pl
A21: 17 | B21: ASTER Sp. z o.o. | C21: ul. Domaniewska 50 | D21: 02-672 Warszawa | E21: ul. Domaniewska 50 | F21: 02-672 Warszawa | G21: 6052 | H21: x | I21: DT-WGN-610-195/09 (266) | J21: x | K21: - | L21: - | M21: x GTS Energis | N21: x Centertel | O21: - | P21: x TEL KAB BIT | Q21: - | R21: - | S21: CBD@aster.com.pl
A22: 18 | B22: AsterNet Sp. z o.o. | C22: ul. Konstytucji 3 Maja 22 | D22: 72-100 Goleniów | E22: Pl. Batorego 3 | F22: 70-207 Szczecin | G22: 5703 | H22: x | I22: DT-WGN-610-195/09 (269) | J22: x | K22: - | L22: - | M22: x Espol | N22: - | O22: - | P22: - | Q22: - | R22: - | S22: -
A23: 19 | B23: ATM S.A. | C23: ul. Grochowska 21A | D23: 04-186 Warszawa | E23: ul. Grochowska 21A | F23: 04-186 Warszawa | G23: 944
A24: 20 | B24: Awacom Sp. z o.o. | C24: ul. Pałucka 4 | D24: 89-200 Szubin | E24: ul. Fordońska 246 | F24: 85-765 Bydgoszcz | G24: 4113 | H24: x | I24: DT-WGN-610-195/09 (269) | J24: x | K24: - | L24: - | M24: x Exatel | N24: - | O24: - | P24: - | Q24: - | R24: - | S24: alarmowe@awacom.net
A25: 21 | B25: AZART-SAT Przedsiębiorstwo Usługowo Handlowe Leszek Burchardt | C25: ul. Komedy Trzcińskiego 12 | D25: 58-506 Jelenia Góra | E25: ul. Komedy Trzcińskiego 12 | F25: 58-506 Jelenia Góra | G25: 772 | H25: x | J25: - | K25: - | L25: - | M25: - | N25: - | O25: - | P25: - | Q25: - | R25: - | S25: -
A26: 22 | B26: AZSoft S.A. | C26: Al. Jana Pawła II 41 C | D26: 31-864 Kraków | E26: Al. Jana Pawła II 41 C | F26: 31-864 Kraków | G26: 1532 | H26: x | J26: x | K26: - | L26: x | M26: x GTS Energis; Polkomtel; PTC; PTK | N26: - | O26: x | P26: x | Q26: - | R26: x Asseco; Sitoma Group; AZ Security; Fundacja GD; GD Cosmetics; GD Capital; GD Energy; KTR Service | S26: alarmowe@azsoft.pl
A27: 23 | B27: BARTNET Tomasz Naruszewicz | C27: Pl. Konstytucji 3 Maja 13A | D27: 11-200 Bartoszyce | E27: Pl. Konstytucji 3 Maja 13A | F27: 11-200 Bartoszyce | G27: 4800
A28: 24 | B28: BESTGO.PL Sp. z o.o. | C28: ul. Kozia 49 | D28: 54-104 Wrocław | E28: ul. Główna 94 | F28: 54-061 Wrocław | G28: 7555
A29: 25 | B29: Betasoft Sp. z o.o. | C29: Pl. Kościuszki 9 | D29: 41-902 Bytom | E29: Pl. Warszawski 10 | F29: 41-800 Zabrze | G29: 5310 | H29: x | I29: DT-WGN-610-195/09 (334) | J29: x | K29: - | L29: - | M29: - | N29: - | O29: - | P29: - | Q29: - | R29: - | S29: alarmowe@betasoft.pl
A30: 26 | B30: BIALL-NET Sp. z o.o. | C30: Otomin, ul. Słoneczna 43 | D30: 80-174 Gdańsk | E30: Otomin, ul. Słoneczna 43 | F30: 80-174 Gdańsk | G30: 2290
A31: 27 | B31: BT Poland Sp. z o.o. | C31: Al. Armii Ludowej 14 | D31: 00-638 Warszawa | E31: Al. Armii Ludowej 14 | F31: 00-638 Warszawa | G31: 109
A32: 28 | B32: Bydgoska Telewizja Kablowa „Gawex" Paweł Karnowski Sp. J. | C32: ul. Porazińskiej 4 | D32: 85-791 Bydgoszcz | E32: ul. Porazińskiej 4 | F32: 85-791 Bydgoszcz | G32: 1794
A33: 29 | B33: Call3.PL Sp. z o.o. | C33: Al. Grunwaldzka 82 | D33: 80-244 Gdańsk | E33: Al. Grunwaldzka 82 | F33: 80-244 Gdańsk | G33: 7273 | H33: x | I33: DT-WGN-195/09 (250) | J33: - | K33: - | L33: - | M33: x Netia; NASK | N33: - | O33: - | P33: - | Q33: - | R33: - | S33: alarmowe@call3.pl
A34: 30 | B34: CenterNet S.A. | C34: ul Jana Pawła II 29 | D34: 00-867 Warszawa | E34: ul Jana Pawła II 29 | F34: 00-867 Warszawa | G34: 510 | H34: x | I34: DT-WGN-195/09 (300) | J34: - | K34: x | L34: - | M34: - | N34: x PTC | O34: - | P34: - | Q34: - | R34: - | S34: interconnect@centernet.com.pl
A35: 31 | B35: Centralny Ośrodek Informatyki Górnictwa S.A. | C35: ul. Mikołowska 100 | D35: 40-065 Katowice | E35: ul. Mikołowska 100 | F35: 40-065 Katowice | G35: 24 | H35: x | I35: DT-WGN-195/09 (267) | J35: x | K35: - | L35: - | M35: - | N35: - | O35: - | P35: - | Q35: - | R35: - | S35: alarmowe@coig.katowice.pl
A36: 32 | B36: Centrum Elektroniki Telekomunikacji i Oprogramowania CETO Sp. z o.o. | C36: ul. Rejtana 10A | D36: 35-310 Rzeszów | E36: ul. Rejtana 10A | F36: 35-310 Rzeszów | G36: 3320 | H36: x | J36: - | K36: - | L36: - | M36: - | N36: - | O36: - | P36: - | Q36: - | R36: - | S36: -
A37: 33 | B37: CENTRUM OBSŁUGI BIZNESU A. Burzawa | C37: ul. Łęczyńska 51 | D37: 20-313 Lublin | E37: ul. Łęczyńska 51 | F37: 20-313 Lublin | G37: 8330
A38: 34 | B38: City Partner Sp. z o.o. | C38: ul. Felińskiego 23/49 | D38: 31-236 Kraków | E38: ul. Felińskiego 23/49 | F38: 31-236 Kraków | G38: 6780 | H38: x | I38: DT-WGN-195/09 (244) DT-WGN-195/09 (360) | J38: nie wykorzystuje 1000 NN | K38: - | L38: - | M38: - | N38: - | O38: x GTS Energis | P38: - | Q38: - | R38: - | S38: a.samborek@citypartner.pl
A39: 35 | B39: City-Sat Gordzielik Sp. z o.o. | C39: ul. Ligonia 1 | D39: 47-100 Strzelce Opolskie | E39: ul. Ligonia 1 | F39: 47-100 Strzelce Opolskie | G39: 734 | H39: x | I39: DT-WGN-195/09 (320) | J39: x | K39: - | L39: - | M39: x Exatel | N39: - | O39: - | P39: - | Q39: - | R39: - | S39: -
A40: 36 | B40: Computex Telecommunication Sp. z o.o. | C40: ul. Trzcinowa 27 | D40: 02-446 Warszawa | E40: ul. Trzcinowa 27 | F40: 02-446 Warszawa | G40: 130
A41: 37 | B41: Concept-T Sp. z o.o. | C41: ul. Bitwy Warszawskiej 1920 r. 7A | D41: 02-366 Warszawa | E41: ul. Bitwy Warszawskiej 1920 r. 7A | F41: 02-366 Warszawa | G41: 230 | H41: x | I41: DT-WGN-610-195/09 (277) | J41: x | K41: - | L41: - | M41: x TK, GTS Energis | N41: - | O41: - | P41: x Mediatel, ATM | Q41: - | R41: - | S41: alarmowe_concept-t@mediatel.pl | T41: rezygnacja z całości numeracji
...

Sheet Arkusz2
A1: 12 | B1: =MID(A1,1,2) -> 12 | C1: Numeracja abonencka dla sieci PSTN
A2: 13 | B2: =MID(A2,1,2) -> 13 | C2: Numeracja abonencka dla sieci PSTN
A3: 14 | B3: =MID(A3,1,2) -> 14 | C3: Numeracja abonencka dla sieci PSTN
A4: 15 | B4: =MID(A4,1,2) -> 15 | C4: Numeracja abonencka dla sieci PSTN
A5: 16 | B5: =MID(A5,1,2) -> 16 | C5: Numeracja abonencka dla sieci PSTN
A6: 17 | B6: =MID(A6,1,2) -> 17 | C6: Numeracja abonencka dla sieci PSTN
A7: 18 | B7: =MID(A7,1,2) -> 18 | C7: Numeracja abonencka dla sieci PSTN
A8: 22 | B8: =MID(A8,1,2) -> 22 | C8: Numeracja abonencka dla sieci PSTN
A9: 23 | B9: =MID(A9,1,2) -> 23 | C9: Numeracja abonencka dla sieci PSTN
A10: 24 | B10: =MID(A10,1,2) -> 24 | C10: Numeracja abonencka dla sieci PSTN
A11: 25 | B11: =MID(A11,1,2) -> 25 | C11: Numeracja abonencka dla sieci PSTN
A12: 29 | B12: =MID(A12,1,2) -> 29 | C12: Numeracja abonencka dla sieci PSTN
... A65: 39 | B65: =MID(A65,1,2) -> 39 | C65: Numeracja niegeograficzna(o wyróżniku sieci WST AB=39)
