Workbook

Sheet Arkusz1
A1: Lp. | B1: Zakres udostępnionej numeracji (osobne zakresy w kolejnych wierszach), minimalny zakres numeracji to 100 numerów, format: ABSPQMC, lub ABSPQM, lub ABSPQ, lub ABSP, lub ABS. | C1: Ilość numerów , dozwolone wartości to: 100, 1 000, 10 000, 100 000, 1 000 000 | D1: Typ numeracji: | E1: Interconnect (czy jest sygnalizacja SS7: TAK/NIE) | F1: Identyfikator z rejestru przedsiębiorców telekomunikacyjnych UKE, któremu został przydzielony dany zakres numeracji w drodze decyzji administracyjnej.. | G1: Nazwa | H1: Adres siedziby | J1: Identyfikator aktualnego dostawcy usług (zgodnie z rejestrem przedsiębiorców telekomunikacyjnych w UKE) wykorzystującego numerację na bazie art. 128 | K1: Nazwa | L1: Adres siedziby | N1: Identyfikator operatora macierzystego dla danego typu numeracji z punktu widzenia technicznego (gdzie jest zaimplementowana technicznie numeracja). | O1: Nazwa | P1: Adres siedziby | R1: Poprawność wpisu
H2: ulica | I2: miasto | L2: ulica | M2: miasto | P2: ulica | Q2: miasto
A3: 1. | C3: =IF(B3<1,0,IF(B3<=999,1000000,IF(B3<=9999,100000,IF(B3<=99999,10000,IF(B3<=999999,1000,IF(B3<9999999,100)))))) -> 0 | D3: =VLOOKUP(T3,Arkusz2!B:C,2,FALSE) -> #N/A | G3: =INDEX(Adresy!$B$5:$B$324,MATCH(F3,Adresy!$G$5:$G$324,0),MATCH($G$1,Adresy!$B$3,0)) -> #N/A | H3: =INDEX(Adresy!$C$5:$C$324,MATCH(F3,Adresy!$G$5:$G$324,0),MATCH($H$2,Adresy!$C$4,0)) -> #N/A | I3: =INDEX(Adresy!$D$5:$D$324,MATCH(F3,Adresy!$G$5:$G$324,0),MATCH($I$2,Adresy!$D$4,0)) -> #N/A | K3: =INDEX(Adresy!$B$5:$B$324,MATCH(J3,Adresy!$G$5:$G$324,0),MATCH($G$1,Adresy!$B$3,0)) -> #N/A | L3: =INDEX(Adresy!$C$5:$C$324,MATCH(J3,Adresy!$G$5:$G$324,0),MATCH($H$2,Adresy!$C$4,0)) -> #N/A | M3: =INDEX(Adresy!$D$5:$D$324,MATCH(J3,Adresy!$G$5:$G$324,0),MATCH($I$2,Adresy!$D$4,0)) -> #N/A | O3: =INDEX(Adresy!$B$5:$B$324,MATCH(N3,Adresy!$G$5:$G$324,0),MATCH($G$1,Adresy!$B$3,0)) -> #N/A | P3: =INDEX(Adresy!$C$5:$C$324,MATCH(N3,Adresy!$G$5:$G$324,0),MATCH($H$2,Adresy!$C$4,0)) -> #N/A | Q3: =INDEX(Adresy!$D$5:$D$324,MATCH(N3,Adresy!$G$5:$G$324,0),MATCH($I$2,Adresy!$D$4,0)) -> #N/A | R3: =IF(C3=0,"Niepoprawnie",IF(F3=0,"Niepoprawnie",IF(J3=0,"Niepoprawnie",IF(N3=0,"Niepoprawnie",IF(E3=0,"NIEPOPRAWNIE","POPRAWNIE"))))) -> Niepoprawnie | T3: =MID(B3,1,2)
A4: 2. | C4: =IF(B4<1,0,IF(B4<=999,1000000,IF(B4<=9999,100000,IF(B4<=99999,10000,IF(B4<=999999,1000,IF(B4<9999999,100)))))) -> 0 | D4: =VLOOKUP(T4,Arkusz2!B:C,2,FALSE) -> #N/A | G4: =INDEX(Adresy!$B$5:$B$324,MATCH(F4,Adresy!$G$5:$G$324,0),MATCH($G$1,Adresy!$B$3,0)) -> #N/A | H4: =INDEX(Adresy!$C$5:$C$324,MATCH(F4,Adresy!$G$5:$G$324,0),MATCH($H$2,Adresy!$C$4,0)) -> #N/A | I4: =INDEX(Adresy!$D$5:$D$324,MATCH(F4,Adresy!$G$5:$G$324,0),MATCH($I$2,Adresy!$D$4,0)) -> #N/A | K4: =INDEX(Adresy!$B$5:$B$324,MATCH(J4,Adresy!$G$5:$G$324,0),MATCH($G$1,Adresy!$B$3,0)) -> #N/A | L4: =INDEX(Adresy!$C$5:$C$324,MATCH(J4,Adresy!$G$5:$G$324,0),MATCH($H$2,Adresy!$C$4,0)) -> #N/A | M4: =INDEX(Adresy!$D$5:$D$324,MATCH(J4,Adresy!$G$5:$G$324,0),MATCH($I$2,Adresy!$D$4,0)) -> #N/A | O4: =INDEX(Adresy!$B$5:$B$324,MATCH(N4,Adresy!$G$5:$G$324,0),MATCH($G$1,Adresy!$B$3,0)) -> #N/A | P4: =INDEX(Adresy!$C$5:$C$324,MATCH(N4,Adresy!$G$5:$G$324,0),MATCH($H$2,Adresy!$C$4,0)) -> #N/A | Q4: =INDEX(Adresy!$D$5:$D$324,MATCH(N4,Adresy!$G$5:$G$324,0),MATCH($I$2,Adresy!$D$4,0)) -> #N/A | R4: =IF(C4=0,"Niepoprawnie",IF(F4=0,"Niepoprawnie",IF(J4=0,"Niepoprawnie",IF(N4=0,"Niepoprawnie",IF(E4=0,"NIEPOPRAWNIE","POPRAWNIE"))))) -> Niepoprawnie | T4: =MID(B4,1,2) | V4: TAK
A5: 3. | C5: =IF(B5<1,0,IF(B5<=999,1000000,IF(B5<=9999,100000,IF(B5<=99999,10000,IF(B5<=999999,1000,IF(B5<9999999,100)))))) -> 0 | D5: =VLOOKUP(T5,Arkusz2!B:C,2,FALSE) -> #N/A | G5: =INDEX(Adresy!$B$5:$B$324,MATCH(F5,Adresy!$G$5:$G$324,0),MATCH($G$1,Adresy!$B$3,0)) -> #N/A | H5: =INDEX(Adresy!$C$5:$C$324,MATCH(F5,Adresy!$G$5:$G$324,0),MATCH($H$2,Adresy!$C$4,0)) -> #N/A | I5: =INDEX(Adresy!$D$5:$D$324,MATCH(F5,Adresy!$G$5:$G$324,0),MATCH($I$2,Adresy!$D$4,0)) -> #N/A | K5: =INDEX(Adresy!$B$5:$B$324,MATCH(J5,Adresy!$G$5:$G$324,0),MATCH($G$1,Adresy!$B$3,0)) -> #N/A | L5: =INDEX(Adresy!$C$5:$C$324,MATCH(J5,Adresy!$G$5:$G$324,0),MATCH($H$2,Adresy!$C$4,0)) -> #N/A | M5: =INDEX(Adresy!$D$5:$D$324,MATCH(J5,Adresy!$G$5:$G$324,0),MATCH($I$2,Adresy!$D$4,0)) -> #N/A | O5: =INDEX(Adresy!$B$5:$B$324,MATCH(N5,Adresy!$G$5:$G$324,0),MATCH($G$1,Adresy!$B$3,0)) -> #N/A | P5: =INDEX(Adresy!$C$5:$C$324,MATCH(N5,Adresy!$G$5:$G$324,0),MATCH($H$2,Adresy!$C$4,0)) -> #N/A | Q5: =INDEX(Adresy!$D$5:$D$324,MATCH(N5,Adresy!$G$5:$G$324,0),MATCH($I$2,Adresy!$D$4,0)) -> #N/A | R5: =IF(C5=0,"Niepoprawnie",IF(F5=0,"Niepoprawnie",IF(J5=0,"Niepoprawnie",IF(N5=0,"Niepoprawnie",IF(E5=0,"NIEPOPRAWNIE","POPRAWNIE"))))) -> Niepoprawnie | T5: =MID(B5,1,2) | V5: NIE | AI5: 1001
A6: 4. | C6: =IF(B6<1,0,IF(B6<=999,1000000,IF(B6<=9999,100000,IF(B6<=99999,10000,IF(B6<=999999,1000,IF(B6<9999999,100)))))) -> 0 | D6: =VLOOKUP(T6,Arkusz2!B:C,2,FALSE) -> #N/A | G6: =INDEX(Adresy!$B$5:$B$324,MATCH(F6,Adresy!$G$5:$G$324,0),MATCH($G$1,Adresy!$B$3,0)) -> #N/A | H6: =INDEX(Adresy!$C$5:$C$324,MATCH(F6,Adresy!$G$5:$G$324,0),MATCH($H$2,Adresy!$C$4,0)) -> #N/A | I6: =INDEX(Adresy!$D$5:$D$324,MATCH(F6,Adresy!$G$5:$G$324,0),MATCH($I$2,Adresy!$D$4,0)) -> #N/A | K6: =INDEX(Adresy!$B$5:$B$324,MATCH(J6,Adresy!$G$5:$G$324,0),MATCH($G$1,Adresy!$B$3,0)) -> #N/A | L6: =INDEX(Adresy!$C$5:$C$324,MATCH(J6,Adresy!$G$5:$G$324,0),MATCH($H$2,Adresy!$C$4,0)) -> #N/A | M6: =INDEX(Adresy!$D$5:$D$324,MATCH(J6,Adresy!$G$5:$G$324,0),MATCH($I$2,Adresy!$D$4,0)) -> #N/A | O6: =INDEX(Adresy!$B$5:$B$324,MATCH(N6,Adresy!$G$5:$G$324,0),MATCH($G$1,Adresy!$B$3,0)) -> #N/A | P6: =INDEX(Adresy!$C$5:$C$324,MATCH(N6,Adresy!$G$5:$G$324,0),MATCH($H$2,Adresy!$C$4,0)) -> #N/A | Q6: =INDEX(Adresy!$D$5:$D$324,MATCH(N6,Adresy!$G$5:$G$324,0),MATCH($I$2,Adresy!$D$4,0)) -> #N/A | R6: =IF(C6=0,"Niepoprawnie",IF(F6=0,"Niepoprawnie",IF(J6=0,"Niepoprawnie",IF(N6=0,"Niepoprawnie",IF(E6=0,"NIEPOPRAWNIE","POPRAWNIE"))))) -> Niepoprawnie | T6: =MID(B6,1,2) | V6: A | AI6: 2162
A7: 5. | C7: =IF(B7<1,0,IF(B7<=999,1000000,IF(B7<=9999,100000,IF(B7<=99999,10000,IF(B7<=999999,1000,IF(B7<9999999,100)))))) -> 0 | D7: =VLOOKUP(T7,Arkusz2!B:C,2,FALSE) -> #N/A | G7: =INDEX(Adresy!$B$5:$B$324,MATCH(F7,Adresy!$G$5:$G$324,0),MATCH($G$1,Adresy!$B$3,0)) -> #N/A | H7: =INDEX(Adresy!$C$5:$C$324,MATCH(F7,Adresy!$G$5:$G$324,0),MATCH($H$2,Adresy!$C$4,0)) -> #N/A | I7: =INDEX(Adresy!$D$5:$D$324,MATCH(F7,Adresy!$G$5:$G$324,0),MATCH($I$2,Adresy!$D$4,0)) -> #N/A | K7: =INDEX(Adresy!$B$5:$B$324,MATCH(J7,Adresy!$G$5:$G$324,0),MATCH($G$1,Adresy!$B$3,0)) -> #N/A | L7: =INDEX(Adresy!$C$5:$C$324,MATCH(J7,Adresy!$G$5:$G$324,0),MATCH($H$2,Adresy!$C$4,0)) -> #N/A | M7: =INDEX(Adresy!$D$5:$D$324,MATCH(J7,Adresy!$G$5:$G$324,0),MATCH($I$2,Adresy!$D$4,0)) -> #N/A | O7: =INDEX(Adresy!$B$5:$B$324,MATCH(N7,Adresy!$G$5:$G$324,0),MATCH($G$1,Adresy!$B$3,0)) -> #N/A | P7: =INDEX(Adresy!$C$5:$C$324,MATCH(N7,Adresy!$G$5:$G$324,0),MATCH($H$2,Adresy!$C$4,0)) -> #N/A | Q7: =INDEX(Adresy!$D$5:$D$324,MATCH(N7,Adresy!$G$5:$G$324,0),MATCH($I$2,Adresy!$D$4,0)) -> #N/A | R7: =IF(C7=0,"Niepoprawnie",IF(F7=0,"Niepoprawnie",IF(J7=0,"Niepoprawnie",IF(N7=0,"Niepoprawnie",IF(E7=0,"NIEPOPRAWNIE","POPRAWNIE"))))) -> Niepoprawnie | T7: =MID(B7,1,2) | U7: NIE | AI7: 8223
A8: 6. | C8: =IF(B8<1,0,IF(B8<=999,1000000,IF(B8<=9999,100000,IF(B8<=99999,10000,IF(B8<=999999,1000,IF(B8<9999999,100)))))) -> 0 | D8: =VLOOKUP(T8,Arkusz2!B:C,2,FALSE) -> #N/A | G8: =INDEX(Adresy!$B$5:$B$324,MATCH(F8,Adresy!$G$5:$G$324,0),MATCH($G$1,Adresy!$B$3,0)) -> #N/A | H8: =INDEX(Adresy!$C$5:$C$324,MATCH(F8,Adresy!$G$5:$G$324,0),MATCH($H$2,Adresy!$C$4,0)) -> #N/A | I8: =INDEX(Adresy!$D$5:$D$324,MATCH(F8,Adresy!$G$5:$G$324,0),MATCH($I$2,Adresy!$D$4,0)) -> #N/A | K8: =INDEX(Adresy!$B$5:$B$324,MATCH(J8,Adresy!$G$5:$G$324,0),MATCH($G$1,Adresy!$B$3,0)) -> #N/A | L8: =INDEX(Adresy!$C$5:$C$324,MATCH(J8,Adresy!$G$5:$G$324,0),MATCH($H$2,Adresy!$C$4,0)) -> #N/A | M8: =INDEX(Adresy!$D$5:$D$324,MATCH(J8,Adresy!$G$5:$G$324,0),MATCH($I$2,Adresy!$D$4,0)) -> #N/A | O8: =INDEX(Adresy!$B$5:$B$324,MATCH(N8,Adresy!$G$5:$G$324,0),MATCH($G$1,Adresy!$B$3,0)) -> #N/A | P8: =INDEX(Adresy!$C$5:$C$324,MATCH(N8,Adresy!$G$5:$G$324,0),MATCH($H$2,Adresy!$C$4,0)) -> #N/A | Q8: =INDEX(Adresy!$D$5:$D$324,MATCH(N8,Adresy!$G$5:$G$324,0),MATCH($I$2,Adresy!$D$4,0)) -> #N/A | R8: =IF(C8=0,"Niepoprawnie",IF(F8=0,"Niepoprawnie",IF(J8=0,"Niepoprawnie",IF(N8=0,"Niepoprawnie",IF(E8=0,"NIEPOPRAWNIE","POPRAWNIE"))))) -> Niepoprawnie | T8: =MID(B8,1,2) | AI8: 21
A9: 7. | C9: =IF(B9<1,0,IF(B9<=999,1000000,IF(B9<=9999,100000,IF(B9<=99999,10000,IF(B9<=999999,1000,IF(B9<9999999,100)))))) -> 0 | D9: =VLOOKUP(T9,Arkusz2!B:C,2,FALSE) -> #N/A | G9: =INDEX(Adresy!$B$5:$B$324,MATCH(F9,Adresy!$G$5:$G$324,0),MATCH($G$1,Adresy!$B$3,0)) -> #N/A | H9: =INDEX(Adresy!$C$5:$C$324,MATCH(F9,Adresy!$G$5:$G$324,0),MATCH($H$2,Adresy!$C$4,0)) -> #N/A | I9: =INDEX(Adresy!$D$5:$D$324,MATCH(F9,Adresy!$G$5:$G$324,0),MATCH($I$2,Adresy!$D$4,0)) -> #N/A | K9: =INDEX(Adresy!$B$5:$B$324,MATCH(J9,Adresy!$G$5:$G$324,0),MATCH($G$1,Adresy!$B$3,0)) -> #N/A | L9: =INDEX(Adresy!$C$5:$C$324,MATCH(J9,Adresy!$G$5:$G$324,0),MATCH($H$2,Adresy!$C$4,0)) -> #N/A | M9: =INDEX(Adresy!$D$5:$D$324,MATCH(J9,Adresy!$G$5:$G$324,0),MATCH($I$2,Adresy!$D$4,0)) -> #N/A | O9: =INDEX(Adresy!$B$5:$B$324,MATCH(N9,Adresy!$G$5:$G$324,0),MATCH($G$1,Adresy!$B$3,0)) -> #N/A | P9: =INDEX(Adresy!$C$5:$C$324,MATCH(N9,Adresy!$G$5:$G$324,0),MATCH($H$2,Adresy!$C$4,0)) -> #N/A | Q9: =INDEX(Adresy!$D$5:$D$324,MATCH(N9,Adresy!$G$5:$G$324,0),MATCH($I$2,Adresy!$D$4,0)) -> #N/A | R9: =IF(C9=0,"Niepoprawnie",IF(F9=0,"Niepoprawnie",IF(J9=0,"Niepoprawnie",IF(N9=0,"Niepoprawnie",IF(E9=0,"NIEPOPRAWNIE","POPRAWNIE"))))) -> Niepoprawnie | T9: =MID(B9,1,2) | Y9: 100 | AI9: 7237
A10: 8. | C10: =IF(B10<1,0,IF(B10<=999,1000000,IF(B10<=9999,100000,IF(B10<=99999,10000,IF(B10<=999999,1000,IF(B10<9999999,100)))))) -> 0 | D10: =VLOOKUP(T10,Arkusz2!B:C,2,FALSE) -> #N/A | G10: =INDEX(Adresy!$B$5:$B$324,MATCH(F10,Adresy!$G$5:$G$324,0),MATCH($G$1,Adresy!$B$3,0)) -> #N/A | H10: =INDEX(Adresy!$C$5:$C$324,MATCH(F10,Adresy!$G$5:$G$324,0),MATCH($H$2,Adresy!$C$4,0)) -> #N/A | I10: =INDEX(Adresy!$D$5:$D$324,MATCH(F10,Adresy!$G$5:$G$324,0),MATCH($I$2,Adresy!$D$4,0)) -> #N/A | K10: =INDEX(Adresy!$B$5:$B$324,MATCH(J10,Adresy!$G$5:$G$324,0),MATCH($G$1,Adresy!$B$3,0)) -> #N/A | L10: =INDEX(Adresy!$C$5:$C$324,MATCH(J10,Adresy!$G$5:$G$324,0),MATCH($H$2,Adresy!$C$4,0)) -> #N/A | M10: =INDEX(Adresy!$D$5:$D$324,MATCH(J10,Adresy!$G$5:$G$324,0),MATCH($I$2,Adresy!$D$4,0)) -> #N/A | O10: =INDEX(Adresy!$B$5:$B$324,MATCH(N10,Adresy!$G$5:$G$324,0),MATCH($G$1,Adresy!$B$3,0)) -> #N/A | P10: =INDEX(Adresy!$C$5:$C$324,MATCH(N10,Adresy!$G$5:$G$324,0),MATCH($H$2,Adresy!$C$4,0)) -> #N/A | Q10: =INDEX(Adresy!$D$5:$D$324,MATCH(N10,Adresy!$G$5:$G$324,0),MATCH($I$2,Adresy!$D$4,0)) -> #N/A | R10: =IF(C10=0,"Niepoprawnie",IF(F10=0,"Niepoprawnie",IF(J10=0,"Niepoprawnie",IF(N10=0,"Niepoprawnie",IF(E10=0,"NIEPOPRAWNIE","POPRAWNIE"))))) -> Niepoprawnie | T10: =MID(B10,1,2) | Y10: 1000 | AI10: 2168
A11: 9. | C11: =IF(B11<1,0,IF(B11<=999,1000000,IF(B11<=9999,100000,IF(B11<=99999,10000,IF(B11<=999999,1000,IF(B11<9999999,100)))))) -> 0 | D11: =VLOOKUP(T11,Arkusz2!B:C,2,FALSE) -> #N/A | G11: =INDEX(Adresy!$B$5:$B$324,MATCH(F11,Adresy!$G$5:$G$324,0),MATCH($G$1,Adresy!$B$3,0)) -> #N/A | H11: =INDEX(Adresy!$C$5:$C$324,MATCH(F11,Adresy!$G$5:$G$324,0),MATCH($H$2,Adresy!$C$4,0)) -> #N/A | I11: =INDEX(Adresy!$D$5:$D$324,MATCH(F11,Adresy!$G$5:$G$324,0),MATCH($I$2,Adresy!$D$4,0)) -> #N/A | K11: =INDEX(Adresy!$B$5:$B$324,MATCH(J11,Adresy!$G$5:$G$324,0),MATCH($G$1,Adresy!$B$3,0)) -> #N/A | L11: =INDEX(Adresy!$C$5:$C$324,MATCH(J11,Adresy!$G$5:$G$324,0),MATCH($H$2,Adresy!$C$4,0)) -> #N/A | M11: =INDEX(Adresy!$D$5:$D$324,MATCH(J11,Adresy!$G$5:$G$324,0),MATCH($I$2,Adresy!$D$4,0)) -> #N/A | O11: =INDEX(Adresy!$B$5:$B$324,MATCH(N11,Adresy!$G$5:$G$324,0),MATCH($G$1,Adresy!$B$3,0)) -> #N/A | P11: =INDEX(Adresy!$C$5:$C$324,MATCH(N11,Adresy!$G$5:$G$324,0),MATCH($H$2,Adresy!$C$4,0)) -> #N/A | Q11: =INDEX(Adresy!$D$5:$D$324,MATCH(N11,Adresy!$G$5:$G$324,0),MATCH($I$2,Adresy!$D$4,0)) -> #N/A | R11: =IF(C11=0,"Niepoprawnie",IF(F11=0,"Niepoprawnie",IF(J11=0,"Niepoprawnie",IF(N11=0,"Niepoprawnie",IF(E11=0,"NIEPOPRAWNIE","POPRAWNIE"))))) -> Niepoprawnie | T11: =MID(B11,1,2) | Y11: 10000 | AI11: 2887
A12: 10. | C12: =IF(B12<1,0,IF(B12<=999,1000000,IF(B12<=9999,100000,IF(B12<=99999,10000,IF(B12<=999999,1000,IF(B12<9999999,100)))))) -> 0 | D12: =VLOOKUP(T12,Arkusz2!B:C,2,FALSE) -> #N/A | G12: =INDEX(Adresy!$B$5:$B$324,MATCH(F12,Adresy!$G$5:$G$324,0),MATCH($G$1,Adresy!$B$3,0)) -> #N/A | H12: =INDEX(Adresy!$C$5:$C$324,MATCH(F12,Adresy!$G$5:$G$324,0),MATCH($H$2,Adresy!$C$4,0)) -> #N/A | I12: =INDEX(Adresy!$D$5:$D$324,MATCH(F12,Adresy!$G$5:$G$324,0),MATCH($I$2,Adresy!$D$4,0)) -> #N/A | K12: =INDEX(Adresy!$B$5:$B$324,MATCH(J12,Adresy!$G$5:$G$324,0),MATCH($G$1,Adresy!$B$3,0)) -> #N/A | L12: =INDEX(Adresy!$C$5:$C$324,MATCH(J12,Adresy!$G$5:$G$324,0),MATCH($H$2,Adresy!$C$4,0)) -> #N/A | M12: =INDEX(Adresy!$D$5:$D$324,MATCH(J12,Adresy!$G$5:$G$324,0),MATCH($I$2,Adresy!$D$4,0)) -> #N/A | O12: =INDEX(Adresy!$B$5:$B$324,MATCH(N12,Adresy!$G$5:$G$324,0),MATCH($G$1,Adresy!$B$3,0)) -> #N/A | P12: =INDEX(Adresy!$C$5:$C$324,MATCH(N12,Adresy!$G$5:$G$324,0),MATCH($H$2,Adresy!$C$4,0)) -> #N/A | Q12: =INDEX(Adresy!$D$5:$D$324,MATCH(N12,Adresy!$G$5:$G$324,0),MATCH($I$2,Adresy!$D$4,0)) -> #N/A | R12: =IF(C12=0,"Niepoprawnie",IF(F12=0,"Niepoprawnie",IF(J12=0,"Niepoprawnie",IF(N12=0,"Niepoprawnie",IF(E12=0,"NIEPOPRAWNIE","POPRAWNIE"))))) -> Niepoprawnie | T12: =MID(B12,1,2) | V12: S | Y12: 100000 | AI12: 609
A13: 11. | C13: =IF(B13<1,0,IF(B13<=999,1000000,IF(B13<=9999,100000,IF(B13<=99999,10000,IF(B13<=999999,1000,IF(B13<9999999,100)))))) -> 0 | D13: =VLOOKUP(T13,Arkusz2!B:C,2,FALSE) -> #N/A | G13: =INDEX(Adresy!$B$5:$B$324,MATCH(F13,Adresy!$G$5:$G$324,0),MATCH($G$1,Adresy!$B$3,0)) -> #N/A | H13: =INDEX(Adresy!$C$5:$C$324,MATCH(F13,Adresy!$G$5:$G$324,0),MATCH($H$2,Adresy!$C$4,0)) -> #N/A | I13: =INDEX(Adresy!$D$5:$D$324,MATCH(F13,Adresy!$G$5:$G$324,0),MATCH($I$2,Adresy!$D$4,0)) -> #N/A | K13: =INDEX(Adresy!$B$5:$B$324,MATCH(J13,Adresy!$G$5:$G$324,0),MATCH($G$1,Adresy!$B$3,0)) -> #N/A | L13: =INDEX(Adresy!$C$5:$C$324,MATCH(J13,Adresy!$G$5:$G$324,0),MATCH($H$2,Adresy!$C$4,0)) -> #N/A | M13: =INDEX(Adresy!$D$5:$D$324,MATCH(J13,Adresy!$G$5:$G$324,0),MATCH($I$2,Adresy!$D$4,0)) -> #N/A | O13: =INDEX(Adresy!$B$5:$B$324,MATCH(N13,Adresy!$G$5:$G$324,0),MATCH($G$1,Adresy!$B$3,0)) -> #N/A | P13: =INDEX(Adresy!$C$5:$C$324,MATCH(N13,Adresy!$G$5:$G$324,0),MATCH($H$2,Adresy!$C$4,0)) -> #N/A | Q13: =INDEX(Adresy!$D$5:$D$324,MATCH(N13,Adresy!$G$5:$G$324,0),MATCH($I$2,Adresy!$D$4,0)) -> #N/A | R13: =IF(C13=0,"Niepoprawnie",IF(F13=0,"Niepoprawnie",IF(J13=0,"Niepoprawnie",IF(N13=0,"Niepoprawnie",IF(E13=0,"NIEPOPRAWNIE","POPRAWNIE"))))) -> Niepoprawnie | T13: =MID(B13,1,2) | Y13: 1000000 | AI13: 6052
A14: 12. | C14: =IF(B14<1,0,IF(B14<=999,1000000,IF(B14<=9999,100000,IF(B14<=99999,10000,IF(B14<=999999,1000,IF(B14<9999999,100)))))) -> 0 | D14: =VLOOKUP(T14,Arkusz2!B:C,2,FALSE) -> #N/A | G14: =INDEX(Adresy!$B$5:$B$324,MATCH(F14,Adresy!$G$5:$G$324,0),MATCH($G$1,Adresy!$B$3,0)) -> #N/A | H14: =INDEX(Adresy!$C$5:$C$324,MATCH(F14,Adresy!$G$5:$G$324,0),MATCH($H$2,Adresy!$C$4,0)) -> #N/A | I14: =INDEX(Adresy!$D$5:$D$324,MATCH(F14,Adresy!$G$5:$G$324,0),MATCH($I$2,Adresy!$D$4,0)) -> #N/A | K14: =INDEX(Adresy!$B$5:$B$324,MATCH(J14,Adresy!$G$5:$G$324,0),MATCH($G$1,Adresy!$B$3,0)) -> #N/A | L14: =INDEX(Adresy!$C$5:$C$324,MATCH(J14,Adresy!$G$5:$G$324,0),MATCH($H$2,Adresy!$C$4,0)) -> #N/A | M14: =INDEX(Adresy!$D$5:$D$324,MATCH(J14,Adresy!$G$5:$G$324,0),MATCH($I$2,Adresy!$D$4,0)) -> #N/A | O14: =INDEX(Adresy!$B$5:$B$324,MATCH(N14,Adresy!$G$5:$G$324,0),MATCH($G$1,Adresy!$B$3,0)) -> #N/A | P14: =INDEX(Adresy!$C$5:$C$324,MATCH(N14,Adresy!$G$5:$G$324,0),MATCH($H$2,Adresy!$C$4,0)) -> #N/A | Q14: =INDEX(Adresy!$D$5:$D$324,MATCH(N14,Adresy!$G$5:$G$324,0),MATCH($I$2,Adresy!$D$4,0)) -> #N/A | R14: =IF(C14=0,"Niepoprawnie",IF(F14=0,"Niepoprawnie",IF(J14=0,"Niepoprawnie",IF(N14=0,"Niepoprawnie",IF(E14=0,"NIEPOPRAWNIE","POPRAWNIE"))))) -> Niepoprawnie | T14: =MID(B14,1,2) | AI14: 5703
A15: 13. | C15: =IF(B15<1,0,IF(B15<=999,1000000,IF(B15<=9999,100000,IF(B15<=99999,10000,IF(B15<=999999,1000,IF(B15<9999999,100)))))) -> 0 | D15: =VLOOKUP(T15,Arkusz2!B:C,2,FALSE) -> #N/A | G15: =INDEX(Adresy!$B$5:$B$324,MATCH(F15,Adresy!$G$5:$G$324,0),MATCH($G$1,Adresy!$B$3,0)) -> #N/A | H15: =INDEX(Adresy!$C$5:$C$324,MATCH(F15,Adresy!$G$5:$G$324,0),MATCH($H$2,Adresy!$C$4,0)) -> #N/A | I15: =INDEX(Adresy!$D$5:$D$324,MATCH(F15,Adresy!$G$5:$G$324,0),MATCH($I$2,Adresy!$D$4,0)) -> #N/A | K15: =INDEX(Adresy!$B$5:$B$324,MATCH(J15,Adresy!$G$5:$G$324,0),MATCH($G$1,Adresy!$B$3,0)) -> #N/A | L15: =INDEX(Adresy!$C$5:$C$324,MATCH(J15,Adresy!$G$5:$G$324,0),MATCH($H$2,Adresy!$C$4,0)) -> #N/A | M15: =INDEX(Adresy!$D$5:$D$324,MATCH(J15,Adresy!$G$5:$G$324,0),MATCH($I$2,Adresy!$D$4,0)) -> #N/A | O15: =INDEX(Adresy!$B$5:$B$324,MATCH(N15,Adresy!$G$5:$G$324,0),MATCH($G$1,Adresy!$B$3,0)) -> #N/A | P15: =INDEX(Adresy!$C$5:$C$324,MATCH(N15,Adresy!$G$5:$G$324,0),MATCH($H$2,Adresy!$C$4,0)) -> #N/A | Q15: =INDEX(Adresy!$D$5:$D$324,MATCH(N15,Adresy!$G$5:$G$324,0),MATCH($I$2,Adresy!$D$4,0)) -> #N/A | R15: =IF(C15=0,"Niepoprawnie",IF(F15=0,"Niepoprawnie",IF(J15=0,"Niepoprawnie",IF(N15=0,"Niepoprawnie",IF(E15=0,"NIEPOPRAWNIE","POPRAWNIE"))))) -> Niepoprawnie | T15: =MID(B15,1,2) | AI15: 944
A16: 14. | C16: =IF(B16<1,0,IF(B16<=999,1000000,IF(B16<=9999,100000,IF(B16<=99999,10000,IF(B16<=999999,1000,IF(B16<9999999,100)))))) -> 0 | D16: =VLOOKUP(T16,Arkusz2!B:C,2,FALSE) -> #N/A | G16: =INDEX(Adresy!$B$5:$B$324,MATCH(F16,Adresy!$G$5:$G$324,0),MATCH($G$1,Adresy!$B$3,0)) -> #N/A | H16: =INDEX(Adresy!$C$5:$C$324,MATCH(F16,Adresy!$G$5:$G$324,0),MATCH($H$2,Adresy!$C$4,0)) -> #N/A | I16: =INDEX(Adresy!$D$5:$D$324,MATCH(F16,Adresy!$G$5:$G$324,0),MATCH($I$2,Adresy!$D$4,0)) -> #N/A | K16: =INDEX(Adresy!$B$5:$B$324,MATCH(J16,Adresy!$G$5:$G$324,0),MATCH($G$1,Adresy!$B$3,0)) -> #N/A | L16: =INDEX(Adresy!$C$5:$C$324,MATCH(J16,Adresy!$G$5:$G$324,0),MATCH($H$2,Adresy!$C$4,0)) -> #N/A | M16: =INDEX(Adresy!$D$5:$D$324,MATCH(J16,Adresy!$G$5:$G$324,0),MATCH($I$2,Adresy!$D$4,0)) -> #N/A | O16: =INDEX(Adresy!$B$5:$B$324,MATCH(N16,Adresy!$G$5:$G$324,0),MATCH($G$1,Adresy!$B$3,0)) -> #N/A | P16: =INDEX(Adresy!$C$5:$C$324,MATCH(N16,Adresy!$G$5:$G$324,0),MATCH($H$2,Adresy!$C$4,0)) -> #N/A | Q16: =INDEX(Adresy!$D$5:$D$324,MATCH(N16,Adresy!$G$5:$G$324,0),MATCH($I$2,Adresy!$D$4,0)) -> #N/A | R16: =IF(C16=0,"Niepoprawnie",IF(F16=0,"Niepoprawnie",IF(J16=0,"Niepoprawnie",IF(N16=0,"Niepoprawnie",IF(E16=0,"NIEPOPRAWNIE","POPRAWNIE"))))) -> Niepoprawnie | T16: =MID(B16,1,2) | Y16: 1000000 | AI16: 4113
A17: 15. | C17: =IF(B17<1,0,IF(B17<=999,1000000,IF(B17<=9999,100000,IF(B17<=99999,10000,IF(B17<=999999,1000,IF(B17<9999999,100)))))) -> 0 | D17: =VLOOKUP(T17,Arkusz2!B:C,2,FALSE) -> #N/A | G17: =INDEX(Adresy!$B$5:$B$324,MATCH(F17,Adresy!$G$5:$G$324,0),MATCH($G$1,Adresy!$B$3,0)) -> #N/A | H17: =INDEX(Adresy!$C$5:$C$324,MATCH(F17,Adresy!$G$5:$G$324,0),MATCH($H$2,Adresy!$C$4,0)) -> #N/A | I17: =INDEX(Adresy!$D$5:$D$324,MATCH(F17,Adresy!$G$5:$G$324,0),MATCH($I$2,Adresy!$D$4,0)) -> #N/A | K17: =INDEX(Adresy!$B$5:$B$324,MATCH(J17,Adresy!$G$5:$G$324,0),MATCH($G$1,Adresy!$B$3,0)) -> #N/A | L17: =INDEX(Adresy!$C$5:$C$324,MATCH(J17,Adresy!$G$5:$G$324,0),MATCH($H$2,Adresy!$C$4,0)) -> #N/A | M17: =INDEX(Adresy!$D$5:$D$324,MATCH(J17,Adresy!$G$5:$G$324,0),MATCH($I$2,Adresy!$D$4,0)) -> #N/A | O17: =INDEX(Adresy!$B$5:$B$324,MATCH(N17,Adresy!$G$5:$G$324,0),MATCH($G$1,Adresy!$B$3,0)) -> #N/A | P17: =INDEX(Adresy!$C$5:$C$324,MATCH(N17,Adresy!$G$5:$G$324,0),MATCH($H$2,Adresy!$C$4,0)) -> #N/A | Q17: =INDEX(Adresy!$D$5:$D$324,MATCH(N17,Adresy!$G$5:$G$324,0),MATCH($I$2,Adresy!$D$4,0)) -> #N/A | R17: =IF(C17=0,"Niepoprawnie",IF(F17=0,"Niepoprawnie",IF(J17=0,"Niepoprawnie",IF(N17=0,"Niepoprawnie",IF(E17=0,"NIEPOPRAWNIE","POPRAWNIE"))))) -> Niepoprawnie | T17: =MID(B17,1,2) | Y17: 100000000 | AI17: 772
A18: 16. | C18: =IF(B18<1,0,IF(B18<=999,1000000,IF(B18<=9999,100000,IF(B18<=99999,10000,IF(B18<=999999,1000,IF(B18<9999999,100)))))) -> 0 | D18: =VLOOKUP(T18,Arkusz2!B:C,2,FALSE) -> #N/A | G18: =INDEX(Adresy!$B$5:$B$324,MATCH(F18,Adresy!$G$5:$G$324,0),MATCH($G$1,Adresy!$B$3,0)) -> #N/A | H18: =INDEX(Adresy!$C$5:$C$324,MATCH(F18,Adresy!$G$5:$G$324,0),MATCH($H$2,Adresy!$C$4,0)) -> #N/A | I18: =INDEX(Adresy!$D$5:$D$324,MATCH(F18,Adresy!$G$5:$G$324,0),MATCH($I$2,Adresy!$D$4,0)) -> #N/A | K18: =INDEX(Adresy!$B$5:$B$324,MATCH(J18,Adresy!$G$5:$G$324,0),MATCH($G$1,Adresy!$B$3,0)) -> #N/A | L18: =INDEX(Adresy!$C$5:$C$324,MATCH(J18,Adresy!$G$5:$G$324,0),MATCH($H$2,Adresy!$C$4,0)) -> #N/A | M18: =INDEX(Adresy!$D$5:$D$324,MATCH(J18,Adresy!$G$5:$G$324,0),MATCH($I$2,Adresy!$D$4,0)) -> #N/A | O18: =INDEX(Adresy!$B$5:$B$324,MATCH(N18,Adresy!$G$5:$G$324,0),MATCH($G$1,Adresy!$B$3,0)) -> #N/A | P18: =INDEX(Adresy!$C$5:$C$324,MATCH(N18,Adresy!$G$5:$G$324,0),MATCH($H$2,Adresy!$C$4,0)) -> #N/A | Q18: =INDEX(Adresy!$D$5:$D$324,MATCH(N18,Adresy!$G$5:$G$324,0),MATCH($I$2,Adresy!$D$4,0)) -> #N/A | R18: =IF(C18=0,"Niepoprawnie",IF(F18=0,"Niepoprawnie",IF(J18=0,"Niepoprawnie",IF(N18=0,"Niepoprawnie",IF(E18=0,"NIEPOPRAWNIE","POPRAWNIE"))))) -> Niepoprawnie | T18: =MID(B18,1,2) | AI18: 1532
A19: 17. | C19: =IF(B19<1,0,IF(B19<=999,1000000,IF(B19<=9999,100000,IF(B19<=99999,10000,IF(B19<=999999,1000,IF(B19<9999999,100)))))) -> 0 | D19: =VLOOKUP(T19,Arkusz2!B:C,2,FALSE) -> #N/A | G19: =INDEX(Adresy!$B$5:$B$324,MATCH(F19,Adresy!$G$5:$G$324,0),MATCH($G$1,Adresy!$B$3,0)) -> #N/A | H19: =INDEX(Adresy!$C$5:$C$324,MATCH(F19,Adresy!$G$5:$G$324,0),MATCH($H$2,Adresy!$C$4,0)) -> #N/A | I19: =INDEX(Adresy!$D$5:$D$324,MATCH(F19,Adresy!$G$5:$G$324,0),MATCH($I$2,Adresy!$D$4,0)) -> #N/A | K19: =INDEX(Adresy!$B$5:$B$324,MATCH(J19,Adresy!$G$5:$G$324,0),MATCH($G$1,Adresy!$B$3,0)) -> #N/A | L19: =INDEX(Adresy!$C$5:$C$324,MATCH(J19,Adresy!$G$5:$G$324,0),MATCH($H$2,Adresy!$C$4,0)) -> #N/A | M19: =INDEX(Adresy!$D$5:$D$324,MATCH(J19,Adresy!$G$5:$G$324,0),MATCH($I$2,Adresy!$D$4,0)) -> #N/A | O19: =INDEX(Adresy!$B$5:$B$324,MATCH(N19,Adresy!$G$5:$G$324,0),MATCH($G$1,Adresy!$B$3,0)) -> #N/A | P19: =INDEX(Adresy!$C$5:$C$324,MATCH(N19,Adresy!$G$5:$G$324,0),MATCH($H$2,Adresy!$C$4,0)) -> #N/A | Q19: =INDEX(Adresy!$D$5:$D$324,MATCH(N19,Adresy!$G$5:$G$324,0),MATCH($I$2,Adresy!$D$4,0)) -> #N/A | R19: =IF(C19=0,"Niepoprawnie",IF(F19=0,"Niepoprawnie",IF(J19=0,"Niepoprawnie",IF(N19=0,"Niepoprawnie",IF(E19=0,"NIEPOPRAWNIE","POPRAWNIE"))))) -> Niepoprawnie | T19: =MID(B19,1,2) | AI19: 4800
A20: 18. | C20: =IF(B20<1,0,IF(B20<=999,1000000,IF(B20<=9999,100000,IF(B20<=99999,10000,IF(B20<=999999,1000,IF(B20<9999999,100)))))) -> 0 | D20: =VLOOKUP(T20,Arkusz2!B:C,2,FALSE) -> #N/A | G20: =INDEX(Adresy!$B$5:$B$324,MATCH(F20,Adresy!$G$5:$G$324,0),MATCH($G$1,Adresy!$B$3,0)) -> #N/A | H20: =INDEX(Adresy!$C$5:$C$324,MATCH(F20,Adresy!$G$5:$G$324,0),MATCH($H$2,Adresy!$C$4,0)) -> #N/A | I20: =INDEX(Adresy!$D$5:$D$324,MATCH(F20,Adresy!$G$5:$G$324,0),MATCH($I$2,Adresy!$D$4,0)) -> #N/A | K20: =INDEX(Adresy!$B$5:$B$324,MATCH(J20,Adresy!$G$5:$G$324,0),MATCH($G$1,Adresy!$B$3,0)) -> #N/A | L20: =INDEX(Adresy!$C$5:$C$324,MATCH(J20,Adresy!$G$5:$G$324,0),MATCH($H$2,Adresy!$C$4,0)) -> #N/A | M20: =INDEX(Adresy!$D$5:$D$324,MATCH(J20,Adresy!$G$5:$G$324,0),MATCH($I$2,Adresy!$D$4,0)) -> #N/A | O20: =INDEX(Adresy!$B$5:$B$324,MATCH(N20,Adresy!$G$5:$G$324,0),MATCH($G$1,Adresy!$B$3,0)) -> #N/A | P20: =INDEX(Adresy!$C$5:$C$324,MATCH(N20,Adresy!$G$5:$G$324,0),MATCH($H$2,Adresy!$C$4,0)) -> #N/A | Q20: =INDEX(Adresy!$D$5:$D$324,MATCH(N20,Adresy!$G$5:$G$324,0),MATCH($I$2,Adresy!$D$4,0)) -> #N/A | R20: =IF(C20=0,"Niepoprawnie",IF(F20=0,"Niepoprawnie",IF(J20=0,"Niepoprawnie",IF(N20=0,"Niepoprawnie",IF(E20=0,"NIEPOPRAWNIE","POPRAWNIE"))))) -> Niepoprawnie | T20: =MID(B20,1,2) | AI20: 5310
A21: 19. | C21: =IF(B21<1,0,IF(B21<=999,1000000,IF(B21<=9999,100000,IF(B21<=99999,10000,IF(B21<=999999,1000,IF(B21<9999999,100)))))) -> 0 | D21: =VLOOKUP(T21,Arkusz2!B:C,2,FALSE) -> #N/A | G21: =INDEX(Adresy!$B$5:$B$324,MATCH(F21,Adresy!$G$5:$G$324,0),MATCH($G$1,Adresy!$B$3,0)) -> #N/A | H21: =INDEX(Adresy!$C$5:$C$324,MATCH(F21,Adresy!$G$5:$G$324,0),MATCH($H$2,Adresy!$C$4,0)) -> #N/A | I21: =INDEX(Adresy!$D$5:$D$324,MATCH(F21,Adresy!$G$5:$G$324,0),MATCH($I$2,Adresy!$D$4,0)) -> #N/A | K21: =INDEX(Adresy!$B$5:$B$324,MATCH(J21,Adresy!$G$5:$G$324,0),MATCH($G$1,Adresy!$B$3,0)) -> #N/A | L21: =INDEX(Adresy!$C$5:$C$324,MATCH(J21,Adresy!$G$5:$G$324,0),MATCH($H$2,Adresy!$C$4,0)) -> #N/A | M21: =INDEX(Adresy!$D$5:$D$324,MATCH(J21,Adresy!$G$5:$G$324,0),MATCH($I$2,Adresy!$D$4,0)) -> #N/A | O21: =INDEX(Adresy!$B$5:$B$324,MATCH(N21,Adresy!$G$5:$G$324,0),MATCH($G$1,Adresy!$B$3,0)) -> #N/A | P21: =INDEX(Adresy!$C$5:$C$324,MATCH(N21,Adresy!$G$5:$G$324,0),MATCH($H$2,Adresy!$C$4,0)) -> #N/A | Q21: =INDEX(Adresy!$D$5:$D$324,MATCH(N21,Adresy!$G$5:$G$324,0),MATCH($I$2,Adresy!$D$4,0)) -> #N/A | R21: =IF(C21=0,"Niepoprawnie",IF(F21=0,"Niepoprawnie",IF(J21=0,"Niepoprawnie",IF(N21=0,"Niepoprawnie",IF(E21=0,"NIEPOPRAWNIE","POPRAWNIE"))))) -> Niepoprawnie | T21: =MID(B21,1,2) | AI21: 2290
A22: 20. | C22: =IF(B22<1,0,IF(B22<=999,1000000,IF(B22<=9999,100000,IF(B22<=99999,10000,IF(B22<=999999,1000,IF(B22<9999999,100)))))) -> 0 | D22: =VLOOKUP(T22,Arkusz2!B:C,2,FALSE) -> #N/A | G22: =INDEX(Adresy!$B$5:$B$324,MATCH(F22,Adresy!$G$5:$G$324,0),MATCH($G$1,Adresy!$B$3,0)) -> #N/A | H22: =INDEX(Adresy!$C$5:$C$324,MATCH(F22,Adresy!$G$5:$G$324,0),MATCH($H$2,Adresy!$C$4,0)) -> #N/A | I22: =INDEX(Adresy!$D$5:$D$324,MATCH(F22,Adresy!$G$5:$G$324,0),MATCH($I$2,Adresy!$D$4,0)) -> #N/A | K22: =INDEX(Adresy!$B$5:$B$324,MATCH(J22,Adresy!$G$5:$G$324,0),MATCH($G$1,Adresy!$B$3,0)) -> #N/A | L22: =INDEX(Adresy!$C$5:$C$324,MATCH(J22,Adresy!$G$5:$G$324,0),MATCH($H$2,Adresy!$C$4,0)) -> #N/A | M22: =INDEX(Adresy!$D$5:$D$324,MATCH(J22,Adresy!$G$5:$G$324,0),MATCH($I$2,Adresy!$D$4,0)) -> #N/A | O22: =INDEX(Adresy!$B$5:$B$324,MATCH(N22,Adresy!$G$5:$G$324,0),MATCH($G$1,Adresy!$B$3,0)) -> #N/A | P22: =INDEX(Adresy!$C$5:$C$324,MATCH(N22,Adresy!$G$5:$G$324,0),MATCH($H$2,Adresy!$C$4,0)) -> #N/A | Q22: =INDEX(Adresy!$D$5:$D$324,MATCH(N22,Adresy!$G$5:$G$324,0),MATCH($I$2,Adresy!$D$4,0)) -> #N/A | R22: =IF(C22=0,"Niepoprawnie",IF(F22=0,"Niepoprawnie",IF(J22=0,"Niepoprawnie",IF(N22=0,"Niepoprawnie",IF(E22=0,"NIEPOPRAWNIE","POPRAWNIE"))))) -> Niepoprawnie | T22: =MID(B22,1,2) | AI22: 109
A23: 21. | C23: =IF(B23<1,0,IF(B23<=999,1000000,IF(B23<=9999,100000,IF(B23<=99999,10000,IF(B23<=999999,1000,IF(B23<9999999,100)))))) -> 0 | D23: =VLOOKUP(T23,Arkusz2!B:C,2,FALSE) -> #N/A | G23: =INDEX(Adresy!$B$5:$B$324,MATCH(F23,Adresy!$G$5:$G$324,0),MATCH($G$1,Adresy!$B$3,0)) -> #N/A | H23: =INDEX(Adresy!$C$5:$C$324,MATCH(F23,Adresy!$G$5:$G$324,0),MATCH($H$2,Adresy!$C$4,0)) -> #N/A | I23: =INDEX(Adresy!$D$5:$D$324,MATCH(F23,Adresy!$G$5:$G$324,0),MATCH($I$2,Adresy!$D$4,0)) -> #N/A | K23: =INDEX(Adresy!$B$5:$B$324,MATCH(J23,Adresy!$G$5:$G$324,0),MATCH($G$1,Adresy!$B$3,0)) -> #N/A | L23: =INDEX(Adresy!$C$5:$C$324,MATCH(J23,Adresy!$G$5:$G$324,0),MATCH($H$2,Adresy!$C$4,0)) -> #N/A | M23: =INDEX(Adresy!$D$5:$D$324,MATCH(J23,Adresy!$G$5:$G$324,0),MATCH($I$2,Adresy!$D$4,0)) -> #N/A | O23: =INDEX(Adresy!$B$5:$B$324,MATCH(N23,Adresy!$G$5:$G$324,0),MATCH($G$1,Adresy!$B$3,0)) -> #N/A | P23: =INDEX(Adresy!$C$5:$C$324,MATCH(N23,Adresy!$G$5:$G$324,0),MATCH($H$2,Adresy!$C$4,0)) -> #N/A | Q23: =INDEX(Adresy!$D$5:$D$324,MATCH(N23,Adresy!$G$5:$G$324,0),MATCH($I$2,Adresy!$D$4,0)) -> #N/A | R23: =IF(C23=0,"Niepoprawnie",IF(F23=0,"Niepoprawnie",IF(J23=0,"Niepoprawnie",IF(N23=0,"Niepoprawnie",IF(E23=0,"NIEPOPRAWNIE","POPRAWNIE"))))) -> Niepoprawnie | T23: =MID(B23,1,2) | AI23: 1794
A24: 22. | C24: =IF(B24<1,0,IF(B24<=999,1000000,IF(B24<=9999,100000,IF(B24<=99999,10000,IF(B24<=999999,1000,IF(B24<9999999,100)))))) -> 0 | D24: =VLOOKUP(T24,Arkusz2!B:C,2,FALSE) -> #N/A | G24: =INDEX(Adresy!$B$5:$B$324,MATCH(F24,Adresy!$G$5:$G$324,0),MATCH($G$1,Adresy!$B$3,0)) -> #N/A | H24: =INDEX(Adresy!$C$5:$C$324,MATCH(F24,Adresy!$G$5:$G$324,0),MATCH($H$2,Adresy!$C$4,0)) -> #N/A | I24: =INDEX(Adresy!$D$5:$D$324,MATCH(F24,Adresy!$G$5:$G$324,0),MATCH($I$2,Adresy!$D$4,0)) -> #N/A | K24: =INDEX(Adresy!$B$5:$B$324,MATCH(J24,Adresy!$G$5:$G$324,0),MATCH($G$1,Adresy!$B$3,0)) -> #N/A | L24: =INDEX(Adresy!$C$5:$C$324,MATCH(J24,Adresy!$G$5:$G$324,0),MATCH($H$2,Adresy!$C$4,0)) -> #N/A | M24: =INDEX(Adresy!$D$5:$D$324,MATCH(J24,Adresy!$G$5:$G$324,0),MATCH($I$2,Adresy!$D$4,0)) -> #N/A | O24: =INDEX(Adresy!$B$5:$B$324,MATCH(N24,Adresy!$G$5:$G$324,0),MATCH($G$1,Adresy!$B$3,0)) -> #N/A | P24: =INDEX(Adresy!$C$5:$C$324,MATCH(N24,Adresy!$G$5:$G$324,0),MATCH($H$2,Adresy!$C$4,0)) -> #N/A | Q24: =INDEX(Adresy!$D$5:$D$324,MATCH(N24,Adresy!$G$5:$G$324,0),MATCH($I$2,Adresy!$D$4,0)) -> #N/A | R24: =IF(C24=0,"Niepoprawnie",IF(F24=0,"Niepoprawnie",IF(J24=0,"Niepoprawnie",IF(N24=0,"Niepoprawnie",IF(E24=0,"NIEPOPRAWNIE","POPRAWNIE"))))) -> Niepoprawnie | T24: =MID(B24,1,2) | AI24: 7273
A25: 23. | C25: =IF(B25<1,0,IF(B25<=999,1000000,IF(B25<=9999,100000,IF(B25<=99999,10000,IF(B25<=999999,1000,IF(B25<9999999,100)))))) -> 0 | D25: =VLOOKUP(T25,Arkusz2!B:C,2,FALSE) -> #N/A | G25: =INDEX(Adresy!$B$5:$B$324,MATCH(F25,Adresy!$G$5:$G$324,0),MATCH($G$1,Adresy!$B$3,0)) -> #N/A | H25: =INDEX(Adresy!$C$5:$C$324,MATCH(F25,Adresy!$G$5:$G$324,0),MATCH($H$2,Adresy!$C$4,0)) -> #N/A | I25: =INDEX(Adresy!$D$5:$D$324,MATCH(F25,Adresy!$G$5:$G$324,0),MATCH($I$2,Adresy!$D$4,0)) -> #N/A | K25: =INDEX(Adresy!$B$5:$B$324,MATCH(J25,Adresy!$G$5:$G$324,0),MATCH($G$1,Adresy!$B$3,0)) -> #N/A | L25: =INDEX(Adresy!$C$5:$C$324,MATCH(J25,Adresy!$G$5:$G$324,0),MATCH($H$2,Adresy!$C$4,0)) -> #N/A | M25: =INDEX(Adresy!$D$5:$D$324,MATCH(J25,Adresy!$G$5:$G$324,0),MATCH($I$2,Adresy!$D$4,0)) -> #N/A | O25: =INDEX(Adresy!$B$5:$B$324,MATCH(N25,Adresy!$G$5:$G$324,0),MATCH($G$1,Adresy!$B$3,0)) -> #N/A | P25: =INDEX(Adresy!$C$5:$C$324,MATCH(N25,Adresy!$G$5:$G$324,0),MATCH($H$2,Adresy!$C$4,0)) -> #N/A | Q25: =INDEX(Adresy!$D$5:$D$324,MATCH(N25,Adresy!$G$5:$G$324,0),MATCH($I$2,Adresy!$D$4,0)) -> #N/A | R25: =IF(C25=0,"Niepoprawnie",IF(F25=0,"Niepoprawnie",IF(J25=0,"Niepoprawnie",IF(N25=0,"Niepoprawnie",IF(E25=0,"NIEPOPRAWNIE","POPRAWNIE"))))) -> Niepoprawnie | T25: =MID(B25,1,2) | AI25: 510
A26: 24. | C26: =IF(B26<1,0,IF(B26<=999,1000000,IF(B26<=9999,100000,IF(B26<=99999,10000,IF(B26<=999999,1000,IF(B26<9999999,100)))))) -> 0 | D26: =VLOOKUP(T26,Arkusz2!B:C,2,FALSE) -> #N/A | G26: =INDEX(Adresy!$B$5:$B$324,MATCH(F26,Adresy!$G$5:$G$324,0),MATCH($G$1,Adresy!$B$3,0)) -> #N/A | H26: =INDEX(Adresy!$C$5:$C$324,MATCH(F26,Adresy!$G$5:$G$324,0),MATCH($H$2,Adresy!$C$4,0)) -> #N/A | I26: =INDEX(Adresy!$D$5:$D$324,MATCH(F26,Adresy!$G$5:$G$324,0),MATCH($I$2,Adresy!$D$4,0)) -> #N/A | K26: =INDEX(Adresy!$B$5:$B$324,MATCH(J26,Adresy!$G$5:$G$324,0),MATCH($G$1,Adresy!$B$3,0)) -> #N/A | L26: =INDEX(Adresy!$C$5:$C$324,MATCH(J26,Adresy!$G$5:$G$324,0),MATCH($H$2,Adresy!$C$4,0)) -> #N/A | M26: =INDEX(Adresy!$D$5:$D$324,MATCH(J26,Adresy!$G$5:$G$324,0),MATCH($I$2,Adresy!$D$4,0)) -> #N/A | O26: =INDEX(Adresy!$B$5:$B$324,MATCH(N26,Adresy!$G$5:$G$324,0),MATCH($G$1,Adresy!$B$3,0)) -> #N/A | P26: =INDEX(Adresy!$C$5:$C$324,MATCH(N26,Adresy!$G$5:$G$324,0),MATCH($H$2,Adresy!$C$4,0)) -> #N/A | Q26: =INDEX(Adresy!$D$5:$D$324,MATCH(N26,Adresy!$G$5:$G$324,0),MATCH($I$2,Adresy!$D$4,0)) -> #N/A | R26: =IF(C26=0,"Niepoprawnie",IF(F26=0,"Niepoprawnie",IF(J26=0,"Niepoprawnie",IF(N26=0,"Niepoprawnie",IF(E26=0,"NIEPOPRAWNIE","POPRAWNIE"))))) -> Niepoprawnie | T26: =MID(B26,1,2) | AI26: 24
A27: 25. | C27: =IF(B27<1,0,IF(B27<=999,1000000,IF(B27<=9999,100000,IF(B27<=99999,10000,IF(B27<=999999,1000,IF(B27<9999999,100)))))) -> 0 | D27: =VLOOKUP(T27,Arkusz2!B:C,2,FALSE) -> #N/A | G27: =INDEX(Adresy!$B$5:$B$324,MATCH(F27,Adresy!$G$5:$G$324,0),MATCH($G$1,Adresy!$B$3,0)) -> #N/A | H27: =INDEX(Adresy!$C$5:$C$324,MATCH(F27,Adresy!$G$5:$G$324,0),MATCH($H$2,Adresy!$C$4,0)) -> #N/A | I27: =INDEX(Adresy!$D$5:$D$324,MATCH(F27,Adresy!$G$5:$G$324,0),MATCH($I$2,Adresy!$D$4,0)) -> #N/A | K27: =INDEX(Adresy!$B$5:$B$324,MATCH(J27,Adresy!$G$5:$G$324,0),MATCH($G$1,Adresy!$B$3,0)) -> #N/A | L27: =INDEX(Adresy!$C$5:$C$324,MATCH(J27,Adresy!$G$5:$G$324,0),MATCH($H$2,Adresy!$C$4,0)) -> #N/A | M27: =INDEX(Adresy!$D$5:$D$324,MATCH(J27,Adresy!$G$5:$G$324,0),MATCH($I$2,Adresy!$D$4,0)) -> #N/A | O27: =INDEX(Adresy!$B$5:$B$324,MATCH(N27,Adresy!$G$5:$G$324,0),MATCH($G$1,Adresy!$B$3,0)) -> #N/A | P27: =INDEX(Adresy!$C$5:$C$324,MATCH(N27,Adresy!$G$5:$G$324,0),MATCH($H$2,Adresy!$C$4,0)) -> #N/A | Q27: =INDEX(Adresy!$D$5:$D$324,MATCH(N27,Adresy!$G$5:$G$324,0),MATCH($I$2,Adresy!$D$4,0)) -> #N/A | R27: =IF(C27=0,"Niepoprawnie",IF(F27=0,"Niepoprawnie",IF(J27=0,"Niepoprawnie",IF(N27=0,"Niepoprawnie",IF(E27=0,"NIEPOPRAWNIE","POPRAWNIE"))))) -> Niepoprawnie | T27: =MID(B27,1,2) | AI27: 3320
A28: 26. | C28: =IF(B28<1,0,IF(B28<=999,1000000,IF(B28<=9999,100000,IF(B28<=99999,10000,IF(B28<=999999,1000,IF(B28<9999999,100)))))) -> 0 | D28: =VLOOKUP(T28,Arkusz2!B:C,2,FALSE) -> #N/A | G28: =INDEX(Adresy!$B$5:$B$324,MATCH(F28,Adresy!$G$5:$G$324,0),MATCH($G$1,Adresy!$B$3,0)) -> #N/A | H28: =INDEX(Adresy!$C$5:$C$324,MATCH(F28,Adresy!$G$5:$G$324,0),MATCH($H$2,Adresy!$C$4,0)) -> #N/A | I28: =INDEX(Adresy!$D$5:$D$324,MATCH(F28,Adresy!$G$5:$G$324,0),MATCH($I$2,Adresy!$D$4,0)) -> #N/A | K28: =INDEX(Adresy!$B$5:$B$324,MATCH(J28,Adresy!$G$5:$G$324,0),MATCH($G$1,Adresy!$B$3,0)) -> #N/A | L28: =INDEX(Adresy!$C$5:$C$324,MATCH(J28,Adresy!$G$5:$G$324,0),MATCH($H$2,Adresy!$C$4,0)) -> #N/A | M28: =INDEX(Adresy!$D$5:$D$324,MATCH(J28,Adresy!$G$5:$G$324,0),MATCH($I$2,Adresy!$D$4,0)) -> #N/A | O28: =INDEX(Adresy!$B$5:$B$324,MATCH(N28,Adresy!$G$5:$G$324,0),MATCH($G$1,Adresy!$B$3,0)) -> #N/A | P28: =INDEX(Adresy!$C$5:$C$324,MATCH(N28,Adresy!$G$5:$G$324,0),MATCH($H$2,Adresy!$C$4,0)) -> #N/A | Q28: =INDEX(Adresy!$D$5:$D$324,MATCH(N28,Adresy!$G$5:$G$324,0),MATCH($I$2,Adresy!$D$4,0)) -> #N/A | R28: =IF(C28=0,"Niepoprawnie",IF(F28=0,"Niepoprawnie",IF(J28=0,"Niepoprawnie",IF(N28=0,"Niepoprawnie",IF(E28=0,"NIEPOPRAWNIE","POPRAWNIE"))))) -> Niepoprawnie | T28: =MID(B28,1,2) | AI28: 6780
A29: 27. | C29: =IF(B29<1,0,IF(B29<=999,1000000,IF(B29<=9999,100000,IF(B29<=99999,10000,IF(B29<=999999,1000,IF(B29<9999999,100)))))) -> 0 | D29: =VLOOKUP(T29,Arkusz2!B:C,2,FALSE) -> #N/A | G29: =INDEX(Adresy!$B$5:$B$324,MATCH(F29,Adresy!$G$5:$G$324,0),MATCH($G$1,Adresy!$B$3,0)) -> #N/A | H29: =INDEX(Adresy!$C$5:$C$324,MATCH(F29,Adresy!$G$5:$G$324,0),MATCH($H$2,Adresy!$C$4,0)) -> #N/A | I29: =INDEX(Adresy!$D$5:$D$324,MATCH(F29,Adresy!$G$5:$G$324,0),MATCH($I$2,Adresy!$D$4,0)) -> #N/A | K29: =INDEX(Adresy!$B$5:$B$324,MATCH(J29,Adresy!$G$5:$G$324,0),MATCH($G$1,Adresy!$B$3,0)) -> #N/A | L29: =INDEX(Adresy!$C$5:$C$324,MATCH(J29,Adresy!$G$5:$G$324,0),MATCH($H$2,Adresy!$C$4,0)) -> #N/A | M29: =INDEX(Adresy!$D$5:$D$324,MATCH(J29,Adresy!$G$5:$G$324,0),MATCH($I$2,Adresy!$D$4,0)) -> #N/A | O29: =INDEX(Adresy!$B$5:$B$324,MATCH(N29,Adresy!$G$5:$G$324,0),MATCH($G$1,Adresy!$B$3,0)) -> #N/A | P29: =INDEX(Adresy!$C$5:$C$324,MATCH(N29,Adresy!$G$5:$G$324,0),MATCH($H$2,Adresy!$C$4,0)) -> #N/A | Q29: =INDEX(Adresy!$D$5:$D$324,MATCH(N29,Adresy!$G$5:$G$324,0),MATCH($I$2,Adresy!$D$4,0)) -> #N/A | R29: =IF(C29=0,"Niepoprawnie",IF(F29=0,"Niepoprawnie",IF(J29=0,"Niepoprawnie",IF(N29=0,"Niepoprawnie",IF(E29=0,"NIEPOPRAWNIE","POPRAWNIE"))))) -> Niepoprawnie | T29: =MID(B29,1,2) | AI29: 734
... A42: 40. | C42: =IF(B42<1,0,IF(B42<=999,1000000,IF(B42<=9999,100000,IF(B42<=99999,10000,IF(B42<=999999,1000,IF(B42<9999999,100)))))) -> 0 | D42: =VLOOKUP(T42,Arkusz2!B:C,2,FALSE) -> #N/A | G42: =INDEX(Adresy!$B$5:$B$324,MATCH(F42,Adresy!$G$5:$G$324,0),MATCH($G$1,Adresy!$B$3,0)) -> #N/A | H42: =INDEX(Adresy!$C$5:$C$324,MATCH(F42,Adresy!$G$5:$G$324,0),MATCH($H$2,Adresy!$C$4,0)) -> #N/A | I42: =INDEX(Adresy!$D$5:$D$324,MATCH(F42,Adresy!$G$5:$G$324,0),MATCH($I$2,Adresy!$D$4,0)) -> #N/A | K42: =INDEX(Adresy!$B$5:$B$324,MATCH(J42,Adresy!$G$5:$G$324,0),MATCH($G$1,Adresy!$B$3,0)) -> #N/A | L42: =INDEX(Adresy!$C$5:$C$324,MATCH(J42,Adresy!$G$5:$G$324,0),MATCH($H$2,Adresy!$C$4,0)) -> #N/A | M42: =INDEX(Adresy!$D$5:$D$324,MATCH(J42,Adresy!$G$5:$G$324,0),MATCH($I$2,Adresy!$D$4,0)) -> #N/A | O42: =INDEX(Adresy!$B$5:$B$324,MATCH(N42,Adresy!$G$5:$G$324,0),MATCH($G$1,Adresy!$B$3,0)) -> #N/A | P42: =INDEX(Adresy!$C$5:$C$324,MATCH(N42,Adresy!$G$5:$G$324,0),MATCH($H$2,Adresy!$C$4,0)) -> #N/A | Q42: =INDEX(Adresy!$D$5:$D$324,MATCH(N42,Adresy!$G$5:$G$324,0),MATCH($I$2,Adresy!$D$4,0)) -> #N/A | R42: =IF(C42=0,"Niepoprawnie",IF(F42=0,"Niepoprawnie",IF(J42=0,"Niepoprawnie",IF(N42=0,"Niepoprawnie",IF(E42=0,"NIEPOPRAWNIE","POPRAWNIE"))))) -> Niepoprawnie | T42: =MID(B42,1,2) | AI42: 2863
A43: 41. | C43: =IF(B43<1,0,IF(B43<=999,1000000,IF(B43<=9999,100000,IF(B43<=99999,10000,IF(B43<=999999,1000,IF(B43<9999999,100)))))) -> 0 | D43: =VLOOKUP(T43,Arkusz2!B:C,2,FALSE) -> #N/A | G43: =INDEX(Adresy!$B$5:$B$324,MATCH(F43,Adresy!$G$5:$G$324,0),MATCH($G$1,Adresy!$B$3,0)) -> #N/A | H43: =INDEX(Adresy!$C$5:$C$324,MATCH(F43,Adresy!$G$5:$G$324,0),MATCH($H$2,Adresy!$C$4,0)) -> #N/A | I43: =INDEX(Adresy!$D$5:$D$324,MATCH(F43,Adresy!$G$5:$G$324,0),MATCH($I$2,Adresy!$D$4,0)) -> #N/A | K43: =INDEX(Adresy!$B$5:$B$324,MATCH(J43,Adresy!$G$5:$G$324,0),MATCH($G$1,Adresy!$B$3,0)) -> #N/A | L43: =INDEX(Adresy!$C$5:$C$324,MATCH(J43,Adresy!$G$5:$G$324,0),MATCH($H$2,Adresy!$C$4,0)) -> #N/A | M43: =INDEX(Adresy!$D$5:$D$324,MATCH(J43,Adresy!$G$5:$G$324,0),MATCH($I$2,Adresy!$D$4,0)) -> #N/A | O43: =INDEX(Adresy!$B$5:$B$324,MATCH(N43,Adresy!$G$5:$G$324,0),MATCH($G$1,Adresy!$B$3,0)) -> #N/A | P43: =INDEX(Adresy!$C$5:$C$324,MATCH(N43,Adresy!$G$5:$G$324,0),MATCH($H$2,Adresy!$C$4,0)) -> #N/A | Q43: =INDEX(Adresy!$D$5:$D$324,MATCH(N43,Adresy!$G$5:$G$324,0),MATCH($I$2,Adresy!$D$4,0)) -> #N/A | R43: =IF(C43=0,"Niepoprawnie",IF(F43=0,"Niepoprawnie",IF(J43=0,"Niepoprawnie",IF(N43=0,"Niepoprawnie",IF(E43=0,"NIEPOPRAWNIE","POPRAWNIE"))))) -> Niepoprawnie | T43: =MID(B43,1,2) | X43: Numeracja abonencka dla sieci PSTN | AI43: 6859
A44: 42. | C44: =IF(B44<1,0,IF(B44<=999,1000000,IF(B44<=9999,100000,IF(B44<=99999,10000,IF(B44<=999999,1000,IF(B44<9999999,100)))))) -> 0 | D44: =VLOOKUP(T44,Arkusz2!B:C,2,FALSE) -> #N/A | G44: =INDEX(Adresy!$B$5:$B$324,MATCH(F44,Adresy!$G$5:$G$324,0),MATCH($G$1,Adresy!$B$3,0)) -> #N/A | H44: =INDEX(Adresy!$C$5:$C$324,MATCH(F44,Adresy!$G$5:$G$324,0),MATCH($H$2,Adresy!$C$4,0)) -> #N/A | I44: =INDEX(Adresy!$D$5:$D$324,MATCH(F44,Adresy!$G$5:$G$324,0),MATCH($I$2,Adresy!$D$4,0)) -> #N/A | K44: =INDEX(Adresy!$B$5:$B$324,MATCH(J44,Adresy!$G$5:$G$324,0),MATCH($G$1,Adresy!$B$3,0)) -> #N/A | L44: =INDEX(Adresy!$C$5:$C$324,MATCH(J44,Adresy!$G$5:$G$324,0),MATCH($H$2,Adresy!$C$4,0)) -> #N/A | M44: =INDEX(Adresy!$D$5:$D$324,MATCH(J44,Adresy!$G$5:$G$324,0),MATCH($I$2,Adresy!$D$4,0)) -> #N/A | O44: =INDEX(Adresy!$B$5:$B$324,MATCH(N44,Adresy!$G$5:$G$324,0),MATCH($G$1,Adresy!$B$3,0)) -> #N/A | P44: =INDEX(Adresy!$C$5:$C$324,MATCH(N44,Adresy!$G$5:$G$324,0),MATCH($H$2,Adresy!$C$4,0)) -> #N/A | Q44: =INDEX(Adresy!$D$5:$D$324,MATCH(N44,Adresy!$G$5:$G$324,0),MATCH($I$2,Adresy!$D$4,0)) -> #N/A | R44: =IF(C44=0,"Niepoprawnie",IF(F44=0,"Niepoprawnie",IF(J44=0,"Niepoprawnie",IF(N44=0,"Niepoprawnie",IF(E44=0,"NIEPOPRAWNIE","POPRAWNIE"))))) -> Niepoprawnie | T44: =MID(B44,1,2) | X44: Numeracja abonencka dla sieci PLMN | AI44: 809
A45: 43. | C45: =IF(B45<1,0,IF(B45<=999,1000000,IF(B45<=9999,100000,IF(B45<=99999,10000,IF(B45<=999999,1000,IF(B45<9999999,100)))))) -> 0 | D45: =VLOOKUP(T45,Arkusz2!B:C,2,FALSE) -> #N/A | G45: =INDEX(Adresy!$B$5:$B$324,MATCH(F45,Adresy!$G$5:$G$324,0),MATCH($G$1,Adresy!$B$3,0)) -> #N/A | H45: =INDEX(Adresy!$C$5:$C$324,MATCH(F45,Adresy!$G$5:$G$324,0),MATCH($H$2,Adresy!$C$4,0)) -> #N/A | I45: =INDEX(Adresy!$D$5:$D$324,MATCH(F45,Adresy!$G$5:$G$324,0),MATCH($I$2,Adresy!$D$4,0)) -> #N/A | K45: =INDEX(Adresy!$B$5:$B$324,MATCH(J45,Adresy!$G$5:$G$324,0),MATCH($G$1,Adresy!$B$3,0)) -> #N/A | L45: =INDEX(Adresy!$C$5:$C$324,MATCH(J45,Adresy!$G$5:$G$324,0),MATCH($H$2,Adresy!$C$4,0)) -> #N/A | M45: =INDEX(Adresy!$D$5:$D$324,MATCH(J45,Adresy!$G$5:$G$324,0),MATCH($I$2,Adresy!$D$4,0)) -> #N/A | O45: =INDEX(Adresy!$B$5:$B$324,MATCH(N45,Adresy!$G$5:$G$324,0),MATCH($G$1,Adresy!$B$3,0)) -> #N/A | P45: =INDEX(Adresy!$C$5:$C$324,MATCH(N45,Adresy!$G$5:$G$324,0),MATCH($H$2,Adresy!$C$4,0)) -> #N/A | Q45: =INDEX(Adresy!$D$5:$D$324,MATCH(N45,Adresy!$G$5:$G$324,0),MATCH($I$2,Adresy!$D$4,0)) -> #N/A | R45: =IF(C45=0,"Niepoprawnie",IF(F45=0,"Niepoprawnie",IF(J45=0,"Niepoprawnie",IF(N45=0,"Niepoprawnie",IF(E45=0,"NIEPOPRAWNIE","POPRAWNIE"))))) -> Niepoprawnie | T45: =MID(B45,1,2) | X45: Tablica zagospodarowania numeracji dostępu do usług sieci inteligentnych IN | AI45: 584
A46: 44. | C46: =IF(B46<1,0,IF(B46<=999,1000000,IF(B46<=9999,100000,IF(B46<=99999,10000,IF(B46<=999999,1000,IF(B46<9999999,100)))))) -> 0 | D46: =VLOOKUP(T46,Arkusz2!B:C,2,FALSE) -> #N/A | G46: =INDEX(Adresy!$B$5:$B$324,MATCH(F46,Adresy!$G$5:$G$324,0),MATCH($G$1,Adresy!$B$3,0)) -> #N/A | H46: =INDEX(Adresy!$C$5:$C$324,MATCH(F46,Adresy!$G$5:$G$324,0),MATCH($H$2,Adresy!$C$4,0)) -> #N/A | I46: =INDEX(Adresy!$D$5:$D$324,MATCH(F46,Adresy!$G$5:$G$324,0),MATCH($I$2,Adresy!$D$4,0)) -> #N/A | K46: =INDEX(Adresy!$B$5:$B$324,MATCH(J46,Adresy!$G$5:$G$324,0),MATCH($G$1,Adresy!$B$3,0)) -> #N/A | L46: =INDEX(Adresy!$C$5:$C$324,MATCH(J46,Adresy!$G$5:$G$324,0),MATCH($H$2,Adresy!$C$4,0)) -> #N/A | M46: =INDEX(Adresy!$D$5:$D$324,MATCH(J46,Adresy!$G$5:$G$324,0),MATCH($I$2,Adresy!$D$4,0)) -> #N/A | O46: =INDEX(Adresy!$B$5:$B$324,MATCH(N46,Adresy!$G$5:$G$324,0),MATCH($G$1,Adresy!$B$3,0)) -> #N/A | P46: =INDEX(Adresy!$C$5:$C$324,MATCH(N46,Adresy!$G$5:$G$324,0),MATCH($H$2,Adresy!$C$4,0)) -> #N/A | Q46: =INDEX(Adresy!$D$5:$D$324,MATCH(N46,Adresy!$G$5:$G$324,0),MATCH($I$2,Adresy!$D$4,0)) -> #N/A | R46: =IF(C46=0,"Niepoprawnie",IF(F46=0,"Niepoprawnie",IF(J46=0,"Niepoprawnie",IF(N46=0,"Niepoprawnie",IF(E46=0,"NIEPOPRAWNIE","POPRAWNIE"))))) -> Niepoprawnie | T46: =MID(B46,1,2) | X46: Numeracja niegeograficzna (o wyróżniku sieci WST AB=39) | AI46: 905
A47: 45. | C47: =IF(B47<1,0,IF(B47<=999,1000000,IF(B47<=9999,100000,IF(B47<=99999,10000,IF(B47<=999999,1000,IF(B47<9999999,100)))))) -> 0 | D47: =VLOOKUP(T47,Arkusz2!B:C,2,FALSE) -> #N/A | G47: =INDEX(Adresy!$B$5:$B$324,MATCH(F47,Adresy!$G$5:$G$324,0),MATCH($G$1,Adresy!$B$3,0)) -> #N/A | H47: =INDEX(Adresy!$C$5:$C$324,MATCH(F47,Adresy!$G$5:$G$324,0),MATCH($H$2,Adresy!$C$4,0)) -> #N/A | I47: =INDEX(Adresy!$D$5:$D$324,MATCH(F47,Adresy!$G$5:$G$324,0),MATCH($I$2,Adresy!$D$4,0)) -> #N/A | K47: =INDEX(Adresy!$B$5:$B$324,MATCH(J47,Adresy!$G$5:$G$324,0),MATCH($G$1,Adresy!$B$3,0)) -> #N/A | L47: =INDEX(Adresy!$C$5:$C$324,MATCH(J47,Adresy!$G$5:$G$324,0),MATCH($H$2,Adresy!$C$4,0)) -> #N/A | M47: =INDEX(Adresy!$D$5:$D$324,MATCH(J47,Adresy!$G$5:$G$324,0),MATCH($I$2,Adresy!$D$4,0)) -> #N/A | O47: =INDEX(Adresy!$B$5:$B$324,MATCH(N47,Adresy!$G$5:$G$324,0),MATCH($G$1,Adresy!$B$3,0)) -> #N/A | P47: =INDEX(Adresy!$C$5:$C$324,MATCH(N47,Adresy!$G$5:$G$324,0),MATCH($H$2,Adresy!$C$4,0)) -> #N/A | Q47: =INDEX(Adresy!$D$5:$D$324,MATCH(N47,Adresy!$G$5:$G$324,0),MATCH($I$2,Adresy!$D$4,0)) -> #N/A | R47: =IF(C47=0,"Niepoprawnie",IF(F47=0,"Niepoprawnie",IF(J47=0,"Niepoprawnie",IF(N47=0,"Niepoprawnie",IF(E47=0,"NIEPOPRAWNIE","POPRAWNIE"))))) -> Niepoprawnie | T47: =MID(B47,1,2) | AI47: 26
A48: 46. | C48: =IF(B48<1,0,IF(B48<=999,1000000,IF(B48<=9999,100000,IF(B48<=99999,10000,IF(B48<=999999,1000,IF(B48<9999999,100)))))) -> 0 | D48: =VLOOKUP(T48,Arkusz2!B:C,2,FALSE) -> #N/A | G48: =INDEX(Adresy!$B$5:$B$324,MATCH(F48,Adresy!$G$5:$G$324,0),MATCH($G$1,Adresy!$B$3,0)) -> #N/A | H48: =INDEX(Adresy!$C$5:$C$324,MATCH(F48,Adresy!$G$5:$G$324,0),MATCH($H$2,Adresy!$C$4,0)) -> #N/A | I48: =INDEX(Adresy!$D$5:$D$324,MATCH(F48,Adresy!$G$5:$G$324,0),MATCH($I$2,Adresy!$D$4,0)) -> #N/A | K48: =INDEX(Adresy!$B$5:$B$324,MATCH(J48,Adresy!$G$5:$G$324,0),MATCH($G$1,Adresy!$B$3,0)) -> #N/A | L48: =INDEX(Adresy!$C$5:$C$324,MATCH(J48,Adresy!$G$5:$G$324,0),MATCH($H$2,Adresy!$C$4,0)) -> #N/A | M48: =INDEX(Adresy!$D$5:$D$324,MATCH(J48,Adresy!$G$5:$G$324,0),MATCH($I$2,Adresy!$D$4,0)) -> #N/A | O48: =INDEX(Adresy!$B$5:$B$324,MATCH(N48,Adresy!$G$5:$G$324,0),MATCH($G$1,Adresy!$B$3,0)) -> #N/A | P48: =INDEX(Adresy!$C$5:$C$324,MATCH(N48,Adresy!$G$5:$G$324,0),MATCH($H$2,Adresy!$C$4,0)) -> #N/A | Q48: =INDEX(Adresy!$D$5:$D$324,MATCH(N48,Adresy!$G$5:$G$324,0),MATCH($I$2,Adresy!$D$4,0)) -> #N/A | R48: =IF(C48=0,"Niepoprawnie",IF(F48=0,"Niepoprawnie",IF(J48=0,"Niepoprawnie",IF(N48=0,"Niepoprawnie",IF(E48=0,"NIEPOPRAWNIE","POPRAWNIE"))))) -> Niepoprawnie | T48: =MID(B48,1,2) | AI48: 27
A49: 47. | C49: =IF(B49<1,0,IF(B49<=999,1000000,IF(B49<=9999,100000,IF(B49<=99999,10000,IF(B49<=999999,1000,IF(B49<9999999,100)))))) -> 0 | D49: =VLOOKUP(T49,Arkusz2!B:C,2,FALSE) -> #N/A | G49: =INDEX(Adresy!$B$5:$B$324,MATCH(F49,Adresy!$G$5:$G$324,0),MATCH($G$1,Adresy!$B$3,0)) -> #N/A | H49: =INDEX(Adresy!$C$5:$C$324,MATCH(F49,Adresy!$G$5:$G$324,0),MATCH($H$2,Adresy!$C$4,0)) -> #N/A | I49: =INDEX(Adresy!$D$5:$D$324,MATCH(F49,Adresy!$G$5:$G$324,0),MATCH($I$2,Adresy!$D$4,0)) -> #N/A | K49: =INDEX(Adresy!$B$5:$B$324,MATCH(J49,Adresy!$G$5:$G$324,0),MATCH($G$1,Adresy!$B$3,0)) -> #N/A | L49: =INDEX(Adresy!$C$5:$C$324,MATCH(J49,Adresy!$G$5:$G$324,0),MATCH($H$2,Adresy!$C$4,0)) -> #N/A | M49: =INDEX(Adresy!$D$5:$D$324,MATCH(J49,Adresy!$G$5:$G$324,0),MATCH($I$2,Adresy!$D$4,0)) -> #N/A | O49: =INDEX(Adresy!$B$5:$B$324,MATCH(N49,Adresy!$G$5:$G$324,0),MATCH($G$1,Adresy!$B$3,0)) -> #N/A | P49: =INDEX(Adresy!$C$5:$C$324,MATCH(N49,Adresy!$G$5:$G$324,0),MATCH($H$2,Adresy!$C$4,0)) -> #N/A | Q49: =INDEX(Adresy!$D$5:$D$324,MATCH(N49,Adresy!$G$5:$G$324,0),MATCH($I$2,Adresy!$D$4,0)) -> #N/A | R49: =IF(C49=0,"Niepoprawnie",IF(F49=0,"Niepoprawnie",IF(J49=0,"Niepoprawnie",IF(N49=0,"Niepoprawnie",IF(E49=0,"NIEPOPRAWNIE","POPRAWNIE"))))) -> Niepoprawnie | T49: =MID(B49,1,2) | AI49: 3478
A50: 48. | C50: =IF(B50<1,0,IF(B50<=999,1000000,IF(B50<=9999,100000,IF(B50<=99999,10000,IF(B50<=999999,1000,IF(B50<9999999,100)))))) -> 0 | D50: =VLOOKUP(T50,Arkusz2!B:C,2,FALSE) -> #N/A | G50: =INDEX(Adresy!$B$5:$B$324,MATCH(F50,Adresy!$G$5:$G$324,0),MATCH($G$1,Adresy!$B$3,0)) -> #N/A | H50: =INDEX(Adresy!$C$5:$C$324,MATCH(F50,Adresy!$G$5:$G$324,0),MATCH($H$2,Adresy!$C$4,0)) -> #N/A | I50: =INDEX(Adresy!$D$5:$D$324,MATCH(F50,Adresy!$G$5:$G$324,0),MATCH($I$2,Adresy!$D$4,0)) -> #N/A | K50: =INDEX(Adresy!$B$5:$B$324,MATCH(J50,Adresy!$G$5:$G$324,0),MATCH($G$1,Adresy!$B$3,0)) -> #N/A | L50: =INDEX(Adresy!$C$5:$C$324,MATCH(J50,Adresy!$G$5:$G$324,0),MATCH($H$2,Adresy!$C$4,0)) -> #N/A | M50: =INDEX(Adresy!$D$5:$D$324,MATCH(J50,Adresy!$G$5:$G$324,0),MATCH($I$2,Adresy!$D$4,0)) -> #N/A | O50: =INDEX(Adresy!$B$5:$B$324,MATCH(N50,Adresy!$G$5:$G$324,0),MATCH($G$1,Adresy!$B$3,0)) -> #N/A | P50: =INDEX(Adresy!$C$5:$C$324,MATCH(N50,Adresy!$G$5:$G$324,0),MATCH($H$2,Adresy!$C$4,0)) -> #N/A | Q50: =INDEX(Adresy!$D$5:$D$324,MATCH(N50,Adresy!$G$5:$G$324,0),MATCH($I$2,Adresy!$D$4,0)) -> #N/A | R50: =IF(C50=0,"Niepoprawnie",IF(F50=0,"Niepoprawnie",IF(J50=0,"Niepoprawnie",IF(N50=0,"Niepoprawnie",IF(E50=0,"NIEPOPRAWNIE","POPRAWNIE"))))) -> Niepoprawnie | T50: =MID(B50,1,2) | AI50: 9
A51: 49. | C51: =IF(B51<1,0,IF(B51<=999,1000000,IF(B51<=9999,100000,IF(B51<=99999,10000,IF(B51<=999999,1000,IF(B51<9999999,100)))))) -> 0 | D51: =VLOOKUP(T51,Arkusz2!B:C,2,FALSE) -> #N/A | G51: =INDEX(Adresy!$B$5:$B$324,MATCH(F51,Adresy!$G$5:$G$324,0),MATCH($G$1,Adresy!$B$3,0)) -> #N/A | H51: =INDEX(Adresy!$C$5:$C$324,MATCH(F51,Adresy!$G$5:$G$324,0),MATCH($H$2,Adresy!$C$4,0)) -> #N/A | I51: =INDEX(Adresy!$D$5:$D$324,MATCH(F51,Adresy!$G$5:$G$324,0),MATCH($I$2,Adresy!$D$4,0)) -> #N/A | K51: =INDEX(Adresy!$B$5:$B$324,MATCH(J51,Adresy!$G$5:$G$324,0),MATCH($G$1,Adresy!$B$3,0)) -> #N/A | L51: =INDEX(Adresy!$C$5:$C$324,MATCH(J51,Adresy!$G$5:$G$324,0),MATCH($H$2,Adresy!$C$4,0)) -> #N/A | M51: =INDEX(Adresy!$D$5:$D$324,MATCH(J51,Adresy!$G$5:$G$324,0),MATCH($I$2,Adresy!$D$4,0)) -> #N/A | O51: =INDEX(Adresy!$B$5:$B$324,MATCH(N51,Adresy!$G$5:$G$324,0),MATCH($G$1,Adresy!$B$3,0)) -> #N/A | P51: =INDEX(Adresy!$C$5:$C$324,MATCH(N51,Adresy!$G$5:$G$324,0),MATCH($H$2,Adresy!$C$4,0)) -> #N/A | Q51: =INDEX(Adresy!$D$5:$D$324,MATCH(N51,Adresy!$G$5:$G$324,0),MATCH($I$2,Adresy!$D$4,0)) -> #N/A | R51: =IF(C51=0,"Niepoprawnie",IF(F51=0,"Niepoprawnie",IF(J51=0,"Niepoprawnie",IF(N51=0,"Niepoprawnie",IF(E51=0,"NIEPOPRAWNIE","POPRAWNIE"))))) -> Niepoprawnie | T51: =MID(B51,1,2) | V51: 12 | AI51: 1674
A52: 50. | C52: =IF(B52<1,0,IF(B52<=999,1000000,IF(B52<=9999,100000,IF(B52<=99999,10000,IF(B52<=999999,1000,IF(B52<9999999,100)))))) -> 0 | D52: =VLOOKUP(T52,Arkusz2!B:C,2,FALSE) -> #N/A | G52: =INDEX(Adresy!$B$5:$B$324,MATCH(F52,Adresy!$G$5:$G$324,0),MATCH($G$1,Adresy!$B$3,0)) -> #N/A | H52: =INDEX(Adresy!$C$5:$C$324,MATCH(F52,Adresy!$G$5:$G$324,0),MATCH($H$2,Adresy!$C$4,0)) -> #N/A | I52: =INDEX(Adresy!$D$5:$D$324,MATCH(F52,Adresy!$G$5:$G$324,0),MATCH($I$2,Adresy!$D$4,0)) -> #N/A | K52: =INDEX(Adresy!$B$5:$B$324,MATCH(J52,Adresy!$G$5:$G$324,0),MATCH($G$1,Adresy!$B$3,0)) -> #N/A | L52: =INDEX(Adresy!$C$5:$C$324,MATCH(J52,Adresy!$G$5:$G$324,0),MATCH($H$2,Adresy!$C$4,0)) -> #N/A | M52: =INDEX(Adresy!$D$5:$D$324,MATCH(J52,Adresy!$G$5:$G$324,0),MATCH($I$2,Adresy!$D$4,0)) -> #N/A | O52: =INDEX(Adresy!$B$5:$B$324,MATCH(N52,Adresy!$G$5:$G$324,0),MATCH($G$1,Adresy!$B$3,0)) -> #N/A | P52: =INDEX(Adresy!$C$5:$C$324,MATCH(N52,Adresy!$G$5:$G$324,0),MATCH($H$2,Adresy!$C$4,0)) -> #N/A | Q52: =INDEX(Adresy!$D$5:$D$324,MATCH(N52,Adresy!$G$5:$G$324,0),MATCH($I$2,Adresy!$D$4,0)) -> #N/A | R52: =IF(C52=0,"Niepoprawnie",IF(F52=0,"Niepoprawnie",IF(J52=0,"Niepoprawnie",IF(N52=0,"Niepoprawnie",IF(E52=0,"NIEPOPRAWNIE","POPRAWNIE"))))) -> Niepoprawnie | T52: =MID(B52,1,2) | V52: 13 | AI52: 5374
A53: 51. | C53: =IF(B53<1,0,IF(B53<=999,1000000,IF(B53<=9999,100000,IF(B53<=99999,10000,IF(B53<=999999,1000,IF(B53<9999999,100)))))) -> 0 | D53: =VLOOKUP(T53,Arkusz2!B:C,2,FALSE) -> #N/A | G53: =INDEX(Adresy!$B$5:$B$324,MATCH(F53,Adresy!$G$5:$G$324,0),MATCH($G$1,Adresy!$B$3,0)) -> #N/A | H53: =INDEX(Adresy!$C$5:$C$324,MATCH(F53,Adresy!$G$5:$G$324,0),MATCH($H$2,Adresy!$C$4,0)) -> #N/A | I53: =INDEX(Adresy!$D$5:$D$324,MATCH(F53,Adresy!$G$5:$G$324,0),MATCH($I$2,Adresy!$D$4,0)) -> #N/A | K53: =INDEX(Adresy!$B$5:$B$324,MATCH(J53,Adresy!$G$5:$G$324,0),MATCH($G$1,Adresy!$B$3,0)) -> #N/A | L53: =INDEX(Adresy!$C$5:$C$324,MATCH(J53,Adresy!$G$5:$G$324,0),MATCH($H$2,Adresy!$C$4,0)) -> #N/A | M53: =INDEX(Adresy!$D$5:$D$324,MATCH(J53,Adresy!$G$5:$G$324,0),MATCH($I$2,Adresy!$D$4,0)) -> #N/A | O53: =INDEX(Adresy!$B$5:$B$324,MATCH(N53,Adresy!$G$5:$G$324,0),MATCH($G$1,Adresy!$B$3,0)) -> #N/A | P53: =INDEX(Adresy!$C$5:$C$324,MATCH(N53,Adresy!$G$5:$G$324,0),MATCH($H$2,Adresy!$C$4,0)) -> #N/A | Q53: =INDEX(Adresy!$D$5:$D$324,MATCH(N53,Adresy!$G$5:$G$324,0),MATCH($I$2,Adresy!$D$4,0)) -> #N/A | R53: =IF(C53=0,"Niepoprawnie",IF(F53=0,"Niepoprawnie",IF(J53=0,"Niepoprawnie",IF(N53=0,"Niepoprawnie",IF(E53=0,"NIEPOPRAWNIE","POPRAWNIE"))))) -> Niepoprawnie | T53: =MID(B53,1,2) | V53: 14 | AI53: 3040
A54: 52. | C54: =IF(B54<1,0,IF(B54<=999,1000000,IF(B54<=9999,100000,IF(B54<=99999,10000,IF(B54<=999999,1000,IF(B54<9999999,100)))))) -> 0 | D54: =VLOOKUP(T54,Arkusz2!B:C,2,FALSE) -> #N/A | G54: =INDEX(Adresy!$B$5:$B$324,MATCH(F54,Adresy!$G$5:$G$324,0),MATCH($G$1,Adresy!$B$3,0)) -> #N/A | H54: =INDEX(Adresy!$C$5:$C$324,MATCH(F54,Adresy!$G$5:$G$324,0),MATCH($H$2,Adresy!$C$4,0)) -> #N/A | I54: =INDEX(Adresy!$D$5:$D$324,MATCH(F54,Adresy!$G$5:$G$324,0),MATCH($I$2,Adresy!$D$4,0)) -> #N/A | K54: =INDEX(Adresy!$B$5:$B$324,MATCH(J54,Adresy!$G$5:$G$324,0),MATCH($G$1,Adresy!$B$3,0)) -> #N/A | L54: =INDEX(Adresy!$C$5:$C$324,MATCH(J54,Adresy!$G$5:$G$324,0),MATCH($H$2,Adresy!$C$4,0)) -> #N/A | M54: =INDEX(Adresy!$D$5:$D$324,MATCH(J54,Adresy!$G$5:$G$324,0),MATCH($I$2,Adresy!$D$4,0)) -> #N/A | O54: =INDEX(Adresy!$B$5:$B$324,MATCH(N54,Adresy!$G$5:$G$324,0),MATCH($G$1,Adresy!$B$3,0)) -> #N/A | P54: =INDEX(Adresy!$C$5:$C$324,MATCH(N54,Adresy!$G$5:$G$324,0),MATCH($H$2,Adresy!$C$4,0)) -> #N/A | Q54: =INDEX(Adresy!$D$5:$D$324,MATCH(N54,Adresy!$G$5:$G$324,0),MATCH($I$2,Adresy!$D$4,0)) -> #N/A | R54: =IF(C54=0,"Niepoprawnie",IF(F54=0,"Niepoprawnie",IF(J54=0,"Niepoprawnie",IF(N54=0,"Niepoprawnie",IF(E54=0,"NIEPOPRAWNIE","POPRAWNIE"))))) -> Niepoprawnie | T54: =MID(B54,1,2) | V54: 15 | AI54: 40
A55: 53. | C55: =IF(B55<1,0,IF(B55<=999,1000000,IF(B55<=9999,100000,IF(B55<=99999,10000,IF(B55<=999999,1000,IF(B55<9999999,100)))))) -> 0 | D55: =VLOOKUP(T55,Arkusz2!B:C,2,FALSE) -> #N/A | G55: =INDEX(Adresy!$B$5:$B$324,MATCH(F55,Adresy!$G$5:$G$324,0),MATCH($G$1,Adresy!$B$3,0)) -> #N/A | H55: =INDEX(Adresy!$C$5:$C$324,MATCH(F55,Adresy!$G$5:$G$324,0),MATCH($H$2,Adresy!$C$4,0)) -> #N/A | I55: =INDEX(Adresy!$D$5:$D$324,MATCH(F55,Adresy!$G$5:$G$324,0),MATCH($I$2,Adresy!$D$4,0)) -> #N/A | K55: =INDEX(Adresy!$B$5:$B$324,MATCH(J55,Adresy!$G$5:$G$324,0),MATCH($G$1,Adresy!$B$3,0)) -> #N/A | L55: =INDEX(Adresy!$C$5:$C$324,MATCH(J55,Adresy!$G$5:$G$324,0),MATCH($H$2,Adresy!$C$4,0)) -> #N/A | M55: =INDEX(Adresy!$D$5:$D$324,MATCH(J55,Adresy!$G$5:$G$324,0),MATCH($I$2,Adresy!$D$4,0)) -> #N/A | O55: =INDEX(Adresy!$B$5:$B$324,MATCH(N55,Adresy!$G$5:$G$324,0),MATCH($G$1,Adresy!$B$3,0)) -> #N/A | P55: =INDEX(Adresy!$C$5:$C$324,MATCH(N55,Adresy!$G$5:$G$324,0),MATCH($H$2,Adresy!$C$4,0)) -> #N/A | Q55: =INDEX(Adresy!$D$5:$D$324,MATCH(N55,Adresy!$G$5:$G$324,0),MATCH($I$2,Adresy!$D$4,0)) -> #N/A | R55: =IF(C55=0,"Niepoprawnie",IF(F55=0,"Niepoprawnie",IF(J55=0,"Niepoprawnie",IF(N55=0,"Niepoprawnie",IF(E55=0,"NIEPOPRAWNIE","POPRAWNIE"))))) -> Niepoprawnie | T55: =MID(B55,1,2) | V55: 16 | AI55: 327
A56: 54. | C56: =IF(B56<1,0,IF(B56<=999,1000000,IF(B56<=9999,100000,IF(B56<=99999,10000,IF(B56<=999999,1000,IF(B56<9999999,100)))))) -> 0 | D56: =VLOOKUP(T56,Arkusz2!B:C,2,FALSE) -> #N/A | G56: =INDEX(Adresy!$B$5:$B$324,MATCH(F56,Adresy!$G$5:$G$324,0),MATCH($G$1,Adresy!$B$3,0)) -> #N/A | H56: =INDEX(Adresy!$C$5:$C$324,MATCH(F56,Adresy!$G$5:$G$324,0),MATCH($H$2,Adresy!$C$4,0)) -> #N/A | I56: =INDEX(Adresy!$D$5:$D$324,MATCH(F56,Adresy!$G$5:$G$324,0),MATCH($I$2,Adresy!$D$4,0)) -> #N/A | K56: =INDEX(Adresy!$B$5:$B$324,MATCH(J56,Adresy!$G$5:$G$324,0),MATCH($G$1,Adresy!$B$3,0)) -> #N/A | L56: =INDEX(Adresy!$C$5:$C$324,MATCH(J56,Adresy!$G$5:$G$324,0),MATCH($H$2,Adresy!$C$4,0)) -> #N/A | M56: =INDEX(Adresy!$D$5:$D$324,MATCH(J56,Adresy!$G$5:$G$324,0),MATCH($I$2,Adresy!$D$4,0)) -> #N/A | O56: =INDEX(Adresy!$B$5:$B$324,MATCH(N56,Adresy!$G$5:$G$324,0),MATCH($G$1,Adresy!$B$3,0)) -> #N/A | P56: =INDEX(Adresy!$C$5:$C$324,MATCH(N56,Adresy!$G$5:$G$324,0),MATCH($H$2,Adresy!$C$4,0)) -> #N/A | Q56: =INDEX(Adresy!$D$5:$D$324,MATCH(N56,Adresy!$G$5:$G$324,0),MATCH($I$2,Adresy!$D$4,0)) -> #N/A | R56: =IF(C56=0,"Niepoprawnie",IF(F56=0,"Niepoprawnie",IF(J56=0,"Niepoprawnie",IF(N56=0,"Niepoprawnie",IF(E56=0,"NIEPOPRAWNIE","POPRAWNIE"))))) -> Niepoprawnie | T56: =MID(B56,1,2) | V56: 17 | AI56: 5
A57: 55. | C57: =IF(B57<1,0,IF(B57<=999,1000000,IF(B57<=9999,100000,IF(B57<=99999,10000,IF(B57<=999999,1000,IF(B57<9999999,100)))))) -> 0 | D57: =VLOOKUP(T57,Arkusz2!B:C,2,FALSE) -> #N/A | G57: =INDEX(Adresy!$B$5:$B$324,MATCH(F57,Adresy!$G$5:$G$324,0),MATCH($G$1,Adresy!$B$3,0)) -> #N/A | H57: =INDEX(Adresy!$C$5:$C$324,MATCH(F57,Adresy!$G$5:$G$324,0),MATCH($H$2,Adresy!$C$4,0)) -> #N/A | I57: =INDEX(Adresy!$D$5:$D$324,MATCH(F57,Adresy!$G$5:$G$324,0),MATCH($I$2,Adresy!$D$4,0)) -> #N/A | K57: =INDEX(Adresy!$B$5:$B$324,MATCH(J57,Adresy!$G$5:$G$324,0),MATCH($G$1,Adresy!$B$3,0)) -> #N/A | L57: =INDEX(Adresy!$C$5:$C$324,MATCH(J57,Adresy!$G$5:$G$324,0),MATCH($H$2,Adresy!$C$4,0)) -> #N/A | M57: =INDEX(Adresy!$D$5:$D$324,MATCH(J57,Adresy!$G$5:$G$324,0),MATCH($I$2,Adresy!$D$4,0)) -> #N/A | O57: =INDEX(Adresy!$B$5:$B$324,MATCH(N57,Adresy!$G$5:$G$324,0),MATCH($G$1,Adresy!$B$3,0)) -> #N/A | P57: =INDEX(Adresy!$C$5:$C$324,MATCH(N57,Adresy!$G$5:$G$324,0),MATCH($H$2,Adresy!$C$4,0)) -> #N/A | Q57: =INDEX(Adresy!$D$5:$D$324,MATCH(N57,Adresy!$G$5:$G$324,0),MATCH($I$2,Adresy!$D$4,0)) -> #N/A | R57: =IF(C57=0,"Niepoprawnie",IF(F57=0,"Niepoprawnie",IF(J57=0,"Niepoprawnie",IF(N57=0,"Niepoprawnie",IF(E57=0,"NIEPOPRAWNIE","POPRAWNIE"))))) -> Niepoprawnie | T57: =MID(B57,1,2) | V57: 18 | AI57: 3751
A58: 56. | C58: =IF(B58<1,0,IF(B58<=999,1000000,IF(B58<=9999,100000,IF(B58<=99999,10000,IF(B58<=999999,1000,IF(B58<9999999,100)))))) -> 0 | D58: =VLOOKUP(T58,Arkusz2!B:C,2,FALSE) -> #N/A | G58: =INDEX(Adresy!$B$5:$B$324,MATCH(F58,Adresy!$G$5:$G$324,0),MATCH($G$1,Adresy!$B$3,0)) -> #N/A | H58: =INDEX(Adresy!$C$5:$C$324,MATCH(F58,Adresy!$G$5:$G$324,0),MATCH($H$2,Adresy!$C$4,0)) -> #N/A | I58: =INDEX(Adresy!$D$5:$D$324,MATCH(F58,Adresy!$G$5:$G$324,0),MATCH($I$2,Adresy!$D$4,0)) -> #N/A | K58: =INDEX(Adresy!$B$5:$B$324,MATCH(J58,Adresy!$G$5:$G$324,0),MATCH($G$1,Adresy!$B$3,0)) -> #N/A | L58: =INDEX(Adresy!$C$5:$C$324,MATCH(J58,Adresy!$G$5:$G$324,0),MATCH($H$2,Adresy!$C$4,0)) -> #N/A | M58: =INDEX(Adresy!$D$5:$D$324,MATCH(J58,Adresy!$G$5:$G$324,0),MATCH($I$2,Adresy!$D$4,0)) -> #N/A | O58: =INDEX(Adresy!$B$5:$B$324,MATCH(N58,Adresy!$G$5:$G$324,0),MATCH($G$1,Adresy!$B$3,0)) -> #N/A | P58: =INDEX(Adresy!$C$5:$C$324,MATCH(N58,Adresy!$G$5:$G$324,0),MATCH($H$2,Adresy!$C$4,0)) -> #N/A | Q58: =INDEX(Adresy!$D$5:$D$324,MATCH(N58,Adresy!$G$5:$G$324,0),MATCH($I$2,Adresy!$D$4,0)) -> #N/A | R58: =IF(C58=0,"Niepoprawnie",IF(F58=0,"Niepoprawnie",IF(J58=0,"Niepoprawnie",IF(N58=0,"Niepoprawnie",IF(E58=0,"NIEPOPRAWNIE","POPRAWNIE"))))) -> Niepoprawnie | T58: =MID(B58,1,2) | V58: 22 | AI58: 5952
A59: 57. | C59: =IF(B59<1,0,IF(B59<=999,1000000,IF(B59<=9999,100000,IF(B59<=99999,10000,IF(B59<=999999,1000,IF(B59<9999999,100)))))) -> 0 | D59: =VLOOKUP(T59,Arkusz2!B:C,2,FALSE) -> #N/A | G59: =INDEX(Adresy!$B$5:$B$324,MATCH(F59,Adresy!$G$5:$G$324,0),MATCH($G$1,Adresy!$B$3,0)) -> #N/A | H59: =INDEX(Adresy!$C$5:$C$324,MATCH(F59,Adresy!$G$5:$G$324,0),MATCH($H$2,Adresy!$C$4,0)) -> #N/A | I59: =INDEX(Adresy!$D$5:$D$324,MATCH(F59,Adresy!$G$5:$G$324,0),MATCH($I$2,Adresy!$D$4,0)) -> #N/A | K59: =INDEX(Adresy!$B$5:$B$324,MATCH(J59,Adresy!$G$5:$G$324,0),MATCH($G$1,Adresy!$B$3,0)) -> #N/A | L59: =INDEX(Adresy!$C$5:$C$324,MATCH(J59,Adresy!$G$5:$G$324,0),MATCH($H$2,Adresy!$C$4,0)) -> #N/A | M59: =INDEX(Adresy!$D$5:$D$324,MATCH(J59,Adresy!$G$5:$G$324,0),MATCH($I$2,Adresy!$D$4,0)) -> #N/A | O59: =INDEX(Adresy!$B$5:$B$324,MATCH(N59,Adresy!$G$5:$G$324,0),MATCH($G$1,Adresy!$B$3,0)) -> #N/A | P59: =INDEX(Adresy!$C$5:$C$324,MATCH(N59,Adresy!$G$5:$G$324,0),MATCH($H$2,Adresy!$C$4,0)) -> #N/A | Q59: =INDEX(Adresy!$D$5:$D$324,MATCH(N59,Adresy!$G$5:$G$324,0),MATCH($I$2,Adresy!$D$4,0)) -> #N/A | R59: =IF(C59=0,"Niepoprawnie",IF(F59=0,"Niepoprawnie",IF(J59=0,"Niepoprawnie",IF(N59=0,"Niepoprawnie",IF(E59=0,"NIEPOPRAWNIE","POPRAWNIE"))))) -> Niepoprawnie | T59: =MID(B59,1,2) | V59: 23 | AI59: 5623
A60: 58. | C60: =IF(B60<1,0,IF(B60<=999,1000000,IF(B60<=9999,100000,IF(B60<=99999,10000,IF(B60<=999999,1000,IF(B60<9999999,100)))))) -> 0 | D60: =VLOOKUP(T60,Arkusz2!B:C,2,FALSE) -> #N/A | G60: =INDEX(Adresy!$B$5:$B$324,MATCH(F60,Adresy!$G$5:$G$324,0),MATCH($G$1,Adresy!$B$3,0)) -> #N/A | H60: =INDEX(Adresy!$C$5:$C$324,MATCH(F60,Adresy!$G$5:$G$324,0),MATCH($H$2,Adresy!$C$4,0)) -> #N/A | I60: =INDEX(Adresy!$D$5:$D$324,MATCH(F60,Adresy!$G$5:$G$324,0),MATCH($I$2,Adresy!$D$4,0)) -> #N/A | K60: =INDEX(Adresy!$B$5:$B$324,MATCH(J60,Adresy!$G$5:$G$324,0),MATCH($G$1,Adresy!$B$3,0)) -> #N/A | L60: =INDEX(Adresy!$C$5:$C$324,MATCH(J60,Adresy!$G$5:$G$324,0),MATCH($H$2,Adresy!$C$4,0)) -> #N/A | M60: =INDEX(Adresy!$D$5:$D$324,MATCH(J60,Adresy!$G$5:$G$324,0),MATCH($I$2,Adresy!$D$4,0)) -> #N/A | O60: =INDEX(Adresy!$B$5:$B$324,MATCH(N60,Adresy!$G$5:$G$324,0),MATCH($G$1,Adresy!$B$3,0)) -> #N/A | P60: =INDEX(Adresy!$C$5:$C$324,MATCH(N60,Adresy!$G$5:$G$324,0),MATCH($H$2,Adresy!$C$4,0)) -> #N/A | Q60: =INDEX(Adresy!$D$5:$D$324,MATCH(N60,Adresy!$G$5:$G$324,0),MATCH($I$2,Adresy!$D$4,0)) -> #N/A | R60: =IF(C60=0,"Niepoprawnie",IF(F60=0,"Niepoprawnie",IF(J60=0,"Niepoprawnie",IF(N60=0,"Niepoprawnie",IF(E60=0,"NIEPOPRAWNIE","POPRAWNIE"))))) -> Niepoprawnie | T60: =MID(B60,1,2) | V60: 24 | AI60: 18
A61: 59. | C61: =IF(B61<1,0,IF(B61<=999,1000000,IF(B61<=9999,100000,IF(B61<=99999,10000,IF(B61<=999999,1000,IF(B61<9999999,100)))))) -> 0 | D61: =VLOOKUP(T61,Arkusz2!B:C,2,FALSE) -> #N/A | G61: =INDEX(Adresy!$B$5:$B$324,MATCH(F61,Adresy!$G$5:$G$324,0),MATCH($G$1,Adresy!$B$3,0)) -> #N/A | H61: =INDEX(Adresy!$C$5:$C$324,MATCH(F61,Adresy!$G$5:$G$324,0),MATCH($H$2,Adresy!$C$4,0)) -> #N/A | I61: =INDEX(Adresy!$D$5:$D$324,MATCH(F61,Adresy!$G$5:$G$324,0),MATCH($I$2,Adresy!$D$4,0)) -> #N/A | K61: =INDEX(Adresy!$B$5:$B$324,MATCH(J61,Adresy!$G$5:$G$324,0),MATCH($G$1,Adresy!$B$3,0)) -> #N/A | L61: =INDEX(Adresy!$C$5:$C$324,MATCH(J61,Adresy!$G$5:$G$324,0),MATCH($H$2,Adresy!$C$4,0)) -> #N/A | M61: =INDEX(Adresy!$D$5:$D$324,MATCH(J61,Adresy!$G$5:$G$324,0),MATCH($I$2,Adresy!$D$4,0)) -> #N/A | O61: =INDEX(Adresy!$B$5:$B$324,MATCH(N61,Adresy!$G$5:$G$324,0),MATCH($G$1,Adresy!$B$3,0)) -> #N/A | P61: =INDEX(Adresy!$C$5:$C$324,MATCH(N61,Adresy!$G$5:$G$324,0),MATCH($H$2,Adresy!$C$4,0)) -> #N/A | Q61: =INDEX(Adresy!$D$5:$D$324,MATCH(N61,Adresy!$G$5:$G$324,0),MATCH($I$2,Adresy!$D$4,0)) -> #N/A | R61: =IF(C61=0,"Niepoprawnie",IF(F61=0,"Niepoprawnie",IF(J61=0,"Niepoprawnie",IF(N61=0,"Niepoprawnie",IF(E61=0,"NIEPOPRAWNIE","POPRAWNIE"))))) -> Niepoprawnie | T61: =MID(B61,1,2) | V61: 25 | AI61: 3959
A62: 60. | C62: =IF(B62<1,0,IF(B62<=999,1000000,IF(B62<=9999,100000,IF(B62<=99999,10000,IF(B62<=999999,1000,IF(B62<9999999,100)))))) -> 0 | D62: =VLOOKUP(T62,Arkusz2!B:C,2,FALSE) -> #N/A | G62: =INDEX(Adresy!$B$5:$B$324,MATCH(F62,Adresy!$G$5:$G$324,0),MATCH($G$1,Adresy!$B$3,0)) -> #N/A | H62: =INDEX(Adresy!$C$5:$C$324,MATCH(F62,Adresy!$G$5:$G$324,0),MATCH($H$2,Adresy!$C$4,0)) -> #N/A | I62: =INDEX(Adresy!$D$5:$D$324,MATCH(F62,Adresy!$G$5:$G$324,0),MATCH($I$2,Adresy!$D$4,0)) -> #N/A | K62: =INDEX(Adresy!$B$5:$B$324,MATCH(J62,Adresy!$G$5:$G$324,0),MATCH($G$1,Adresy!$B$3,0)) -> #N/A | L62: =INDEX(Adresy!$C$5:$C$324,MATCH(J62,Adresy!$G$5:$G$324,0),MATCH($H$2,Adresy!$C$4,0)) -> #N/A | M62: =INDEX(Adresy!$D$5:$D$324,MATCH(J62,Adresy!$G$5:$G$324,0),MATCH($I$2,Adresy!$D$4,0)) -> #N/A | O62: =INDEX(Adresy!$B$5:$B$324,MATCH(N62,Adresy!$G$5:$G$324,0),MATCH($G$1,Adresy!$B$3,0)) -> #N/A | P62: =INDEX(Adresy!$C$5:$C$324,MATCH(N62,Adresy!$G$5:$G$324,0),MATCH($H$2,Adresy!$C$4,0)) -> #N/A | Q62: =INDEX(Adresy!$D$5:$D$324,MATCH(N62,Adresy!$G$5:$G$324,0),MATCH($I$2,Adresy!$D$4,0)) -> #N/A | R62: =IF(C62=0,"Niepoprawnie",IF(F62=0,"Niepoprawnie",IF(J62=0,"Niepoprawnie",IF(N62=0,"Niepoprawnie",IF(E62=0,"NIEPOPRAWNIE","POPRAWNIE"))))) -> Niepoprawnie | T62: =MID(B62,1,2) | V62: 29 | AI62: 95
... A101: 99. | C101: =IF(B101<1,0,IF(B101<=999,1000000,IF(B101<=9999,100000,IF(B101<=99999,10000,IF(B101<=999999,1000,IF(B101<9999999,100)))))) -> 0 | D101: =VLOOKUP(T101,Arkusz2!B:C,2,FALSE) -> #N/A | G101: =INDEX(Adresy!$B$5:$B$324,MATCH(F101,Adresy!$G$5:$G$324,0),MATCH($G$1,Adresy!$B$3,0)) -> #N/A | H101: =INDEX(Adresy!$C$5:$C$324,MATCH(F101,Adresy!$G$5:$G$324,0),MATCH($H$2,Adresy!$C$4,0)) -> #N/A | I101: =INDEX(Adresy!$D$5:$D$324,MATCH(F101,Adresy!$G$5:$G$324,0),MATCH($I$2,Adresy!$D$4,0)) -> #N/A | K101: =INDEX(Adresy!$B$5:$B$324,MATCH(J101,Adresy!$G$5:$G$324,0),MATCH($G$1,Adresy!$B$3,0)) -> #N/A | L101: =INDEX(Adresy!$C$5:$C$324,MATCH(J101,Adresy!$G$5:$G$324,0),MATCH($H$2,Adresy!$C$4,0)) -> #N/A | M101: =INDEX(Adresy!$D$5:$D$324,MATCH(J101,Adresy!$G$5:$G$324,0),MATCH($I$2,Adresy!$D$4,0)) -> #N/A | O101: =INDEX(Adresy!$B$5:$B$324,MATCH(N101,Adresy!$G$5:$G$324,0),MATCH($G$1,Adresy!$B$3,0)) -> #N/A | P101: =INDEX(Adresy!$C$5:$C$324,MATCH(N101,Adresy!$G$5:$G$324,0),MATCH($H$2,Adresy!$C$4,0)) -> #N/A | Q101: =INDEX(Adresy!$D$5:$D$324,MATCH(N101,Adresy!$G$5:$G$324,0),MATCH($I$2,Adresy!$D$4,0)) -> #N/A | R101: =IF(C101=0,"Niepoprawnie",IF(F101=0,"Niepoprawnie",IF(J101=0,"Niepoprawnie",IF(N101=0,"Niepoprawnie",IF(E101=0,"NIEPOPRAWNIE","POPRAWNIE"))))) -> Niepoprawnie | T101: =MID(B101,1,2) | V101: 95 | AI101: 3487
A102: 100. | C102: =IF(B102<1,0,IF(B102<=999,1000000,IF(B102<=9999,100000,IF(B102<=99999,10000,IF(B102<=999999,1000,IF(B102<9999999,100)))))) -> 0 | D102: =VLOOKUP(T102,Arkusz2!B:C,2,FALSE) -> #N/A | G102: =INDEX(Adresy!$B$5:$B$324,MATCH(F102,Adresy!$G$5:$G$324,0),MATCH($G$1,Adresy!$B$3,0)) -> #N/A | H102: =INDEX(Adresy!$C$5:$C$324,MATCH(F102,Adresy!$G$5:$G$324,0),MATCH($H$2,Adresy!$C$4,0)) -> #N/A | I102: =INDEX(Adresy!$D$5:$D$324,MATCH(F102,Adresy!$G$5:$G$324,0),MATCH($I$2,Adresy!$D$4,0)) -> #N/A | K102: =INDEX(Adresy!$B$5:$B$324,MATCH(J102,Adresy!$G$5:$G$324,0),MATCH($G$1,Adresy!$B$3,0)) -> #N/A | L102: =INDEX(Adresy!$C$5:$C$324,MATCH(J102,Adresy!$G$5:$G$324,0),MATCH($H$2,Adresy!$C$4,0)) -> #N/A | M102: =INDEX(Adresy!$D$5:$D$324,MATCH(J102,Adresy!$G$5:$G$324,0),MATCH($I$2,Adresy!$D$4,0)) -> #N/A | O102: =INDEX(Adresy!$B$5:$B$324,MATCH(N102,Adresy!$G$5:$G$324,0),MATCH($G$1,Adresy!$B$3,0)) -> #N/A | P102: =INDEX(Adresy!$C$5:$C$324,MATCH(N102,Adresy!$G$5:$G$324,0),MATCH($H$2,Adresy!$C$4,0)) -> #N/A | Q102: =INDEX(Adresy!$D$5:$D$324,MATCH(N102,Adresy!$G$5:$G$324,0),MATCH($I$2,Adresy!$D$4,0)) -> #N/A | R102: =IF(C102=0,"Niepoprawnie",IF(F102=0,"Niepoprawnie",IF(J102=0,"Niepoprawnie",IF(N102=0,"Niepoprawnie",IF(E102=0,"NIEPOPRAWNIE","POPRAWNIE"))))) -> Niepoprawnie | T102: =MID(B102,1,2) | AI102: 35
A103: 101. | C103: =IF(B103<1,0,IF(B103<=999,1000000,IF(B103<=9999,100000,IF(B103<=99999,10000,IF(B103<=999999,1000,IF(B103<9999999,100)))))) -> 0 | D103: =VLOOKUP(T103,Arkusz2!B:C,2,FALSE) -> #N/A | G103: =INDEX(Adresy!$B$5:$B$324,MATCH(F103,Adresy!$G$5:$G$324,0),MATCH($G$1,Adresy!$B$3,0)) -> #N/A | H103: =INDEX(Adresy!$C$5:$C$324,MATCH(F103,Adresy!$G$5:$G$324,0),MATCH($H$2,Adresy!$C$4,0)) -> #N/A | I103: =INDEX(Adresy!$D$5:$D$324,MATCH(F103,Adresy!$G$5:$G$324,0),MATCH($I$2,Adresy!$D$4,0)) -> #N/A | K103: =INDEX(Adresy!$B$5:$B$324,MATCH(J103,Adresy!$G$5:$G$324,0),MATCH($G$1,Adresy!$B$3,0)) -> #N/A | L103: =INDEX(Adresy!$C$5:$C$324,MATCH(J103,Adresy!$G$5:$G$324,0),MATCH($H$2,Adresy!$C$4,0)) -> #N/A | M103: =INDEX(Adresy!$D$5:$D$324,MATCH(J103,Adresy!$G$5:$G$324,0),MATCH($I$2,Adresy!$D$4,0)) -> #N/A | O103: =INDEX(Adresy!$B$5:$B$324,MATCH(N103,Adresy!$G$5:$G$324,0),MATCH($G$1,Adresy!$B$3,0)) -> #N/A | P103: =INDEX(Adresy!$C$5:$C$324,MATCH(N103,Adresy!$G$5:$G$324,0),MATCH($H$2,Adresy!$C$4,0)) -> #N/A | Q103: =INDEX(Adresy!$D$5:$D$324,MATCH(N103,Adresy!$G$5:$G$324,0),MATCH($I$2,Adresy!$D$4,0)) -> #N/A | R103: =IF(C103=0,"Niepoprawnie",IF(F103=0,"Niepoprawnie",IF(J103=0,"Niepoprawnie",IF(N103=0,"Niepoprawnie",IF(E103=0,"NIEPOPRAWNIE","POPRAWNIE"))))) -> Niepoprawnie | T103: =MID(B103,1,2) | AI103: 1102
A104: 102. | C104: =IF(B104<1,0,IF(B104<=999,1000000,IF(B104<=9999,100000,IF(B104<=99999,10000,IF(B104<=999999,1000,IF(B104<9999999,100)))))) -> 0 | D104: =VLOOKUP(T104,Arkusz2!B:C,2,FALSE) -> #N/A | G104: =INDEX(Adresy!$B$5:$B$324,MATCH(F104,Adresy!$G$5:$G$324,0),MATCH($G$1,Adresy!$B$3,0)) -> #N/A | H104: =INDEX(Adresy!$C$5:$C$324,MATCH(F104,Adresy!$G$5:$G$324,0),MATCH($H$2,Adresy!$C$4,0)) -> #N/A | I104: =INDEX(Adresy!$D$5:$D$324,MATCH(F104,Adresy!$G$5:$G$324,0),MATCH($I$2,Adresy!$D$4,0)) -> #N/A | K104: =INDEX(Adresy!$B$5:$B$324,MATCH(J104,Adresy!$G$5:$G$324,0),MATCH($G$1,Adresy!$B$3,0)) -> #N/A | L104: =INDEX(Adresy!$C$5:$C$324,MATCH(J104,Adresy!$G$5:$G$324,0),MATCH($H$2,Adresy!$C$4,0)) -> #N/A | M104: =INDEX(Adresy!$D$5:$D$324,MATCH(J104,Adresy!$G$5:$G$324,0),MATCH($I$2,Adresy!$D$4,0)) -> #N/A | O104: =INDEX(Adresy!$B$5:$B$324,MATCH(N104,Adresy!$G$5:$G$324,0),MATCH($G$1,Adresy!$B$3,0)) -> #N/A | P104: =INDEX(Adresy!$C$5:$C$324,MATCH(N104,Adresy!$G$5:$G$324,0),MATCH($H$2,Adresy!$C$4,0)) -> #N/A | Q104: =INDEX(Adresy!$D$5:$D$324,MATCH(N104,Adresy!$G$5:$G$324,0),MATCH($I$2,Adresy!$D$4,0)) -> #N/A | R104: =IF(C104=0,"Niepoprawnie",IF(F104=0,"Niepoprawnie",IF(J104=0,"Niepoprawnie",IF(N104=0,"Niepoprawnie",IF(E104=0,"NIEPOPRAWNIE","POPRAWNIE"))))) -> Niepoprawnie | T104: =MID(B104,1,2) | AI104: 141
A105: 103. | C105: =IF(B105<1,0,IF(B105<=999,1000000,IF(B105<=9999,100000,IF(B105<=99999,10000,IF(B105<=999999,1000,IF(B105<9999999,100)))))) -> 0 | D105: =VLOOKUP(T105,Arkusz2!B:C,2,FALSE) -> #N/A | G105: =INDEX(Adresy!$B$5:$B$324,MATCH(F105,Adresy!$G$5:$G$324,0),MATCH($G$1,Adresy!$B$3,0)) -> #N/A | H105: =INDEX(Adresy!$C$5:$C$324,MATCH(F105,Adresy!$G$5:$G$324,0),MATCH($H$2,Adresy!$C$4,0)) -> #N/A | I105: =INDEX(Adresy!$D$5:$D$324,MATCH(F105,Adresy!$G$5:$G$324,0),MATCH($I$2,Adresy!$D$4,0)) -> #N/A | K105: =INDEX(Adresy!$B$5:$B$324,MATCH(J105,Adresy!$G$5:$G$324,0),MATCH($G$1,Adresy!$B$3,0)) -> #N/A | L105: =INDEX(Adresy!$C$5:$C$324,MATCH(J105,Adresy!$G$5:$G$324,0),MATCH($H$2,Adresy!$C$4,0)) -> #N/A | M105: =INDEX(Adresy!$D$5:$D$324,MATCH(J105,Adresy!$G$5:$G$324,0),MATCH($I$2,Adresy!$D$4,0)) -> #N/A | O105: =INDEX(Adresy!$B$5:$B$324,MATCH(N105,Adresy!$G$5:$G$324,0),MATCH($G$1,Adresy!$B$3,0)) -> #N/A | P105: =INDEX(Adresy!$C$5:$C$324,MATCH(N105,Adresy!$G$5:$G$324,0),MATCH($H$2,Adresy!$C$4,0)) -> #N/A | Q105: =INDEX(Adresy!$D$5:$D$324,MATCH(N105,Adresy!$G$5:$G$324,0),MATCH($I$2,Adresy!$D$4,0)) -> #N/A | R105: =IF(C105=0,"Niepoprawnie",IF(F105=0,"Niepoprawnie",IF(J105=0,"Niepoprawnie",IF(N105=0,"Niepoprawnie",IF(E105=0,"NIEPOPRAWNIE","POPRAWNIE"))))) -> Niepoprawnie | T105: =MID(B105,1,2) | AI105: 2964
A106: 104. | C106: =IF(B106<1,0,IF(B106<=999,1000000,IF(B106<=9999,100000,IF(B106<=99999,10000,IF(B106<=999999,1000,IF(B106<9999999,100)))))) -> 0 | D106: =VLOOKUP(T106,Arkusz2!B:C,2,FALSE) -> #N/A | G106: =INDEX(Adresy!$B$5:$B$324,MATCH(F106,Adresy!$G$5:$G$324,0),MATCH($G$1,Adresy!$B$3,0)) -> #N/A | H106: =INDEX(Adresy!$C$5:$C$324,MATCH(F106,Adresy!$G$5:$G$324,0),MATCH($H$2,Adresy!$C$4,0)) -> #N/A | I106: =INDEX(Adresy!$D$5:$D$324,MATCH(F106,Adresy!$G$5:$G$324,0),MATCH($I$2,Adresy!$D$4,0)) -> #N/A | K106: =INDEX(Adresy!$B$5:$B$324,MATCH(J106,Adresy!$G$5:$G$324,0),MATCH($G$1,Adresy!$B$3,0)) -> #N/A | L106: =INDEX(Adresy!$C$5:$C$324,MATCH(J106,Adresy!$G$5:$G$324,0),MATCH($H$2,Adresy!$C$4,0)) -> #N/A | M106: =INDEX(Adresy!$D$5:$D$324,MATCH(J106,Adresy!$G$5:$G$324,0),MATCH($I$2,Adresy!$D$4,0)) -> #N/A | O106: =INDEX(Adresy!$B$5:$B$324,MATCH(N106,Adresy!$G$5:$G$324,0),MATCH($G$1,Adresy!$B$3,0)) -> #N/A | P106: =INDEX(Adresy!$C$5:$C$324,MATCH(N106,Adresy!$G$5:$G$324,0),MATCH($H$2,Adresy!$C$4,0)) -> #N/A | Q106: =INDEX(Adresy!$D$5:$D$324,MATCH(N106,Adresy!$G$5:$G$324,0),MATCH($I$2,Adresy!$D$4,0)) -> #N/A | R106: =IF(C106=0,"Niepoprawnie",IF(F106=0,"Niepoprawnie",IF(J106=0,"Niepoprawnie",IF(N106=0,"Niepoprawnie",IF(E106=0,"NIEPOPRAWNIE","POPRAWNIE"))))) -> Niepoprawnie | T106: =MID(B106,1,2) | AI106: 8493
A107: 105. | C107: =IF(B107<1,0,IF(B107<=999,1000000,IF(B107<=9999,100000,IF(B107<=99999,10000,IF(B107<=999999,1000,IF(B107<9999999,100)))))) -> 0 | D107: =VLOOKUP(T107,Arkusz2!B:C,2,FALSE) -> #N/A | G107: =INDEX(Adresy!$B$5:$B$324,MATCH(F107,Adresy!$G$5:$G$324,0),MATCH($G$1,Adresy!$B$3,0)) -> #N/A | H107: =INDEX(Adresy!$C$5:$C$324,MATCH(F107,Adresy!$G$5:$G$324,0),MATCH($H$2,Adresy!$C$4,0)) -> #N/A | I107: =INDEX(Adresy!$D$5:$D$324,MATCH(F107,Adresy!$G$5:$G$324,0),MATCH($I$2,Adresy!$D$4,0)) -> #N/A | K107: =INDEX(Adresy!$B$5:$B$324,MATCH(J107,Adresy!$G$5:$G$324,0),MATCH($G$1,Adresy!$B$3,0)) -> #N/A | L107: =INDEX(Adresy!$C$5:$C$324,MATCH(J107,Adresy!$G$5:$G$324,0),MATCH($H$2,Adresy!$C$4,0)) -> #N/A | M107: =INDEX(Adresy!$D$5:$D$324,MATCH(J107,Adresy!$G$5:$G$324,0),MATCH($I$2,Adresy!$D$4,0)) -> #N/A | O107: =INDEX(Adresy!$B$5:$B$324,MATCH(N107,Adresy!$G$5:$G$324,0),MATCH($G$1,Adresy!$B$3,0)) -> #N/A | P107: =INDEX(Adresy!$C$5:$C$324,MATCH(N107,Adresy!$G$5:$G$324,0),MATCH($H$2,Adresy!$C$4,0)) -> #N/A | Q107: =INDEX(Adresy!$D$5:$D$324,MATCH(N107,Adresy!$G$5:$G$324,0),MATCH($I$2,Adresy!$D$4,0)) -> #N/A | R107: =IF(C107=0,"Niepoprawnie",IF(F107=0,"Niepoprawnie",IF(J107=0,"Niepoprawnie",IF(N107=0,"Niepoprawnie",IF(E107=0,"NIEPOPRAWNIE","POPRAWNIE"))))) -> Niepoprawnie | T107: =MID(B107,1,2) | AI107: 6037
A108: 106. | C108: =IF(B108<1,0,IF(B108<=999,1000000,IF(B108<=9999,100000,IF(B108<=99999,10000,IF(B108<=999999,1000,IF(B108<9999999,100)))))) -> 0 | D108: =VLOOKUP(T108,Arkusz2!B:C,2,FALSE) -> #N/A | G108: =INDEX(Adresy!$B$5:$B$324,MATCH(F108,Adresy!$G$5:$G$324,0),MATCH($G$1,Adresy!$B$3,0)) -> #N/A | H108: =INDEX(Adresy!$C$5:$C$324,MATCH(F108,Adresy!$G$5:$G$324,0),MATCH($H$2,Adresy!$C$4,0)) -> #N/A | I108: =INDEX(Adresy!$D$5:$D$324,MATCH(F108,Adresy!$G$5:$G$324,0),MATCH($I$2,Adresy!$D$4,0)) -> #N/A | K108: =INDEX(Adresy!$B$5:$B$324,MATCH(J108,Adresy!$G$5:$G$324,0),MATCH($G$1,Adresy!$B$3,0)) -> #N/A | L108: =INDEX(Adresy!$C$5:$C$324,MATCH(J108,Adresy!$G$5:$G$324,0),MATCH($H$2,Adresy!$C$4,0)) -> #N/A | M108: =INDEX(Adresy!$D$5:$D$324,MATCH(J108,Adresy!$G$5:$G$324,0),MATCH($I$2,Adresy!$D$4,0)) -> #N/A | O108: =INDEX(Adresy!$B$5:$B$324,MATCH(N108,Adresy!$G$5:$G$324,0),MATCH($G$1,Adresy!$B$3,0)) -> #N/A | P108: =INDEX(Adresy!$C$5:$C$324,MATCH(N108,Adresy!$G$5:$G$324,0),MATCH($H$2,Adresy!$C$4,0)) -> #N/A | Q108: =INDEX(Adresy!$D$5:$D$324,MATCH(N108,Adresy!$G$5:$G$324,0),MATCH($I$2,Adresy!$D$4,0)) -> #N/A | R108: =IF(C108=0,"Niepoprawnie",IF(F108=0,"Niepoprawnie",IF(J108=0,"Niepoprawnie",IF(N108=0,"Niepoprawnie",IF(E108=0,"NIEPOPRAWNIE","POPRAWNIE"))))) -> Niepoprawnie | T108: =MID(B108,1,2) | AI108: 8192
A109: 107. | C109: =IF(B109<1,0,IF(B109<=999,1000000,IF(B109<=9999,100000,IF(B109<=99999,10000,IF(B109<=999999,1000,IF(B109<9999999,100)))))) -> 0 | D109: =VLOOKUP(T109,Arkusz2!B:C,2,FALSE) -> #N/A | G109: =INDEX(Adresy!$B$5:$B$324,MATCH(F109,Adresy!$G$5:$G$324,0),MATCH($G$1,Adresy!$B$3,0)) -> #N/A | H109: =INDEX(Adresy!$C$5:$C$324,MATCH(F109,Adresy!$G$5:$G$324,0),MATCH($H$2,Adresy!$C$4,0)) -> #N/A | I109: =INDEX(Adresy!$D$5:$D$324,MATCH(F109,Adresy!$G$5:$G$324,0),MATCH($I$2,Adresy!$D$4,0)) -> #N/A | K109: =INDEX(Adresy!$B$5:$B$324,MATCH(J109,Adresy!$G$5:$G$324,0),MATCH($G$1,Adresy!$B$3,0)) -> #N/A | L109: =INDEX(Adresy!$C$5:$C$324,MATCH(J109,Adresy!$G$5:$G$324,0),MATCH($H$2,Adresy!$C$4,0)) -> #N/A | M109: =INDEX(Adresy!$D$5:$D$324,MATCH(J109,Adresy!$G$5:$G$324,0),MATCH($I$2,Adresy!$D$4,0)) -> #N/A | O109: =INDEX(Adresy!$B$5:$B$324,MATCH(N109,Adresy!$G$5:$G$324,0),MATCH($G$1,Adresy!$B$3,0)) -> #N/A | P109: =INDEX(Adresy!$C$5:$C$324,MATCH(N109,Adresy!$G$5:$G$324,0),MATCH($H$2,Adresy!$C$4,0)) -> #N/A | Q109: =INDEX(Adresy!$D$5:$D$324,MATCH(N109,Adresy!$G$5:$G$324,0),MATCH($I$2,Adresy!$D$4,0)) -> #N/A | R109: =IF(C109=0,"Niepoprawnie",IF(F109=0,"Niepoprawnie",IF(J109=0,"Niepoprawnie",IF(N109=0,"Niepoprawnie",IF(E109=0,"NIEPOPRAWNIE","POPRAWNIE"))))) -> Niepoprawnie | T109: =MID(B109,1,2) | AI109: 1471
A110: 108. | C110: =IF(B110<1,0,IF(B110<=999,1000000,IF(B110<=9999,100000,IF(B110<=99999,10000,IF(B110<=999999,1000,IF(B110<9999999,100)))))) -> 0 | D110: =VLOOKUP(T110,Arkusz2!B:C,2,FALSE) -> #N/A | G110: =INDEX(Adresy!$B$5:$B$324,MATCH(F110,Adresy!$G$5:$G$324,0),MATCH($G$1,Adresy!$B$3,0)) -> #N/A | H110: =INDEX(Adresy!$C$5:$C$324,MATCH(F110,Adresy!$G$5:$G$324,0),MATCH($H$2,Adresy!$C$4,0)) -> #N/A | I110: =INDEX(Adresy!$D$5:$D$324,MATCH(F110,Adresy!$G$5:$G$324,0),MATCH($I$2,Adresy!$D$4,0)) -> #N/A | K110: =INDEX(Adresy!$B$5:$B$324,MATCH(J110,Adresy!$G$5:$G$324,0),MATCH($G$1,Adresy!$B$3,0)) -> #N/A | L110: =INDEX(Adresy!$C$5:$C$324,MATCH(J110,Adresy!$G$5:$G$324,0),MATCH($H$2,Adresy!$C$4,0)) -> #N/A | M110: =INDEX(Adresy!$D$5:$D$324,MATCH(J110,Adresy!$G$5:$G$324,0),MATCH($I$2,Adresy!$D$4,0)) -> #N/A | O110: =INDEX(Adresy!$B$5:$B$324,MATCH(N110,Adresy!$G$5:$G$324,0),MATCH($G$1,Adresy!$B$3,0)) -> #N/A | P110: =INDEX(Adresy!$C$5:$C$324,MATCH(N110,Adresy!$G$5:$G$324,0),MATCH($H$2,Adresy!$C$4,0)) -> #N/A | Q110: =INDEX(Adresy!$D$5:$D$324,MATCH(N110,Adresy!$G$5:$G$324,0),MATCH($I$2,Adresy!$D$4,0)) -> #N/A | R110: =IF(C110=0,"Niepoprawnie",IF(F110=0,"Niepoprawnie",IF(J110=0,"Niepoprawnie",IF(N110=0,"Niepoprawnie",IF(E110=0,"NIEPOPRAWNIE","POPRAWNIE"))))) -> Niepoprawnie | T110: =MID(B110,1,2) | AI110: 860
A111: 109. | C111: =IF(B111<1,0,IF(B111<=999,1000000,IF(B111<=9999,100000,IF(B111<=99999,10000,IF(B111<=999999,1000,IF(B111<9999999,100)))))) -> 0 | D111: =VLOOKUP(T111,Arkusz2!B:C,2,FALSE) -> #N/A | G111: =INDEX(Adresy!$B$5:$B$324,MATCH(F111,Adresy!$G$5:$G$324,0),MATCH($G$1,Adresy!$B$3,0)) -> #N/A | H111: =INDEX(Adresy!$C$5:$C$324,MATCH(F111,Adresy!$G$5:$G$324,0),MATCH($H$2,Adresy!$C$4,0)) -> #N/A | I111: =INDEX(Adresy!$D$5:$D$324,MATCH(F111,Adresy!$G$5:$G$324,0),MATCH($I$2,Adresy!$D$4,0)) -> #N/A | K111: =INDEX(Adresy!$B$5:$B$324,MATCH(J111,Adresy!$G$5:$G$324,0),MATCH($G$1,Adresy!$B$3,0)) -> #N/A | L111: =INDEX(Adresy!$C$5:$C$324,MATCH(J111,Adresy!$G$5:$G$324,0),MATCH($H$2,Adresy!$C$4,0)) -> #N/A | M111: =INDEX(Adresy!$D$5:$D$324,MATCH(J111,Adresy!$G$5:$G$324,0),MATCH($I$2,Adresy!$D$4,0)) -> #N/A | O111: =INDEX(Adresy!$B$5:$B$324,MATCH(N111,Adresy!$G$5:$G$324,0),MATCH($G$1,Adresy!$B$3,0)) -> #N/A | P111: =INDEX(Adresy!$C$5:$C$324,MATCH(N111,Adresy!$G$5:$G$324,0),MATCH($H$2,Adresy!$C$4,0)) -> #N/A | Q111: =INDEX(Adresy!$D$5:$D$324,MATCH(N111,Adresy!$G$5:$G$324,0),MATCH($I$2,Adresy!$D$4,0)) -> #N/A | R111: =IF(C111=0,"Niepoprawnie",IF(F111=0,"Niepoprawnie",IF(J111=0,"Niepoprawnie",IF(N111=0,"Niepoprawnie",IF(E111=0,"NIEPOPRAWNIE","POPRAWNIE"))))) -> Niepoprawnie | T111: =MID(B111,1,2) | AI111: 1588
A112: 110. | C112: =IF(B112<1,0,IF(B112<=999,1000000,IF(B112<=9999,100000,IF(B112<=99999,10000,IF(B112<=999999,1000,IF(B112<9999999,100)))))) -> 0 | D112: =VLOOKUP(T112,Arkusz2!B:C,2,FALSE) -> #N/A | G112: =INDEX(Adresy!$B$5:$B$324,MATCH(F112,Adresy!$G$5:$G$324,0),MATCH($G$1,Adresy!$B$3,0)) -> #N/A | H112: =INDEX(Adresy!$C$5:$C$324,MATCH(F112,Adresy!$G$5:$G$324,0),MATCH($H$2,Adresy!$C$4,0)) -> #N/A | I112: =INDEX(Adresy!$D$5:$D$324,MATCH(F112,Adresy!$G$5:$G$324,0),MATCH($I$2,Adresy!$D$4,0)) -> #N/A | K112: =INDEX(Adresy!$B$5:$B$324,MATCH(J112,Adresy!$G$5:$G$324,0),MATCH($G$1,Adresy!$B$3,0)) -> #N/A | L112: =INDEX(Adresy!$C$5:$C$324,MATCH(J112,Adresy!$G$5:$G$324,0),MATCH($H$2,Adresy!$C$4,0)) -> #N/A | M112: =INDEX(Adresy!$D$5:$D$324,MATCH(J112,Adresy!$G$5:$G$324,0),MATCH($I$2,Adresy!$D$4,0)) -> #N/A | O112: =INDEX(Adresy!$B$5:$B$324,MATCH(N112,Adresy!$G$5:$G$324,0),MATCH($G$1,Adresy!$B$3,0)) -> #N/A | P112: =INDEX(Adresy!$C$5:$C$324,MATCH(N112,Adresy!$G$5:$G$324,0),MATCH($H$2,Adresy!$C$4,0)) -> #N/A | Q112: =INDEX(Adresy!$D$5:$D$324,MATCH(N112,Adresy!$G$5:$G$324,0),MATCH($I$2,Adresy!$D$4,0)) -> #N/A | R112: =IF(C112=0,"Niepoprawnie",IF(F112=0,"Niepoprawnie",IF(J112=0,"Niepoprawnie",IF(N112=0,"Niepoprawnie",IF(E112=0,"NIEPOPRAWNIE","POPRAWNIE"))))) -> Niepoprawnie | T112: =MID(B112,1,2) | AI112: 7973
A113: 111. | C113: =IF(B113<1,0,IF(B113<=999,1000000,IF(B113<=9999,100000,IF(B113<=99999,10000,IF(B113<=999999,1000,IF(B113<9999999,100)))))) -> 0 | D113: =VLOOKUP(T113,Arkusz2!B:C,2,FALSE) -> #N/A | G113: =INDEX(Adresy!$B$5:$B$324,MATCH(F113,Adresy!$G$5:$G$324,0),MATCH($G$1,Adresy!$B$3,0)) -> #N/A | H113: =INDEX(Adresy!$C$5:$C$324,MATCH(F113,Adresy!$G$5:$G$324,0),MATCH($H$2,Adresy!$C$4,0)) -> #N/A | I113: =INDEX(Adresy!$D$5:$D$324,MATCH(F113,Adresy!$G$5:$G$324,0),MATCH($I$2,Adresy!$D$4,0)) -> #N/A | K113: =INDEX(Adresy!$B$5:$B$324,MATCH(J113,Adresy!$G$5:$G$324,0),MATCH($G$1,Adresy!$B$3,0)) -> #N/A | L113: =INDEX(Adresy!$C$5:$C$324,MATCH(J113,Adresy!$G$5:$G$324,0),MATCH($H$2,Adresy!$C$4,0)) -> #N/A | M113: =INDEX(Adresy!$D$5:$D$324,MATCH(J113,Adresy!$G$5:$G$324,0),MATCH($I$2,Adresy!$D$4,0)) -> #N/A | O113: =INDEX(Adresy!$B$5:$B$324,MATCH(N113,Adresy!$G$5:$G$324,0),MATCH($G$1,Adresy!$B$3,0)) -> #N/A | P113: =INDEX(Adresy!$C$5:$C$324,MATCH(N113,Adresy!$G$5:$G$324,0),MATCH($H$2,Adresy!$C$4,0)) -> #N/A | Q113: =INDEX(Adresy!$D$5:$D$324,MATCH(N113,Adresy!$G$5:$G$324,0),MATCH($I$2,Adresy!$D$4,0)) -> #N/A | R113: =IF(C113=0,"Niepoprawnie",IF(F113=0,"Niepoprawnie",IF(J113=0,"Niepoprawnie",IF(N113=0,"Niepoprawnie",IF(E113=0,"NIEPOPRAWNIE","POPRAWNIE"))))) -> Niepoprawnie | T113: =MID(B113,1,2) | AI113: 871
... A243: 241. | C243: =IF(B243<1,0,IF(B243<=999,1000000,IF(B243<=9999,100000,IF(B243<=99999,10000,IF(B243<=999999,1000,IF(B243<9999999,100)))))) -> 0 | D243: =VLOOKUP(T243,Arkusz2!B:C,2,FALSE) -> #N/A | G243: =INDEX(Adresy!$B$5:$B$324,MATCH(F243,Adresy!$G$5:$G$324,0),MATCH($G$1,Adresy!$B$3,0)) -> #N/A | H243: =INDEX(Adresy!$C$5:$C$324,MATCH(F243,Adresy!$G$5:$G$324,0),MATCH($H$2,Adresy!$C$4,0)) -> #N/A | I243: =INDEX(Adresy!$D$5:$D$324,MATCH(F243,Adresy!$G$5:$G$324,0),MATCH($I$2,Adresy!$D$4,0)) -> #N/A | K243: =INDEX(Adresy!$B$5:$B$324,MATCH(J243,Adresy!$G$5:$G$324,0),MATCH($G$1,Adresy!$B$3,0)) -> #N/A | L243: =INDEX(Adresy!$C$5:$C$324,MATCH(J243,Adresy!$G$5:$G$324,0),MATCH($H$2,Adresy!$C$4,0)) -> #N/A | M243: =INDEX(Adresy!$D$5:$D$324,MATCH(J243,Adresy!$G$5:$G$324,0),MATCH($I$2,Adresy!$D$4,0)) -> #N/A | O243: =INDEX(Adresy!$B$5:$B$324,MATCH(N243,Adresy!$G$5:$G$324,0),MATCH($G$1,Adresy!$B$3,0)) -> #N/A | P243: =INDEX(Adresy!$C$5:$C$324,MATCH(N243,Adresy!$G$5:$G$324,0),MATCH($H$2,Adresy!$C$4,0)) -> #N/A | Q243: =INDEX(Adresy!$D$5:$D$324,MATCH(N243,Adresy!$G$5:$G$324,0),MATCH($I$2,Adresy!$D$4,0)) -> #N/A | R243: =IF(C243=0,"Niepoprawnie",IF(F243=0,"Niepoprawnie",IF(J243=0,"Niepoprawnie",IF(N243=0,"Niepoprawnie",IF(E243=0,"NIEPOPRAWNIE","POPRAWNIE"))))) -> Niepoprawnie | T243: =MID(B243,1,2) | AI243: 30
A244: 242. | C244: =IF(B244<1,0,IF(B244<=999,1000000,IF(B244<=9999,100000,IF(B244<=99999,10000,IF(B244<=999999,1000,IF(B244<9999999,100)))))) -> 0 | D244: =VLOOKUP(T244,Arkusz2!B:C,2,FALSE) -> #N/A | G244: =INDEX(Adresy!$B$5:$B$324,MATCH(F244,Adresy!$G$5:$G$324,0),MATCH($G$1,Adresy!$B$3,0)) -> #N/A | H244: =INDEX(Adresy!$C$5:$C$324,MATCH(F244,Adresy!$G$5:$G$324,0),MATCH($H$2,Adresy!$C$4,0)) -> #N/A | I244: =INDEX(Adresy!$D$5:$D$324,MATCH(F244,Adresy!$G$5:$G$324,0),MATCH($I$2,Adresy!$D$4,0)) -> #N/A | K244: =INDEX(Adresy!$B$5:$B$324,MATCH(J244,Adresy!$G$5:$G$324,0),MATCH($G$1,Adresy!$B$3,0)) -> #N/A | L244: =INDEX(Adresy!$C$5:$C$324,MATCH(J244,Adresy!$G$5:$G$324,0),MATCH($H$2,Adresy!$C$4,0)) -> #N/A | M244: =INDEX(Adresy!$D$5:$D$324,MATCH(J244,Adresy!$G$5:$G$324,0),MATCH($I$2,Adresy!$D$4,0)) -> #N/A | O244: =INDEX(Adresy!$B$5:$B$324,MATCH(N244,Adresy!$G$5:$G$324,0),MATCH($G$1,Adresy!$B$3,0)) -> #N/A | P244: =INDEX(Adresy!$C$5:$C$324,MATCH(N244,Adresy!$G$5:$G$324,0),MATCH($H$2,Adresy!$C$4,0)) -> #N/A | Q244: =INDEX(Adresy!$D$5:$D$324,MATCH(N244,Adresy!$G$5:$G$324,0),MATCH($I$2,Adresy!$D$4,0)) -> #N/A | R244: =IF(C244=0,"Niepoprawnie",IF(F244=0,"Niepoprawnie",IF(J244=0,"Niepoprawnie",IF(N244=0,"Niepoprawnie",IF(E244=0,"NIEPOPRAWNIE","POPRAWNIE"))))) -> Niepoprawnie | T244: =MID(B244,1,2)
A245: 243. | C245: =IF(B245<1,0,IF(B245<=999,1000000,IF(B245<=9999,100000,IF(B245<=99999,10000,IF(B245<=999999,1000,IF(B245<9999999,100)))))) -> 0 | D245: =VLOOKUP(T245,Arkusz2!B:C,2,FALSE) -> #N/A | G245: =INDEX(Adresy!$B$5:$B$324,MATCH(F245,Adresy!$G$5:$G$324,0),MATCH($G$1,Adresy!$B$3,0)) -> #N/A | H245: =INDEX(Adresy!$C$5:$C$324,MATCH(F245,Adresy!$G$5:$G$324,0),MATCH($H$2,Adresy!$C$4,0)) -> #N/A | I245: =INDEX(Adresy!$D$5:$D$324,MATCH(F245,Adresy!$G$5:$G$324,0),MATCH($I$2,Adresy!$D$4,0)) -> #N/A | K245: =INDEX(Adresy!$B$5:$B$324,MATCH(J245,Adresy!$G$5:$G$324,0),MATCH($G$1,Adresy!$B$3,0)) -> #N/A | L245: =INDEX(Adresy!$C$5:$C$324,MATCH(J245,Adresy!$G$5:$G$324,0),MATCH($H$2,Adresy!$C$4,0)) -> #N/A | M245: =INDEX(Adresy!$D$5:$D$324,MATCH(J245,Adresy!$G$5:$G$324,0),MATCH($I$2,Adresy!$D$4,0)) -> #N/A | O245: =INDEX(Adresy!$B$5:$B$324,MATCH(N245,Adresy!$G$5:$G$324,0),MATCH($G$1,Adresy!$B$3,0)) -> #N/A | P245: =INDEX(Adresy!$C$5:$C$324,MATCH(N245,Adresy!$G$5:$G$324,0),MATCH($H$2,Adresy!$C$4,0)) -> #N/A | Q245: =INDEX(Adresy!$D$5:$D$324,MATCH(N245,Adresy!$G$5:$G$324,0),MATCH($I$2,Adresy!$D$4,0)) -> #N/A | R245: =IF(C245=0,"Niepoprawnie",IF(F245=0,"Niepoprawnie",IF(J245=0,"Niepoprawnie",IF(N245=0,"Niepoprawnie",IF(E245=0,"NIEPOPRAWNIE","POPRAWNIE"))))) -> Niepoprawnie | T245: =MID(B245,1,2)
A246: 244. | C246: =IF(B246<1,0,IF(B246<=999,1000000,IF(B246<=9999,100000,IF(B246<=99999,10000,IF(B246<=999999,1000,IF(B246<9999999,100)))))) -> 0 | D246: =VLOOKUP(T246,Arkusz2!B:C,2,FALSE) -> #N/A | G246: =INDEX(Adresy!$B$5:$B$324,MATCH(F246,Adresy!$G$5:$G$324,0),MATCH($G$1,Adresy!$B$3,0)) -> #N/A | H246: =INDEX(Adresy!$C$5:$C$324,MATCH(F246,Adresy!$G$5:$G$324,0),MATCH($H$2,Adresy!$C$4,0)) -> #N/A | I246: =INDEX(Adresy!$D$5:$D$324,MATCH(F246,Adresy!$G$5:$G$324,0),MATCH($I$2,Adresy!$D$4,0)) -> #N/A | K246: =INDEX(Adresy!$B$5:$B$324,MATCH(J246,Adresy!$G$5:$G$324,0),MATCH($G$1,Adresy!$B$3,0)) -> #N/A | L246: =INDEX(Adresy!$C$5:$C$324,MATCH(J246,Adresy!$G$5:$G$324,0),MATCH($H$2,Adresy!$C$4,0)) -> #N/A | M246: =INDEX(Adresy!$D$5:$D$324,MATCH(J246,Adresy!$G$5:$G$324,0),MATCH($I$2,Adresy!$D$4,0)) -> #N/A | O246: =INDEX(Adresy!$B$5:$B$324,MATCH(N246,Adresy!$G$5:$G$324,0),MATCH($G$1,Adresy!$B$3,0)) -> #N/A | P246: =INDEX(Adresy!$C$5:$C$324,MATCH(N246,Adresy!$G$5:$G$324,0),MATCH($H$2,Adresy!$C$4,0)) -> #N/A | Q246: =INDEX(Adresy!$D$5:$D$324,MATCH(N246,Adresy!$G$5:$G$324,0),MATCH($I$2,Adresy!$D$4,0)) -> #N/A | R246: =IF(C246=0,"Niepoprawnie",IF(F246=0,"Niepoprawnie",IF(J246=0,"Niepoprawnie",IF(N246=0,"Niepoprawnie",IF(E246=0,"NIEPOPRAWNIE","POPRAWNIE"))))) -> Niepoprawnie | T246: =MID(B246,1,2)
A247: 245. | C247: =IF(B247<1,0,IF(B247<=999,1000000,IF(B247<=9999,100000,IF(B247<=99999,10000,IF(B247<=999999,1000,IF(B247<9999999,100)))))) -> 0 | D247: =VLOOKUP(T247,Arkusz2!B:C,2,FALSE) -> #N/A | G247: =INDEX(Adresy!$B$5:$B$324,MATCH(F247,Adresy!$G$5:$G$324,0),MATCH($G$1,Adresy!$B$3,0)) -> #N/A | H247: =INDEX(Adresy!$C$5:$C$324,MATCH(F247,Adresy!$G$5:$G$324,0),MATCH($H$2,Adresy!$C$4,0)) -> #N/A | I247: =INDEX(Adresy!$D$5:$D$324,MATCH(F247,Adresy!$G$5:$G$324,0),MATCH($I$2,Adresy!$D$4,0)) -> #N/A | K247: =INDEX(Adresy!$B$5:$B$324,MATCH(J247,Adresy!$G$5:$G$324,0),MATCH($G$1,Adresy!$B$3,0)) -> #N/A | L247: =INDEX(Adresy!$C$5:$C$324,MATCH(J247,Adresy!$G$5:$G$324,0),MATCH($H$2,Adresy!$C$4,0)) -> #N/A | M247: =INDEX(Adresy!$D$5:$D$324,MATCH(J247,Adresy!$G$5:$G$324,0),MATCH($I$2,Adresy!$D$4,0)) -> #N/A | O247: =INDEX(Adresy!$B$5:$B$324,MATCH(N247,Adresy!$G$5:$G$324,0),MATCH($G$1,Adresy!$B$3,0)) -> #N/A | P247: =INDEX(Adresy!$C$5:$C$324,MATCH(N247,Adresy!$G$5:$G$324,0),MATCH($H$2,Adresy!$C$4,0)) -> #N/A | Q247: =INDEX(Adresy!$D$5:$D$324,MATCH(N247,Adresy!$G$5:$G$324,0),MATCH($I$2,Adresy!$D$4,0)) -> #N/A | R247: =IF(C247=0,"Niepoprawnie",IF(F247=0,"Niepoprawnie",IF(J247=0,"Niepoprawnie",IF(N247=0,"Niepoprawnie",IF(E247=0,"NIEPOPRAWNIE","POPRAWNIE"))))) -> Niepoprawnie | T247: =MID(B247,1,2)
A248: 246. | C248: =IF(B248<1,0,IF(B248<=999,1000000,IF(B248<=9999,100000,IF(B248<=99999,10000,IF(B248<=999999,1000,IF(B248<9999999,100)))))) -> 0 | D248: =VLOOKUP(T248,Arkusz2!B:C,2,FALSE) -> #N/A | G248: =INDEX(Adresy!$B$5:$B$324,MATCH(F248,Adresy!$G$5:$G$324,0),MATCH($G$1,Adresy!$B$3,0)) -> #N/A | H248: =INDEX(Adresy!$C$5:$C$324,MATCH(F248,Adresy!$G$5:$G$324,0),MATCH($H$2,Adresy!$C$4,0)) -> #N/A | I248: =INDEX(Adresy!$D$5:$D$324,MATCH(F248,Adresy!$G$5:$G$324,0),MATCH($I$2,Adresy!$D$4,0)) -> #N/A | K248: =INDEX(Adresy!$B$5:$B$324,MATCH(J248,Adresy!$G$5:$G$324,0),MATCH($G$1,Adresy!$B$3,0)) -> #N/A | L248: =INDEX(Adresy!$C$5:$C$324,MATCH(J248,Adresy!$G$5:$G$324,0),MATCH($H$2,Adresy!$C$4,0)) -> #N/A | M248: =INDEX(Adresy!$D$5:$D$324,MATCH(J248,Adresy!$G$5:$G$324,0),MATCH($I$2,Adresy!$D$4,0)) -> #N/A | O248: =INDEX(Adresy!$B$5:$B$324,MATCH(N248,Adresy!$G$5:$G$324,0),MATCH($G$1,Adresy!$B$3,0)) -> #N/A | P248: =INDEX(Adresy!$C$5:$C$324,MATCH(N248,Adresy!$G$5:$G$324,0),MATCH($H$2,Adresy!$C$4,0)) -> #N/A | Q248: =INDEX(Adresy!$D$5:$D$324,MATCH(N248,Adresy!$G$5:$G$324,0),MATCH($I$2,Adresy!$D$4,0)) -> #N/A | R248: =IF(C248=0,"Niepoprawnie",IF(F248=0,"Niepoprawnie",IF(J248=0,"Niepoprawnie",IF(N248=0,"Niepoprawnie",IF(E248=0,"NIEPOPRAWNIE","POPRAWNIE"))))) -> Niepoprawnie | T248: =MID(B248,1,2)
A249: 247. | C249: =IF(B249<1,0,IF(B249<=999,1000000,IF(B249<=9999,100000,IF(B249<=99999,10000,IF(B249<=999999,1000,IF(B249<9999999,100)))))) -> 0 | D249: =VLOOKUP(T249,Arkusz2!B:C,2,FALSE) -> #N/A | G249: =INDEX(Adresy!$B$5:$B$324,MATCH(F249,Adresy!$G$5:$G$324,0),MATCH($G$1,Adresy!$B$3,0)) -> #N/A | H249: =INDEX(Adresy!$C$5:$C$324,MATCH(F249,Adresy!$G$5:$G$324,0),MATCH($H$2,Adresy!$C$4,0)) -> #N/A | I249: =INDEX(Adresy!$D$5:$D$324,MATCH(F249,Adresy!$G$5:$G$324,0),MATCH($I$2,Adresy!$D$4,0)) -> #N/A | K249: =INDEX(Adresy!$B$5:$B$324,MATCH(J249,Adresy!$G$5:$G$324,0),MATCH($G$1,Adresy!$B$3,0)) -> #N/A | L249: =INDEX(Adresy!$C$5:$C$324,MATCH(J249,Adresy!$G$5:$G$324,0),MATCH($H$2,Adresy!$C$4,0)) -> #N/A | M249: =INDEX(Adresy!$D$5:$D$324,MATCH(J249,Adresy!$G$5:$G$324,0),MATCH($I$2,Adresy!$D$4,0)) -> #N/A | O249: =INDEX(Adresy!$B$5:$B$324,MATCH(N249,Adresy!$G$5:$G$324,0),MATCH($G$1,Adresy!$B$3,0)) -> #N/A | P249: =INDEX(Adresy!$C$5:$C$324,MATCH(N249,Adresy!$G$5:$G$324,0),MATCH($H$2,Adresy!$C$4,0)) -> #N/A | Q249: =INDEX(Adresy!$D$5:$D$324,MATCH(N249,Adresy!$G$5:$G$324,0),MATCH($I$2,Adresy!$D$4,0)) -> #N/A | R249: =IF(C249=0,"Niepoprawnie",IF(F249=0,"Niepoprawnie",IF(J249=0,"Niepoprawnie",IF(N249=0,"Niepoprawnie",IF(E249=0,"NIEPOPRAWNIE","POPRAWNIE"))))) -> Niepoprawnie | T249: =MID(B249,1,2)
A250: 248. | C250: =IF(B250<1,0,IF(B250<=999,1000000,IF(B250<=9999,100000,IF(B250<=99999,10000,IF(B250<=999999,1000,IF(B250<9999999,100)))))) -> 0 | D250: =VLOOKUP(T250,Arkusz2!B:C,2,FALSE) -> #N/A | G250: =INDEX(Adresy!$B$5:$B$324,MATCH(F250,Adresy!$G$5:$G$324,0),MATCH($G$1,Adresy!$B$3,0)) -> #N/A | H250: =INDEX(Adresy!$C$5:$C$324,MATCH(F250,Adresy!$G$5:$G$324,0),MATCH($H$2,Adresy!$C$4,0)) -> #N/A | I250: =INDEX(Adresy!$D$5:$D$324,MATCH(F250,Adresy!$G$5:$G$324,0),MATCH($I$2,Adresy!$D$4,0)) -> #N/A | K250: =INDEX(Adresy!$B$5:$B$324,MATCH(J250,Adresy!$G$5:$G$324,0),MATCH($G$1,Adresy!$B$3,0)) -> #N/A | L250: =INDEX(Adresy!$C$5:$C$324,MATCH(J250,Adresy!$G$5:$G$324,0),MATCH($H$2,Adresy!$C$4,0)) -> #N/A | M250: =INDEX(Adresy!$D$5:$D$324,MATCH(J250,Adresy!$G$5:$G$324,0),MATCH($I$2,Adresy!$D$4,0)) -> #N/A | O250: =INDEX(Adresy!$B$5:$B$324,MATCH(N250,Adresy!$G$5:$G$324,0),MATCH($G$1,Adresy!$B$3,0)) -> #N/A | P250: =INDEX(Adresy!$C$5:$C$324,MATCH(N250,Adresy!$G$5:$G$324,0),MATCH($H$2,Adresy!$C$4,0)) -> #N/A | Q250: =INDEX(Adresy!$D$5:$D$324,MATCH(N250,Adresy!$G$5:$G$324,0),MATCH($I$2,Adresy!$D$4,0)) -> #N/A | R250: =IF(C250=0,"Niepoprawnie",IF(F250=0,"Niepoprawnie",IF(J250=0,"Niepoprawnie",IF(N250=0,"Niepoprawnie",IF(E250=0,"NIEPOPRAWNIE","POPRAWNIE"))))) -> Niepoprawnie | T250: =MID(B250,1,2)
A251: 249. | C251: =IF(B251<1,0,IF(B251<=999,1000000,IF(B251<=9999,100000,IF(B251<=99999,10000,IF(B251<=999999,1000,IF(B251<9999999,100)))))) -> 0 | D251: =VLOOKUP(T251,Arkusz2!B:C,2,FALSE) -> #N/A | G251: =INDEX(Adresy!$B$5:$B$324,MATCH(F251,Adresy!$G$5:$G$324,0),MATCH($G$1,Adresy!$B$3,0)) -> #N/A | H251: =INDEX(Adresy!$C$5:$C$324,MATCH(F251,Adresy!$G$5:$G$324,0),MATCH($H$2,Adresy!$C$4,0)) -> #N/A | I251: =INDEX(Adresy!$D$5:$D$324,MATCH(F251,Adresy!$G$5:$G$324,0),MATCH($I$2,Adresy!$D$4,0)) -> #N/A | K251: =INDEX(Adresy!$B$5:$B$324,MATCH(J251,Adresy!$G$5:$G$324,0),MATCH($G$1,Adresy!$B$3,0)) -> #N/A | L251: =INDEX(Adresy!$C$5:$C$324,MATCH(J251,Adresy!$G$5:$G$324,0),MATCH($H$2,Adresy!$C$4,0)) -> #N/A | M251: =INDEX(Adresy!$D$5:$D$324,MATCH(J251,Adresy!$G$5:$G$324,0),MATCH($I$2,Adresy!$D$4,0)) -> #N/A | O251: =INDEX(Adresy!$B$5:$B$324,MATCH(N251,Adresy!$G$5:$G$324,0),MATCH($G$1,Adresy!$B$3,0)) -> #N/A | P251: =INDEX(Adresy!$C$5:$C$324,MATCH(N251,Adresy!$G$5:$G$324,0),MATCH($H$2,Adresy!$C$4,0)) -> #N/A | Q251: =INDEX(Adresy!$D$5:$D$324,MATCH(N251,Adresy!$G$5:$G$324,0),MATCH($I$2,Adresy!$D$4,0)) -> #N/A | R251: =IF(C251=0,"Niepoprawnie",IF(F251=0,"Niepoprawnie",IF(J251=0,"Niepoprawnie",IF(N251=0,"Niepoprawnie",IF(E251=0,"NIEPOPRAWNIE","POPRAWNIE"))))) -> Niepoprawnie | T251: =MID(B251,1,2)
A252: 250. | C252: =IF(B252<1,0,IF(B252<=999,1000000,IF(B252<=9999,100000,IF(B252<=99999,10000,IF(B252<=999999,1000,IF(B252<9999999,100)))))) -> 0 | D252: =VLOOKUP(T252,Arkusz2!B:C,2,FALSE) -> #N/A | G252: =INDEX(Adresy!$B$5:$B$324,MATCH(F252,Adresy!$G$5:$G$324,0),MATCH($G$1,Adresy!$B$3,0)) -> #N/A | H252: =INDEX(Adresy!$C$5:$C$324,MATCH(F252,Adresy!$G$5:$G$324,0),MATCH($H$2,Adresy!$C$4,0)) -> #N/A | I252: =INDEX(Adresy!$D$5:$D$324,MATCH(F252,Adresy!$G$5:$G$324,0),MATCH($I$2,Adresy!$D$4,0)) -> #N/A | K252: =INDEX(Adresy!$B$5:$B$324,MATCH(J252,Adresy!$G$5:$G$324,0),MATCH($G$1,Adresy!$B$3,0)) -> #N/A | L252: =INDEX(Adresy!$C$5:$C$324,MATCH(J252,Adresy!$G$5:$G$324,0),MATCH($H$2,Adresy!$C$4,0)) -> #N/A | M252: =INDEX(Adresy!$D$5:$D$324,MATCH(J252,Adresy!$G$5:$G$324,0),MATCH($I$2,Adresy!$D$4,0)) -> #N/A | O252: =INDEX(Adresy!$B$5:$B$324,MATCH(N252,Adresy!$G$5:$G$324,0),MATCH($G$1,Adresy!$B$3,0)) -> #N/A | P252: =INDEX(Adresy!$C$5:$C$324,MATCH(N252,Adresy!$G$5:$G$324,0),MATCH($H$2,Adresy!$C$4,0)) -> #N/A | Q252: =INDEX(Adresy!$D$5:$D$324,MATCH(N252,Adresy!$G$5:$G$324,0),MATCH($I$2,Adresy!$D$4,0)) -> #N/A | R252: =IF(C252=0,"Niepoprawnie",IF(F252=0,"Niepoprawnie",IF(J252=0,"Niepoprawnie",IF(N252=0,"Niepoprawnie",IF(E252=0,"NIEPOPRAWNIE","POPRAWNIE"))))) -> Niepoprawnie | T252: =MID(B252,1,2)
A253: 251. | C253: =IF(B253<1,0,IF(B253<=999,1000000,IF(B253<=9999,100000,IF(B253<=99999,10000,IF(B253<=999999,1000,IF(B253<9999999,100)))))) -> 0 | D253: =VLOOKUP(T253,Arkusz2!B:C,2,FALSE) -> #N/A | G253: =INDEX(Adresy!$B$5:$B$324,MATCH(F253,Adresy!$G$5:$G$324,0),MATCH($G$1,Adresy!$B$3,0)) -> #N/A | H253: =INDEX(Adresy!$C$5:$C$324,MATCH(F253,Adresy!$G$5:$G$324,0),MATCH($H$2,Adresy!$C$4,0)) -> #N/A | I253: =INDEX(Adresy!$D$5:$D$324,MATCH(F253,Adresy!$G$5:$G$324,0),MATCH($I$2,Adresy!$D$4,0)) -> #N/A | K253: =INDEX(Adresy!$B$5:$B$324,MATCH(J253,Adresy!$G$5:$G$324,0),MATCH($G$1,Adresy!$B$3,0)) -> #N/A | L253: =INDEX(Adresy!$C$5:$C$324,MATCH(J253,Adresy!$G$5:$G$324,0),MATCH($H$2,Adresy!$C$4,0)) -> #N/A | M253: =INDEX(Adresy!$D$5:$D$324,MATCH(J253,Adresy!$G$5:$G$324,0),MATCH($I$2,Adresy!$D$4,0)) -> #N/A | O253: =INDEX(Adresy!$B$5:$B$324,MATCH(N253,Adresy!$G$5:$G$324,0),MATCH($G$1,Adresy!$B$3,0)) -> #N/A | P253: =INDEX(Adresy!$C$5:$C$324,MATCH(N253,Adresy!$G$5:$G$324,0),MATCH($H$2,Adresy!$C$4,0)) -> #N/A | Q253: =INDEX(Adresy!$D$5:$D$324,MATCH(N253,Adresy!$G$5:$G$324,0),MATCH($I$2,Adresy!$D$4,0)) -> #N/A | R253: =IF(C253=0,"Niepoprawnie",IF(F253=0,"Niepoprawnie",IF(J253=0,"Niepoprawnie",IF(N253=0,"Niepoprawnie",IF(E253=0,"NIEPOPRAWNIE","POPRAWNIE"))))) -> Niepoprawnie | T253: =MID(B253,1,2)
A254: 252. | C254: =IF(B254<1,0,IF(B254<=999,1000000,IF(B254<=9999,100000,IF(B254<=99999,10000,IF(B254<=999999,1000,IF(B254<9999999,100)))))) -> 0 | D254: =VLOOKUP(T254,Arkusz2!B:C,2,FALSE) -> #N/A | G254: =INDEX(Adresy!$B$5:$B$324,MATCH(F254,Adresy!$G$5:$G$324,0),MATCH($G$1,Adresy!$B$3,0)) -> #N/A | H254: =INDEX(Adresy!$C$5:$C$324,MATCH(F254,Adresy!$G$5:$G$324,0),MATCH($H$2,Adresy!$C$4,0)) -> #N/A | I254: =INDEX(Adresy!$D$5:$D$324,MATCH(F254,Adresy!$G$5:$G$324,0),MATCH($I$2,Adresy!$D$4,0)) -> #N/A | K254: =INDEX(Adresy!$B$5:$B$324,MATCH(J254,Adresy!$G$5:$G$324,0),MATCH($G$1,Adresy!$B$3,0)) -> #N/A | L254: =INDEX(Adresy!$C$5:$C$324,MATCH(J254,Adresy!$G$5:$G$324,0),MATCH($H$2,Adresy!$C$4,0)) -> #N/A | M254: =INDEX(Adresy!$D$5:$D$324,MATCH(J254,Adresy!$G$5:$G$324,0),MATCH($I$2,Adresy!$D$4,0)) -> #N/A | O254: =INDEX(Adresy!$B$5:$B$324,MATCH(N254,Adresy!$G$5:$G$324,0),MATCH($G$1,Adresy!$B$3,0)) -> #N/A | P254: =INDEX(Adresy!$C$5:$C$324,MATCH(N254,Adresy!$G$5:$G$324,0),MATCH($H$2,Adresy!$C$4,0)) -> #N/A | Q254: =INDEX(Adresy!$D$5:$D$324,MATCH(N254,Adresy!$G$5:$G$324,0),MATCH($I$2,Adresy!$D$4,0)) -> #N/A | R254: =IF(C254=0,"Niepoprawnie",IF(F254=0,"Niepoprawnie",IF(J254=0,"Niepoprawnie",IF(N254=0,"Niepoprawnie",IF(E254=0,"NIEPOPRAWNIE","POPRAWNIE"))))) -> Niepoprawnie | T254: =MID(B254,1,2)
A255: 253. | C255: =IF(B255<1,0,IF(B255<=999,1000000,IF(B255<=9999,100000,IF(B255<=99999,10000,IF(B255<=999999,1000,IF(B255<9999999,100)))))) -> 0 | D255: =VLOOKUP(T255,Arkusz2!B:C,2,FALSE) -> #N/A | G255: =INDEX(Adresy!$B$5:$B$324,MATCH(F255,Adresy!$G$5:$G$324,0),MATCH($G$1,Adresy!$B$3,0)) -> #N/A | H255: =INDEX(Adresy!$C$5:$C$324,MATCH(F255,Adresy!$G$5:$G$324,0),MATCH($H$2,Adresy!$C$4,0)) -> #N/A | I255: =INDEX(Adresy!$D$5:$D$324,MATCH(F255,Adresy!$G$5:$G$324,0),MATCH($I$2,Adresy!$D$4,0)) -> #N/A | K255: =INDEX(Adresy!$B$5:$B$324,MATCH(J255,Adresy!$G$5:$G$324,0),MATCH($G$1,Adresy!$B$3,0)) -> #N/A | L255: =INDEX(Adresy!$C$5:$C$324,MATCH(J255,Adresy!$G$5:$G$324,0),MATCH($H$2,Adresy!$C$4,0)) -> #N/A | M255: =INDEX(Adresy!$D$5:$D$324,MATCH(J255,Adresy!$G$5:$G$324,0),MATCH($I$2,Adresy!$D$4,0)) -> #N/A | O255: =INDEX(Adresy!$B$5:$B$324,MATCH(N255,Adresy!$G$5:$G$324,0),MATCH($G$1,Adresy!$B$3,0)) -> #N/A | P255: =INDEX(Adresy!$C$5:$C$324,MATCH(N255,Adresy!$G$5:$G$324,0),MATCH($H$2,Adresy!$C$4,0)) -> #N/A | Q255: =INDEX(Adresy!$D$5:$D$324,MATCH(N255,Adresy!$G$5:$G$324,0),MATCH($I$2,Adresy!$D$4,0)) -> #N/A | R255: =IF(C255=0,"Niepoprawnie",IF(F255=0,"Niepoprawnie",IF(J255=0,"Niepoprawnie",IF(N255=0,"Niepoprawnie",IF(E255=0,"NIEPOPRAWNIE","POPRAWNIE"))))) -> Niepoprawnie | T255: =MID(B255,1,2)
... A502: 500. | C502: =IF(B502<1,0,IF(B502<=999,1000000,IF(B502<=9999,100000,IF(B502<=99999,10000,IF(B502<=999999,1000,IF(B502<9999999,100)))))) -> 0 | D502: =VLOOKUP(T502,Arkusz2!B:C,2,FALSE) -> #N/A | G502: =INDEX(Adresy!$B$5:$B$324,MATCH(F502,Adresy!$G$5:$G$324,0),MATCH($G$1,Adresy!$B$3,0)) -> #N/A | H502: =INDEX(Adresy!$C$5:$C$324,MATCH(F502,Adresy!$G$5:$G$324,0),MATCH($H$2,Adresy!$C$4,0)) -> #N/A | I502: =INDEX(Adresy!$D$5:$D$324,MATCH(F502,Adresy!$G$5:$G$324,0),MATCH($I$2,Adresy!$D$4,0)) -> #N/A | K502: =INDEX(Adresy!$B$5:$B$324,MATCH(J502,Adresy!$G$5:$G$324,0),MATCH($G$1,Adresy!$B$3,0)) -> #N/A | L502: =INDEX(Adresy!$C$5:$C$324,MATCH(J502,Adresy!$G$5:$G$324,0),MATCH($H$2,Adresy!$C$4,0)) -> #N/A | M502: =INDEX(Adresy!$D$5:$D$324,MATCH(J502,Adresy!$G$5:$G$324,0),MATCH($I$2,Adresy!$D$4,0)) -> #N/A | O502: =INDEX(Adresy!$B$5:$B$324,MATCH(N502,Adresy!$G$5:$G$324,0),MATCH($G$1,Adresy!$B$3,0)) -> #N/A | P502: =INDEX(Adresy!$C$5:$C$324,MATCH(N502,Adresy!$G$5:$G$324,0),MATCH($H$2,Adresy!$C$4,0)) -> #N/A | Q502: =INDEX(Adresy!$D$5:$D$324,MATCH(N502,Adresy!$G$5:$G$324,0),MATCH($I$2,Adresy!$D$4,0)) -> #N/A | R502: =IF(C502=0,"Niepoprawnie",IF(F502=0,"Niepoprawnie",IF(J502=0,"Niepoprawnie",IF(N502=0,"Niepoprawnie",IF(E502=0,"NIEPOPRAWNIE","POPRAWNIE"))))) -> Niepoprawnie | T502: =MID(B502,1,2)
C503: =IF(B503<1,0,IF(B503<=999,1000000,IF(B503<=9999,100000,IF(B503<=99999,10000,IF(B503<=999999,1000,IF(B503<9999999,100)))))) -> 0 | D503: =VLOOKUP(T503,Arkusz2!B:C,2,FALSE) -> #N/A | G503: =INDEX(Adresy!$B$5:$B$324,MATCH(F503,Adresy!$G$5:$G$324,0),MATCH($G$1,Adresy!$B$3,0)) -> #N/A | H503: =INDEX(Adresy!$C$5:$C$324,MATCH(F503,Adresy!$G$5:$G$324,0),MATCH($H$2,Adresy!$C$4,0)) -> #N/A | I503: =INDEX(Adresy!$D$5:$D$324,MATCH(F503,Adresy!$G$5:$G$324,0),MATCH($I$2,Adresy!$D$4,0)) -> #N/A | K503: =INDEX(Adresy!$B$5:$B$324,MATCH(J503,Adresy!$G$5:$G$324,0),MATCH($G$1,Adresy!$B$3,0)) -> #N/A | L503: =INDEX(Adresy!$C$5:$C$324,MATCH(J503,Adresy!$G$5:$G$324,0),MATCH($H$2,Adresy!$C$4,0)) -> #N/A | M503: =INDEX(Adresy!$D$5:$D$324,MATCH(J503,Adresy!$G$5:$G$324,0),MATCH($I$2,Adresy!$D$4,0)) -> #N/A | O503: =INDEX(Adresy!$B$5:$B$324,MATCH(N503,Adresy!$G$5:$G$324,0),MATCH($G$1,Adresy!$B$3,0)) -> #N/A | P503: =INDEX(Adresy!$C$5:$C$324,MATCH(N503,Adresy!$G$5:$G$324,0),MATCH($H$2,Adresy!$C$4,0)) -> #N/A | Q503: =INDEX(Adresy!$D$5:$D$324,MATCH(N503,Adresy!$G$5:$G$324,0),MATCH($I$2,Adresy!$D$4,0)) -> #N/A | R503: =IF(C503=0,"Niepoprawnie",IF(F503=0,"Niepoprawnie",IF(J503=0,"Niepoprawnie",IF(N503=0,"Niepoprawnie",IF(E503=0,"NIEPOPRAWNIE","POPRAWNIE"))))) -> Niepoprawnie | T503: =MID(B503,1,2)
C504: =IF(B504<1,0,IF(B504<=999,1000000,IF(B504<=9999,100000,IF(B504<=99999,10000,IF(B504<=999999,1000,IF(B504<9999999,100)))))) -> 0 | D504: =VLOOKUP(T504,Arkusz2!B:C,2,FALSE) -> #N/A | G504: =INDEX(Adresy!$B$5:$B$324,MATCH(F504,Adresy!$G$5:$G$324,0),MATCH($G$1,Adresy!$B$3,0)) -> #N/A | H504: =INDEX(Adresy!$C$5:$C$324,MATCH(F504,Adresy!$G$5:$G$324,0),MATCH($H$2,Adresy!$C$4,0)) -> #N/A | I504: =INDEX(Adresy!$D$5:$D$324,MATCH(F504,Adresy!$G$5:$G$324,0),MATCH($I$2,Adresy!$D$4,0)) -> #N/A | K504: =INDEX(Adresy!$B$5:$B$324,MATCH(J504,Adresy!$G$5:$G$324,0),MATCH($G$1,Adresy!$B$3,0)) -> #N/A | L504: =INDEX(Adresy!$C$5:$C$324,MATCH(J504,Adresy!$G$5:$G$324,0),MATCH($H$2,Adresy!$C$4,0)) -> #N/A | M504: =INDEX(Adresy!$D$5:$D$324,MATCH(J504,Adresy!$G$5:$G$324,0),MATCH($I$2,Adresy!$D$4,0)) -> #N/A | O504: =INDEX(Adresy!$B$5:$B$324,MATCH(N504,Adresy!$G$5:$G$324,0),MATCH($G$1,Adresy!$B$3,0)) -> #N/A | P504: =INDEX(Adresy!$C$5:$C$324,MATCH(N504,Adresy!$G$5:$G$324,0),MATCH($H$2,Adresy!$C$4,0)) -> #N/A | Q504: =INDEX(Adresy!$D$5:$D$324,MATCH(N504,Adresy!$G$5:$G$324,0),MATCH($I$2,Adresy!$D$4,0)) -> #N/A | R504: =IF(C504=0,"Niepoprawnie",IF(F504=0,"Niepoprawnie",IF(J504=0,"Niepoprawnie",IF(N504=0,"Niepoprawnie",IF(E504=0,"NIEPOPRAWNIE","POPRAWNIE"))))) -> Niepoprawnie | T504: =MID(B504,1,2)
C505: =IF(B505<1,0,IF(B505<=999,1000000,IF(B505<=9999,100000,IF(B505<=99999,10000,IF(B505<=999999,1000,IF(B505<9999999,100)))))) -> 0 | R505: =IF(C505=0,"Niepoprawnie",IF(F505=0,"Niepoprawnie",IF(J505=0,"Niepoprawnie",IF(N505=0,"Niepoprawnie",IF(E505=0,"NIEPOPRAWNIE","POPRAWNIE"))))) -> Niepoprawnie | T505: =MID(B505,1,2)
R506: =IF(C506=0,"Niepoprawnie",IF(F506=0,"Niepoprawnie",IF(J506=0,"Niepoprawnie",IF(N506=0,"Niepoprawnie",IF(E506=0,"NIEPOPRAWNIE","POPRAWNIE"))))) -> Niepoprawnie | T506: =MID(B506,1,2)
R507: =IF(C507=0,"Niepoprawnie",IF(F507=0,"Niepoprawnie",IF(J507=0,"Niepoprawnie",IF(N507=0,"Niepoprawnie",IF(E507=0,"NIEPOPRAWNIE","POPRAWNIE"))))) -> Niepoprawnie | T507: =MID(B507,1,2)
R508: =IF(C508=0,"Niepoprawnie",IF(F508=0,"Niepoprawnie",IF(J508=0,"Niepoprawnie",IF(N508=0,"Niepoprawnie",IF(E508=0,"NIEPOPRAWNIE","POPRAWNIE"))))) -> Niepoprawnie | T508: =MID(B508,1,2)
R509: =IF(C509=0,"Niepoprawnie",IF(F509=0,"Niepoprawnie",IF(J509=0,"Niepoprawnie",IF(N509=0,"Niepoprawnie",IF(E509=0,"NIEPOPRAWNIE","POPRAWNIE"))))) -> Niepoprawnie | T509: =MID(B509,1,2)
R510: =IF(C510=0,"Niepoprawnie",IF(F510=0,"Niepoprawnie",IF(J510=0,"Niepoprawnie",IF(N510=0,"Niepoprawnie",IF(E510=0,"NIEPOPRAWNIE","POPRAWNIE"))))) -> Niepoprawnie | T510: =MID(B510,1,2)
R511: =IF(C511=0,"Niepoprawnie",IF(F511=0,"Niepoprawnie",IF(J511=0,"Niepoprawnie",IF(N511=0,"Niepoprawnie",IF(E511=0,"NIEPOPRAWNIE","POPRAWNIE"))))) -> Niepoprawnie | T511: =MID(B511,1,2)
R512: =IF(C512=0,"Niepoprawnie",IF(F512=0,"Niepoprawnie",IF(J512=0,"Niepoprawnie",IF(N512=0,"Niepoprawnie",IF(E512=0,"NIEPOPRAWNIE","POPRAWNIE"))))) -> Niepoprawnie | T512: =MID(B512,1,2)
R513: =IF(C513=0,"Niepoprawnie",IF(F513=0,"Niepoprawnie",IF(J513=0,"Niepoprawnie",IF(N513=0,"Niepoprawnie",IF(E513=0,"NIEPOPRAWNIE","POPRAWNIE"))))) -> Niepoprawnie | T513: =MID(B513,1,2)
R514: =IF(C514=0,"Niepoprawnie",IF(F514=0,"Niepoprawnie",IF(J514=0,"Niepoprawnie",IF(N514=0,"Niepoprawnie",IF(E514=0,"NIEPOPRAWNIE","POPRAWNIE"))))) -> Niepoprawnie | T514: =MID(B514,1,2)
R515: =IF(C515=0,"Niepoprawnie",IF(F515=0,"Niepoprawnie",IF(J515=0,"Niepoprawnie",IF(N515=0,"Niepoprawnie",IF(E515=0,"NIEPOPRAWNIE","POPRAWNIE"))))) -> Niepoprawnie | T515: =MID(B515,1,2)
R516: =IF(C516=0,"Niepoprawnie",IF(F516=0,"Niepoprawnie",IF(J516=0,"Niepoprawnie",IF(N516=0,"Niepoprawnie",IF(E516=0,"NIEPOPRAWNIE","POPRAWNIE"))))) -> Niepoprawnie | T516: =MID(B516,1,2)
R517: =IF(C517=0,"Niepoprawnie",IF(F517=0,"Niepoprawnie",IF(J517=0,"Niepoprawnie",IF(N517=0,"Niepoprawnie",IF(E517=0,"NIEPOPRAWNIE","POPRAWNIE"))))) -> Niepoprawnie | T517: =MID(B517,1,2)
... R533: =IF(C533=0,"Niepoprawnie",IF(F533=0,"Niepoprawnie",IF(J533=0,"Niepoprawnie",IF(N533=0,"Niepoprawnie",IF(E533=0,"NIEPOPRAWNIE","POPRAWNIE"))))) -> Niepoprawnie | T533: =MID(B533,1,2)
T534: =MID(B534,1,2)
T535: =MID(B535,1,2)
T536: =MID(B536,1,2)
T537: =MID(B537,1,2)
T538: =MID(B538,1,2)
T539: =MID(B539,1,2)
T540: =MID(B540,1,2)
...

Sheet Adresy
J2: Numeracja
A3: L.p. | B3: Nazwa | C3: Adres siedziby | E3: Adres koresp. | G3: RPT | H3: Odp. | I3: Sygnatura | J3: Korzysta z przydzielonej | M3: Korzysta z udostępnionej | P3: Udostępnia | S3: Kontakt ws numerów alarmowych | T3: Inny kontakt
C4: ulica | D4: miasto | E4: ulica | F4: miasto | J4: PSTN | K4: PLMN | L4: VoIP | M4: PSTN | N4: PLMN | O4: VoIP | P4: PSTN | Q4: PLMN | R4: VoIP
A5: 1 | B5: @ALFANET Marcin Małolepszy | C5: ul. Okólna 70 | D5: 42-200 Częstochowa | E5: ul. Okólna 70 | F5: 42-200 Częstochowa | G5: 163
A6: 2 | B6: 2A Sp. z o.o. | C6: ul. Piękna 22 | D6: 00-549 Warszawa | E6: ul. Piękna 22 | F6: 00-549 Warszawa | G6: 1001
A7: 3 | B7: 4 CARRIERS Sp. z o.o. | C7: Al. Jerozolimskie 42/67 | D7: 00-024 Warszawa | E7: Al. Jerozolimskie 42/67 | F7: 00-024 Warszawa | G7: 8941
A8: 4 | B8: AC SYSTEMY KOMPUTEROWE Stanisław Bor Sp. J. | C8: ul. Bohaterów Września 50/4 | D8: 72-600 Świnoujście | E8: ul. Bohaterów Września 50/4 | F8: 72-600 Świnoujście | G8: 2162 | H8: x | I8: DT-WGN-610-195/09 (273) | J8: x | K8: - | L8: - | M8: - | N8: - | O8: - | P8: - | Q8: - | R8: - | S8: alarmowe@acsystemy.pl
A9: 5 | B9: Aduro Network Technologies Sp. z o.o. | C9: ul. Wiejska 20/105 | D9: 87-800 Włocławek | E9: ul. Wapienna 7 | F9: 91-087 Łódź | G9: 6318
A10: 6 | B10: AERO 2 Sp. z o.o. | C10: ul. T.Chałubińskiego 8 | D10: 00-613 Warszawa | E10: ul. T.Chałubińskiego 8 | F10: 00-613 Warszawa | G10: 8223 | H10: x | I10: DT-WGN-610-195/09 (331) | J10: - | K10: x | L10: - | M10: - | N10: - | O10: - | P10: - | Q10: - | R10: - | S10: alarmowe@aero2.pl
A11: 7 | B11: Agencja Rozwoju Regionalnego ARREKS S.A. | C11: ul. Główna 122 | D11: 97-410 Kleszczów | E11: ul. Główna 122 | F11: 97-410 Kleszczów | G11: 21 | H11: x | J11: x | K11: - | L11: - | M11: - | N11: - | O11: - | P11: x Globitel | Q11: - | R11: - | S11: arturz@arreks.com.pl | T11: tel. 44 731 35 62
A12: 8 | B12: AKASHA.NET Sp. z o.o. | C12: ul. Pogodna 50A/5 | D12: 20-337 Lublin | E12: ul. Pogodna 50A/5 | F12: 20-337 Lublin | G12: 5819
A13: 9 | B13: ALFREDO-NET Andżelika Kucaj | C13: Alfredówka 72 | D13: 39-460 Nowa Dęba | E13: Alfredówka 72 | F13: 39-460 Nowa Dęba | G13: 8501
A14: 10 | B14: ALTERTEL Sp. z o.o. | C14: Al. Jerozolimskie 81 | D14: 02-001 Warszawa | E14: Al. Jerozolimskie 81 | F14: 02-001 Warszawa | G14: 8614
A15: 11 | B15: AMD Telecom S.A. | C15: 18 km Thessaloniki-Lagkadas | D15: 57200 Thessaloniki | E15: ul. Tatrzańska 10 | F15: 05-119 Legionowo | G15: 9001
A16: 12 | B16: Amson Sp. z o.o. | C16: ul. Upalna 15/1 | D16: 15-668 Białystok | E16: ul. Upalna 15/1 | F16: 15-668 Białystok | G16: 7237
A17: 13 | B17: ARPNET Wojciech Chodacki | C17: ul. Orzegowska 22 | D17: 41-700 Ruda Śląska | E17: ul. Orzegowska 22 | F17: 41-700 Ruda Śląska | G17: 7128
A18: 14 | B18: Artnet Sp. z o.o. | C18: ul. Wały Piastowskie 1/612 | D18: 80-855 Gdańsk | E18: ul. Wały Piastowskie 1/612 | F18: 80-855 Gdańsk | G18: 2168 | H18: x | I18: DT-WGN-610-195/09 (345) | J18: - | K18: - | L18: x | M18: - | N18: - | O18: x Elterix, Nettel Systems | P18: - | Q18: - | R18: - | S18: - | T18: piotr.bucior@artnet.pl
A19: 15 | B19: AS-SAT Marcin Dariusz Prymas | C19: ul. Kcyńska 14/63 | D19: 81-005 Gdynia | E19: ul. Kcyńska 14/63 | F19: 81-005 Gdynia | G19: 2887
A20: 16 | B20: ASTA-NET Małdziński, Ryczek Sp. J. | C20: ul. Drygasa 29 | D20: 64-920 Piła | E20: ul. Drygasa 29 | F20: 64-920 Piła | G20: 609 | H20: x | I20: DT-WGN-610-195/09 (324) | J20: x | K20: - | L20: - | M20: x Netia | N20: - | O20: - | P20: - | Q20: - | R20: - | S20: alarmowe@asta-net.pl
A21: 17 | B21: ASTER Sp. z o.o. | C21: ul. Domaniewska 50 | D21: 02-672 Warszawa | E21: ul. Domaniewska 50 | F21: 02-672 Warszawa | G21: 6052 | H21: x | I21: DT-WGN-610-195/09 (266) | J21: x | K21: - | L21: - | M21: x GTS Energis | N21: x Centertel | O21: - | P21: x TEL KAB BIT | Q21: - | R21: - | S21: CBD@aster.com.pl
A22: 18 | B22: AsterNet Sp. z o.o. | C22: ul. Konstytucji 3 Maja 22 | D22: 72-100 Goleniów | E22: Pl. Batorego 3 | F22: 70-207 Szczecin | G22: 5703 | H22: x | I22: DT-WGN-610-195/09 (269) | J22: x | K22: - | L22: - | M22: x Espol | N22: - | O22: - | P22: - | Q22: - | R22: - | S22: -
A23: 19 | B23: ATM S.A. | C23: ul. Grochowska 21A | D23: 04-186 Warszawa | E23: ul. Grochowska 21A | F23: 04-186 Warszawa | G23: 944
A24: 20 | B24: Awacom Sp. z o.o. | C24: ul. Pałucka 4 | D24: 89-200 Szubin | E24: ul. Fordońska 246 | F24: 85-765 Bydgoszcz | G24: 4113 | H24: x | I24: DT-WGN-610-195/09 (269) | J24: x | K24: - | L24: - | M24: x Exatel | N24: - | O24: - | P24: - | Q24: - | R24: - | S24: alarmowe@awacom.net
A25: 21 | B25: AZART-SAT Przedsiębiorstwo Usługowo Handlowe Leszek Burchardt | C25: ul. Komedy Trzcińskiego 12 | D25: 58-506 Jelenia Góra | E25: ul. Komedy Trzcińskiego 12 | F25: 58-506 Jelenia Góra | G25: 772 | H25: x | J25: - | K25: - | L25: - | M25: - | N25: - | O25: - | P25: - | Q25: - | R25: - | S25: -
A26: 22 | B26: AZSoft S.A. | C26: Al. Jana Pawła II 41 C | D26: 31-864 Kraków | E26: Al. Jana Pawła II 41 C | F26: 31-864 Kraków | G26: 1532 | H26: x | J26: x | K26: - | L26: x | M26: x GTS Energis; Polkomtel; PTC; PTK | N26: - | O26: x | P26: x | Q26: - | R26: x Asseco; Sitoma Group; AZ Security; Fundacja GD; GD Cosmetics; GD Capital; GD Energy; KTR Service | S26: alarmowe@azsoft.pl
A27: 23 | B27: BARTNET Tomasz Naruszewicz | C27: Pl. Konstytucji 3 Maja 13A | D27: 11-200 Bartoszyce | E27: Pl. Konstytucji 3 Maja 13A | F27: 11-200 Bartoszyce | G27: 4800
A28: 24 | B28: BESTGO.PL Sp. z o.o. | C28: ul. Kozia 49 | D28: 54-104 Wrocław | E28: ul. Główna 94 | F28: 54-061 Wrocław | G28: 7555
A29: 25 | B29: Betasoft Sp. z o.o. | C29: Pl. Kościuszki 9 | D29: 41-902 Bytom | E29: Pl. Warszawski 10 | F29: 41-800 Zabrze | G29: 5310 | H29: x | I29: DT-WGN-610-195/09 (334) | J29: x | K29: - | L29: - | M29: - | N29: - | O29: - | P29: - | Q29: - | R29: - | S29: alarmowe@betasoft.pl
A30: 26 | B30: BIALL-NET Sp. z o.o. | C30: Otomin, ul. Słoneczna 43 | D30: 80-174 Gdańsk | E30: Otomin, ul. Słoneczna 43 | F30: 80-174 Gdańsk | G30: 2290
A31: 27 | B31: BT Poland Sp. z o.o. | C31: Al. Armii Ludowej 14 | D31: 00-638 Warszawa | E31: Al. Armii Ludowej 14 | F31: 00-638 Warszawa | G31: 109
A32: 28 | B32: Bydgoska Telewizja Kablowa „Gawex" Paweł Karnowski Sp. J. | C32: ul. Porazińskiej 4 | D32: 85-791 Bydgoszcz | E32: ul. Porazińskiej 4 | F32: 85-791 Bydgoszcz | G32: 1794
A33: 29 | B33: Call3.PL Sp. z o.o. | C33: Al. Grunwaldzka 82 | D33: 80-244 Gdańsk | E33: Al. Grunwaldzka 82 | F33: 80-244 Gdańsk | G33: 7273 | H33: x | I33: DT-WGN-195/09 (250) | J33: - | K33: - | L33: - | M33: x Netia; NASK | N33: - | O33: - | P33: - | Q33: - | R33: - | S33: alarmowe@call3.pl
A34: 30 | B34: CenterNet S.A. | C34: ul Jana Pawła II 29 | D34: 00-867 Warszawa | E34: ul Jana Pawła II 29 | F34: 00-867 Warszawa | G34: 510 | H34: x | I34: DT-WGN-195/09 (300) | J34: - | K34: x | L34: - | M34: - | N34: x PTC | O34: - | P34: - | Q34: - | R34: - | S34: interconnect@centernet.com.pl
A35: 31 | B35: Centralny Ośrodek Informatyki Górnictwa S.A. | C35: ul. Mikołowska 100 | D35: 40-065 Katowice | E35: ul. Mikołowska 100 | F35: 40-065 Katowice | G35: 24 | H35: x | I35: DT-WGN-195/09 (267) | J35: x | K35: - | L35: - | M35: - | N35: - | O35: - | P35: - | Q35: - | R35: - | S35: alarmowe@coig.katowice.pl
A36: 32 | B36: Centrum Elektroniki Telekomunikacji i Oprogramowania CETO Sp. z o.o. | C36: ul. Rejtana 10A | D36: 35-310 Rzeszów | E36: ul. Rejtana 10A | F36: 35-310 Rzeszów | G36: 3320 | H36: x | J36: - | K36: - | L36: - | M36: - | N36: - | O36: - | P36: - | Q36: - | R36: - | S36: -
A37: 33 | B37: CENTRUM OBSŁUGI BIZNESU A. Burzawa | C37: ul. Łęczyńska 51 | D37: 20-313 Lublin | E37: ul. Łęczyńska 51 | F37: 20-313 Lublin | G37: 8330
A38: 34 | B38: City Partner Sp. z o.o. | C38: ul. Felińskiego 23/49 | D38: 31-236 Kraków | E38: ul. Felińskiego 23/49 | F38: 31-236 Kraków | G38: 6780 | H38: x | I38: DT-WGN-195/09 (244) DT-WGN-195/09 (360) | J38: nie wykorzystuje 1000 NN | K38: - | L38: - | M38: - | N38: - | O38: x GTS Energis | P38: - | Q38: - | R38: - | S38: a.samborek@citypartner.pl
A39: 35 | B39: City-Sat Gordzielik Sp. z o.o. | C39: ul. Ligonia 1 | D39: 47-100 Strzelce Opolskie | E39: ul. Ligonia 1 | F39: 47-100 Strzelce Opolskie | G39: 734 | H39: x | I39: DT-WGN-195/09 (320) | J39: x | K39: - | L39: - | M39: x Exatel | N39: - | O39: - | P39: - | Q39: - | R39: - | S39: -
A40: 36 | B40: Computex Telecommunication Sp. z o.o. | C40: ul. Trzcinowa 27 | D40: 02-446 Warszawa | E40: ul. Trzcinowa 27 | F40: 02-446 Warszawa | G40: 130
A41: 37 | B41: Concept-T Sp. z o.o. | C41: ul. Bitwy Warszawskiej 1920 r. 7A | D41: 02-366 Warszawa | E41: ul. Bitwy Warszawskiej 1920 r. 7A | F41: 02-366 Warszawa | G41: 230 | H41: x | I41: DT-WGN-610-195/09 (277) | J41: x | K41: - | L41: - | M41: x TK, GTS Energis | N41: - | O41: - | P41: x Mediatel, ATM | Q41: - | R41: - | S41: alarmowe_concept-t@mediatel.pl | T41: rezygnacja z całości numeracji
A42: 38 | B42: CONNECT Marek Szczygielski | C42: ul. Szarych Szeregów 5F/67 | D42: 87-100 Toruń | E42: ul. Szosa Lubicka 43 | F42: 87-100 Toruń | G42: 602
A43: 39 | B43: Connect Plus Sp. z o.o. | C43: Leszczyny 98N | D43: 26-008 Górno | E43: Leszczyny 98N | F43: 26-008 Górno | G43: 5820
A44: 40 | B44: Core-Tel Sp. z o.o. | C44: ul. Migdałowa 63 | D44: 02-796 Warszawa | E44: ul. Migdałowa 63 | F44: 02-796 Warszawa | G44: 8506
A45: 41 | B45: CORPONET Sp. z o.o. | C45: ul. Kochanowskiego 49 | D45: 01-864 Warszawa | E45: ul. Kochanowskiego 49 | F45: 01-864 Warszawa | G45: 3108 | H45: x | I45: DT-WGN-610-195/09 (357) | J45: x nie posiada abonentów | K45: - | L45: - | M45: - | N45: - | O45: - | P45: x Mediatel | Q45: - | R45: - | S45: -
A46: 42 | B46: COVERNET Damian Giecko | C46: Al. Jana Pawła II 25A | D46: 37-450 Stalowa Wola | E46: Al. Jana Pawła II 25A | F46: 37-450 Stalowa Wola | G46: 1053
A47: 43 | B47: Crowley Data Poland Sp. z o. o. | C47: ul. Stawki 2 | D47: 00-193 Warszawa | E47: ul. Stawki 2 | F47: 00-193 Warszawa | G47: 48
A48: 44 | B48: Cyfrowy Polsat S.A. | C48: ul. Łubinowa 4A | D48: 03-878 Warszawa | E48: ul. Łubinowa 4A | F48: 03-878 Warszawa | G48: 85 | H48: x | I48: DT-WGN-610-195/09 (309) | J48: - | K48: x | L48: - | M48: - | N48: - | O48: - | P48: - | Q48: - | R48: - | S48: alarmowe@cyfrowypolsat.pl
A49: 45 | B49: DARKO.NET Jakub Jakubowicz | C49: ul. Zamkowa 3 | D49: 38-500 Sanok | E49: ul. Zamkowa 3 | F49: 38-500 Sanok | G49: 3550
A50: 46 | B50: DEBACOM Sp. z o.o. | C50: ul. Niedziałkowskiego 1 | D50: 41-800 Zabrze | E50: ul. Niedziałkowskiego 1 | F50: 41-800 Zabrze | G50: 3239
A51: 47 | B51: DEREK.NET.PL Tomasz Świderek | C51: ul. Słowackiego 6 | D51: 95-040 Koluszki | E51: ul. Słowackiego 6 | F51: 95-040 Koluszki | G51: 8017
A52: 48 | B52: DIANA TELEWIZJA KABLOWA Jan Seidler, Marek Betleja, Wojciech Wołcz Sp. J. | C52: ul. ks. J. Popiełuszki 17 | D52: 37-450 Stalowa Wola | E52: ul. ks. J. Popiełuszki 6 | F52: 37-450 Stalowa Wola | G52: 278 | H52: x | I52: DT-WGN-610-195/09 (276) | J52: x | K52: - | L52: - | M52: x GTS Energis | N52: - | O52: - | P52: - | Q52: - | R52: - | S52: alarmowe@tvkdiana.pl
A53: 49 | B53: Długie Rozmowy S. A. | C53: Pl. Czerwca 1976 r Nr 4 | D53: 02-495 Warszawa | E53: Pl. Czerwca 1976 r Nr 4 | F53: 02-495 Warszawa | G53: 13 | H53: x | I53: DT-WGN-610-195/09 (339) | J53: x | K53: - | L53: x | M53: - | N53: - | O53: - | P53: x Metroline | Q53: - | R53: x Voip Systems s.c. | S53: plicbd@drsa.pl
A54: 50 | B54: DOLSAT Sp. z o.o. | C54: ul. Wojska Polskiego 23C | D54: 97-400 Bełchatów | E54: ul. Wojska Polskiego 23C | F54: 97-400 Bełchatów | G54: 5483 | H54: x | I54: DT-WGN-610-195/09 (304) | J54: x | K54: - | L54: - | M54: x Exatel | N54: - | O54: - | P54: - | Q54: - | R54: - | S54: admin@dolsat.pl numery_alarmowe@dolsat.pl
A55: 51 | B55: East and West Sp. z o.o. | C55: ul. Gronowa 22 | D55: 61-680 Poznań | E55: ul. Gronowa 22 | F55: 61-680 Poznań | G55: 2863
A56: 52 | B56: EASYCALL.PL Sp. z o.o. | C56: ul. Poniecka 2/16 | D56: 02-310 Warszawa | E56: ul. Poniecka 2/16 | F56: 02-310 Warszawa | G56: 6859 | H56: x | J56: x | K56: - | L56: x | M56: x Mediatel; GTS Energis; TELENET1 | N56: - | O56: - | P56: x Mediatel; Exatel; MNI; Multimedia Polska; Multimwdia Południe; TK | Q56: - | R56: - | S56: 112@easycall.pl
A57: 53 | B57: EASYCONNECT Sp. z o.o. | C57: Al.. Jerozolimskie 81 | D57: 02-001 Warszawa | E57: Al.. Jerozolimskie 81 | F57: 02-001 Warszawa | G57: 809
A58: 54 | B58: E-CALL POLSKA Joanna Rychter | C58: ul. Pionierów 39 | D58: 41-711 Ruda Śląska | E58: ul. Piaskowa 2 | F58: 44-177 Paniówki | G58: 5006
A59: 55 | B59: Echostar Studio Zakład Techniki Satelitarnej Piotr Ziemniewicz | C59: Os. Bolesława Chrobrego 36/50 | D59: 60-681 Poznań | E59: Os. Bolesława Chrobrego 36/50 | F59: 60-681 Poznań | G59: 584
A60: 56 | B60: ELART Stanisław Zakrzewski | C60: ul. Idzikowskiego 4 | D60: 00-710 Warszawa | E60: ul. Idzikowskiego 4 | F60: 00-710 Warszawa | G60: 905 | H60: x | I60: DT-WGN-610-195/09 (295) | J60: x | K60: - | L60: - | M60: x Exatel | N60: - | O60: - | P60: x TK Hajnówka, TK ZabobrzeIII, Łaska TK | Q60: - | R60: - | S60: alarmowe@elart.com,pl
A61: 57 | B61: ELCUK KOŻUCH Sp. J. | C61: ul. Fornalskiej 13 | D61: 42-500 Będzin | E61: ul. Fornalskiej 13 | F61: 42-500 Będzin | G61: 8772 | H61: x | I61: DT-WGN-610-195/09 (341) | J61: x | K61: - | L61: - | M61: - | N61: - | O61: - | P61: - | Q61: - | R61: - | S61: -
A62: 58 | B62: ELEKTRO-SYSTEM Łukasz Leśniak | C62: ul. Swiątnicka 53 | D62: 32-031 Mogilany | E62: ul. Swiątnicka 53 | F62: 32-031 Mogilany | G62: 5543
A63: 59 | B63: Elektrownia Kozienice S.A. | C63: Świerże Górne | D63: 26-900 Kozienice | E63: Świerże Górne | F63: 26-900 Kozienice | G63: 26 | H63: x | I63: DT-WGN-610-195/09 (264) | J63: x | K63: - | L63: - | M63: - | N63: - | O63: - | P63: - | Q63: - | R63: - | S63: alarmowe@elko.com.pl
A64: 60 | B64: Elektrownia Wodna Żarnowiec S.A. | C64: Czymanowo | D64: 84-250 Gniewino | E64: Czymanowo | F64: 84-250 Gniewino | G64: 27 | H64: x | J64: x | K64: - | L64: - | M64: - | N64: - | O64: - | P64: - | Q64: - | R64: - | S64: alarmowe@ewz.gda.pl
A65: 61 | B65: ELPOL TELEKOM Sp. z o.o. | C65: ul. Kochanowskiego 49 | D65: 01-864 Warszawa | E65: ul. Kochanowskiego 49 | F65: 01-864 Warszawa | G65: 3478 | H65: x | I65: DT-WGN-610-195/09 (358) | J65: x nie posiada abonentów | K65: - | L65: - | M65: - | N65: - | O65: - | P65: x Mediatel | Q65: - | R65: - | S65: -
A66: 62 | B66: Elterix S.A. | C66: ul. Bitwy Warszawskiej 1920 r. 7A | D66: 02-366 Warszawa | E66: ul. Bitwy Warszawskiej 1920 r. 7A | F66: 02-366 Warszawa | G66: 9 | H66: x | I66: DT-WGN-610-195/09 (278 | J66: x | K66: - | L66: x | M66: x Exatel | N66: - | O66: - | P66: x Nettel | Q66: - | R66: x Mediatel | S66: alarmowe_elterix@mediatel.pl
A67: 63 | B67: Eltronik „MEDIA” Sp. z o.o. – Sp. k. | C67: ul. 3 Maja 3 | D67: 87-300 Brodnica | E67: ul. 3 Maja 3, | F67: 87-300 Brodnica | G67: 1674
A68: 64 | B68: Enter Net Plus Sp. z o.o. | C68: ul. Okrzei 18 | D68: 64-920 Piła | E68: ul. Okrzei 18 | F68: 64-920 Piła | G68: 5374
A69: 65 | B69: ENTERPOL S.C. Krzysztof Król, Paweł Latosiewicz, Bartosz Wojciechowski | C69: ul. Koncertowa 19E | D69: 20-843 Lublin | E69: ul. Koncertowa 19E | F69: 20-843 Lublin | G69: 3040
A70: 66 | B70: ENTER-NET Paweł Gacka Al. Piasta 51/2 77-400 Złotów | C70: Al. Piasta 51/2 | D70: 77-400 Złotów | E70: Al. Piasta 51/2 | F70: 77-400 Złotów | G70: 8943
A71: 67 | B71: ERTEL Sp. z o.o. | C71: ul. Podmiejska | D71: 44-207 Rybnik | E71: ul. Podmiejska | F71: 44-207 Rybnik | G71: 40 | H71: x | J71: x | K71: - | L71: - | M71: - | N71: - | O71: - | P71: - | Q71: - | R71: - | S71: alarmowe@ertel.com.pl
A72: 68 | B72: e-SBL.net Sp. z o.o. | C72: ul. Owocowa 10 | D72: 41-403 Chełm Śląski | E72: ul. Owocowa 10 | F72: 41-403 Chełm Śląski | G72: 8251
A73: 69 | B73: ESPOL Sp. z o.o. | C73: ul. Piłsudskiego 23 | D73: 70-463 Szczecin | E73: ul. Piłsudskiego 23 | F73: 70-463 Szczecin | G73: 327 | H73: x | I73: DT-WGN-610-195/09 (289) | J73: x | K73: - | L73: - | M73: x Asternet, AC Systemy Komputerowe s.j. | N73: - | O73: - | P73: x AS Consulting, Formrt s.c., | Q73: - | R73: - | S73: ic@espol.com.pl
A74: 70 | B74: E-Telko Sp. z o.o. | C74: Al. Jerozolimskie 123A | D74: 02-017 Warszawa | E74: Al. Jerozolimskie 123A | F74: 02-017 Warszawa | G74: 5
A75: 71 | B75: ETERNA Piotr Łukasik | C75: ul. Parkowa 6 | D75: 24-300 Opole Lubelskie | E75: ul. Parkowa 6 | F75: 24-300 Opole Lubelskie | G75: 3344
A76: 72 | B76: EURONET S.C. Norbert Saniewski, Mieszko Jarecki | C76: ul. Upalna 5A/10 i 11 | D76: 15-668 Białystok | E76: ul. Upalna 5A/10 i 11 | F76: 15-668 Białystok | G76: 3751
A77: 73 | B77: Europejska Grupa Telekomunikacyjna EUROTELEKOM Sp. z o.o. | C77: Al. Zwycięstwa 96/98 | D77: 81-451 Gdynia | E77: Al. Zwycięstwa 96/98 | F77: 81-451 Gdynia | G77: 5952 | H77: x | J77: nie posiada abonentów i niw wykorzystuje numeracji | K77: - | L77: x | M77: x EXATEL, GTS Energis | N77: - | O77: - | P77: x sieci internetowe | Q77: - | R77: x sieci internetowe | S77: -
A78: 74 | B78: Europejska Telefonia Cyfrowa Sp. z o.o. | C78: ul. Oratoryjna 1 | D78: 20-881 Lublin | E78: ul. Oratoryjna 1 | F78: 20-881 Lublin | G78: 5623 | H78: x | I78: DT-WGN-610-195/09 (282) | J78: - | K78: - | L78: - | M78: x GTS Energis | N78: - | O78: - | P78: - | Q78: - | R78: - | S78: alarmowe_mediatel@mediatel.pl
A79: 75 | B79: EXATEL S.A. | C79: ul. Perkuna 47 | D79: 04-164 Warszawa | E79: ul. Perkuna 47 | F79: 04-164 Warszawa | G79: 18 | H79: x | I79: DT-WGN-610-195/09 (299) | J79: x | K79: - | L79: - | M79: x NOM, Netia, MNI | N79: - | O79: - | P79: x Art.-com, AWACOM, AZART-SAT, Crowley, DOLSAT, EGT Eurotelekom, Elart, Elterix, Inotel, ZigZag, IPX Telekom, ISTS, J2Global, Macrosat, Master, Mediatel 4B, MNI, Multimedia Polska, Nitia, Net-Telekom, Petrus Pollska, PTC, Poltel Communications, Profiline, S.TAR TV, Telecom4U, Dialog, Teleoptimum, VECTONE, VOXNET, World Discount Telecomunication, Ynet Management | Q79: - | R79: - | S79: alarmowe@exatel.pl
A80: 76 | B80: F.H.U. DAMIX Damian Noskiewicz | C80: ul. Pstrowskiego 21 | D80: 62-200 Gniezno | E80: ul. Pstrowskiego 21 | F80: 62-200 Gniezno | G80: 8446
A81: 77 | B81: FHU COMP-SERWIS Radosław Bilski | C81: ul. Leśna 34 | D81: 38-483 Milcza | E81: ul. Leśna 34 | F81: 38-483 Milcza | G81: 445
A82: 78 | B82: FHU HADES Sebastian Wierzbicki | C82: ul. Konstanty 29/18 | D82: 33-300 Nowy Sącz | E82: ul. Konstanty 29/18 | F82: 33-300 Nowy Sącz | G82: 2569 | H82: 36
A83: 79 | B83: Fibertech Networks Sp. z o.o. | C83: ul. Śliwkowa 4 | D83: 31-982 Kraków | E83: ul. Śliwkowa 4 | F83: 31-982 Kraków | G83: 8424
A84: 80 | B84: Fine MEDIA S.C. Wojciech Wrona, Grzegorz Kałuża | C84: ul. Zagrzebska 3 | D84: 51-206 Wrocław | E84: ul. Zwycieska 14 e/4 lok. 6 | F84: 53-033 Wrocław | G84: 3959 | H84: x | I84: DT-WGN-610-195/09 (374) | J84: x | K84: - | L84: - | M84: x TP, Netia, DIALOG, CROWLEY | N84: - | O84: - | P84: - | Q84: - | R84: - | S84: -
A85: 81 | B85: Firma Handlowo-Usługowa EKSPERT Wojciech Szlechta | C85: Zbereże 6 | D85: 22-230 Wola Uhruska | E85: Zbereże 6 | F85: 22-230 Wola Uhruska | G85: 95
A86: 82 | B86: Firma Handlowo-Usługowa TELEVOICE Piotr Radek | C86: ul. Kopernika 28/85 | D86: 00-336 Warszawa | E86: Al. Gen. Sikorskiego 13/14 | F86: 02-758 Warszawa | G86: 4971 | H86: x | I86: DT-WGN-610-195/09 (353) | J86: x | K86: - | L86: x | M86: x E-Telko | N86: - | O86: - | P86: - | Q86: - | R86: - | S86: -
A87: 83 | B87: Firma Informatyczna MIRASOFT Andrzej Szyszka | C87: ul. Konstytucji 93 | D87: 41-906 Bytom | E87: ul. Konstytucji 93 | F87: 41-906 Bytom | G87: 4228
A88: 84 | B88: Firma Informatyczna NSOLVE S.C. Przemysław Cieślik, Rafał Baran | C88: ul. Spokojna 5 | D88: 87-200 Wąbrzeźno | E88: ul. Czystochleb 89 | F88: 87-200 Wąbrzeźno | G88: 6445 | H88: x | I88: DT-WGN-610-195/09 (364) | J88: nie wykorzystuje 1000 NN | K88: - | L88: - | M88: x | N88: - | O88: - | P88: - | Q88: - | R88: - | S88: -
A89: 85 | B89: FORWEB S.C. Monika Bodetko, Tomasz Pawłowski | C89: ul. Łagiewnicka 54/56 lok. 1010 | D89: 91-463 Łódź | E89: ul. Łagiewnicka 54/56 lok. 1010 | F89: 91-463 Łódź | G89: 5731
A90: 86 | B90: FPUH CZAJEN Krzysztof Czaja | C90: Borowa 224 | D90: 39-305 Borowa | E90: ul. 3 Maja 12 | F90: 39-300 Mielec | G90: 3330 | H90: x | I90: DT-WGN-610-195/09 (338) | J90: x brak abonentów | K90: - | L90: - | M90: - | N90: - | O90: - | P90: - | Q90: - | R90: - | S90: -
A91: 87 | B91: FreecoNet S.A. | C91: ul. Ofiar Grudnia’70 40/6 | D91: 80-180 Gdańsk | E91: ul. Trzy Lipy 3 | F91: 80-172 Gdańsk | G91: 8085 | H91: x | J91: x | K91: - | L91: x | M91: x Netia; Crowley; Exatel; GTS Energis | N91: - | O91: x Eurotelekom | P91: - | Q91: - | R91: - | S91: l.ratajczyk@freeconet.pl | T91: tel. 508381193
A92: 88 | B92: GADU-GADU S.A. (obecnie: GG Network S,A.) | C92: Al. Stanów Zjednoczonych 61 | D92: 04-028 Warszawa | E92: Al. Stanów Zjednoczonych 61 | F92: 04-028 Warszawa | G92: 586 | H92: x | I92: DT-WGN-610-195/09 (292), DT-WGN-610-195/09 (298) | J92: x | K92: x | L92: - | M92: - | N92: - | O92: - | P92: x Exatel | Q92: x Polkomtel | R92: - | S92: core-telco@gadu-gadu.pl | T92: Dawid Mielnik tel. 501 657 887
A93: 89 | B93: GALENA Sp. z o.o. | C93: ul. Świętokrzyska 2 | D93: 44-100 Gliwice | E93: ul. Świętokrzyska 2 | F93: 44-100 Gliwice | G93: 66 | H93: x | I93: DT-WGN-610-195/09 (314) | J93: nie wykorzystuje 3000 NN | K93: - | L93: - | M93: - | N93: - | O93: - | P93: - | Q93: - | R93: - | S93: -
A94: 90 | B94: Gawex Media Sp. z o.o. | C94: Pl. Wolności 11 | D94: 78-400 Szczecinek | E94: Pl. Wolności 11 | F94: 78-400 Szczecinek | G94: 1111 | H94: x | I94: DT-WGN-195/09 (318) | J94: x | K94: - | L94: - | M94: x Netia | N94: - | O94: - | P94: - | Q94: - | R94: - | S94: alarmowe@gawex.pl
A95: 91 | B95: GEMINI INTERNET Bartłomiej Sztefko | C95: ul. Dobrego Pasterza 100 | D95: 31-416 Kraków | E95: ul. Dobrego Pasterza 100 | F95: 31-416 Kraków | G95: 2888
A96: 92 | B96: GH NET Jacek Gzyl, Piotr Hnacik Sp. J. | C96: ul. Królewska 51 | D96: 30-081 Kraków | E96: ul. Królewska 51 | F96: 30-081 Kraków | G96: 4735
A97: 93 | B97: GIGA KOMPUTER Ilona Skupień | C97: ul. Jagiełły 10 | D97: 26-700 Zwoleń | E97: ul. Jagiełły 10 | F97: 26-700 Zwoleń | G97: 6953 | H97: x | I97: DT-WGN-610-195/09 (315) | J97: - | K97: - | L97: x | M97: - | N97: - | O97: x GTS Energis | P97: - | Q97: - | R97: - | S97: -
A98: 94 | B98: GLOBAL CONNECT Pietrzak i Wspólnicy Sp. J. | C98: Al. Wojska Polskiego 78 | D98: 70-482 Szczecin | E98: Al. Wojska Polskiego 78 | F98: 70-482 Szczecin | G98: 5311
A99: 95 | B99: Globitel Sp. z o.o. | C99: ul. Gałczyńskiego 2 | D99: 43-300 Bielsko-Biała | E99: Al. Piłsudskiego 12 | F99: 90-051 Łódź | G99: 7243 | H99: x | J99: x | K99: - | L99: - | M99: x Exatel | N99: - | O99: - | P99: - | Q99: - | R99: - | S99: -
A100: 96 | B100: G-NET S.C., T. Serwatka, W. Rakoniewski | C100: ul. Szpitalna 8/101 | D100: 44-190 Knurów | E100: ul. Szpitalna 8/101 | F100: 44-190 Knurów | G100: 5635 | H100: x | I100: DT-WGN-610-195/09 (369) | J100: x | K100: - | L100: - | M100: - | N100: - | O100: - | P100: - | Q100: - | R100: - | S100: t.serwatka@gni.pl
A101: 97 | B101: GRS Sp. z o.o. | C101: Al. Politechniki 42 | D101: 93-590 Łódź | E101: Al. Politechniki 42 | F101: 93-590 Łódź | G101: 1697 | H101: x | I101: DT-WGN-610-195/09 (348) | J101: nie wykorzystuje 10000 NN | K101: - | L101: - | M101: - | N101: - | O101: - | P101: - | Q101: - | R101: - | S101: alarmowe@grs.net.pl
...

Sheet Arkusz2
A1: 12 | B1: =MID(A1,1,2) -> 12 | C1: Numeracja abonencka dla sieci PSTN
A2: 13 | B2: =MID(A2,1,2) -> 13 | C2: Numeracja abonencka dla sieci PSTN
A3: 14 | B3: =MID(A3,1,2) -> 14 | C3: Numeracja abonencka dla sieci PSTN
A4: 15 | B4: =MID(A4,1,2) -> 15 | C4: Numeracja abonencka dla sieci PSTN
A5: 16 | B5: =MID(A5,1,2) -> 16 | C5: Numeracja abonencka dla sieci PSTN
A6: 17 | B6: =MID(A6,1,2) -> 17 | C6: Numeracja abonencka dla sieci PSTN
A7: 18 | B7: =MID(A7,1,2) -> 18 | C7: Numeracja abonencka dla sieci PSTN
A8: 22 | B8: =MID(A8,1,2) -> 22 | C8: Numeracja abonencka dla sieci PSTN
A9: 23 | B9: =MID(A9,1,2) -> 23 | C9: Numeracja abonencka dla sieci PSTN
A10: 24 | B10: =MID(A10,1,2) -> 24 | C10: Numeracja abonencka dla sieci PSTN
A11: 25 | B11: =MID(A11,1,2) -> 25 | C11: Numeracja abonencka dla sieci PSTN
A12: 29 | B12: =MID(A12,1,2) -> 29 | C12: Numeracja abonencka dla sieci PSTN
... A65: 39 | B65: =MID(A65,1,2) -> 39 | C65: Numeracja niegeograficzna(o wyróżniku sieci WST AB=39)
